Workbook

Sheet Gesamt
A1: Bitte auf dieser Seite KEINE ZAHLEN eintragen - Eintragungen NUR in den Tabellenblättern der FF oder PN (s. Reiter unten)
A2: Die Daten aus den Tabellenblätter werden automatisch auf diese Seite übertragen
A3: AUTOR*INNEN: Dr. Manfred Beck (Co-Vorsitzender Forum Kommunen), Ralf Behrens (Mitglied Forum Kommunen), Birgit Eschenlohr (Mitglied Forum Kommunen), Klemens Gieles (Co-Sprecher Partnernetzwerk Kulturelle Bildung und Kulturpolitik), Friedrich Hagedorn (designiertes Mitglied Forum Non-formales und informelles Lernen / Jugend ), Dr. Thomas Klein (Co-Sprecher Partnernetzwerk Medien), Madeleine Porr (Mitglied Partnernetzwerk Außerschulische Bildungswelten)
A4: Stand: 18.08.2021
B6: 2022 | C6: 2023 | D6: 2024 | E6: 2025 | F6: 2026 | G6: 2027 | H6: 2028 | I6: 2029 | J6: 2030 | K6: Gesamt
A7: Übergeordnete Bereiche BMBF/DLR
A8: Personal | K8: =SUM(B8:J8) -> 0
A9: Koordinierung | K9: =SUM(B9:J9) -> 0
A10: ='BMBF-DLR'!A6 -> Verwaltung und Abwicklung der Mittel für die Gremienarbeit sowie der Projektfördermittel gemäß der Auswahl durch das Partnerforum | K10: =SUM(B10:J10) -> 0
A11: wissenschaftliche Begleitung | K11: =SUM(B11:J11) -> 0
A12: Öffentlichkeitsarbeit | K12: =SUM(B12:J12) -> 0
A13: Veranstaltungen | K13: =SUM(B13:J13) -> 0
A14: Gesamt Kosten BMBF/DLR * | B14: 5000000 | C14: =B14 -> 5000000 | D14: =C14 -> 5000000 | E14: =D14 -> 5000000 | F14: =E14 -> 5000000 | G14: =F14 -> 5000000 | H14: =G14 -> 5000000 | I14: =H14 -> 5000000 | J14: =I14 -> 5000000 | K14: =SUM(B14:J14) -> 45000000
A16: Projektfonds4
A17: ='BMBF-DLR'!A13 -> Finanzmittel für Projekte und Veranstaltungen, die der BNE zuzuordnen sind, die aber nicht von FF oder PN durchgeführt werden (Auswahl durch Partnerforum) | B17: 85000000 | C17: =B17 -> 85000000 | D17: =C17 -> 85000000 | E17: =D17 -> 85000000 | F17: =E17 -> 85000000 | G17: =F17 -> 85000000 | H17: =G17 -> 85000000 | I17: =H17 -> 85000000 | J17: =I17 -> 85000000 | K17: =SUM(B17:J17) -> 765000000
A19: Gesamt Kosten BMBF/DLR * | B19: =B14 -> 5000000 | C19: =C14 -> 5000000 | D19: =D14 -> 5000000 | E19: =E14 -> 5000000 | F19: =F14 -> 5000000 | G19: =G14 -> 5000000 | H19: =H14 -> 5000000 | I19: =I14 -> 5000000 | J19: =J14 -> 5000000 | K19: =SUM(B19:J19) -> 45000000
A20: Gesamt Projektfonds | B20: =B17 -> 85000000 | C20: =C17 -> 85000000 | D20: =D17 -> 85000000 | E20: =E17 -> 85000000 | F20: =F17 -> 85000000 | G20: =G17 -> 85000000 | H20: =H17 -> 85000000 | I20: =I17 -> 85000000 | J20: =J17 -> 85000000 | K20: =SUM(B20:J20) -> 765000000
A21: Summe Übergeordnete Bereiche BMBF/DLR * | B21: =SUM(B19:B20) -> 90000000 | C21: =SUM(C19:C20) -> 90000000 | D21: =SUM(D19:D20) -> 90000000 | E21: =SUM(E19:E20) -> 90000000 | F21: =SUM(F19:F20) -> 90000000 | G21: =SUM(G19:G20) -> 90000000 | H21: =SUM(H19:H20) -> 90000000 | I21: =SUM(I19:I20) -> 90000000 | J21: =SUM(J19:J20) -> 90000000 | K21: =SUM(B21:J21) -> 810000000
A23: Partnerforum
A25: Gremienarbeit
A26: Personal 2x100% TV E131 (Betreuung und Koordinierung des Gremiums) + 10,5x100% TV E131 (je 1,5 Stellen pro Bildungsbereich) | B26: =PARTNERFORUM!B6 -> 1038175 | C26: =PARTNERFORUM!C6 -> 1038175 | D26: =PARTNERFORUM!D6 -> 1038175 | E26: =PARTNERFORUM!E6 -> 1038175 | F26: =PARTNERFORUM!F6 -> 1038175 | G26: =PARTNERFORUM!G6 -> 1038175 | H26: =PARTNERFORUM!H6 -> 1038175 | I26: =PARTNERFORUM!I6 -> 1038175 | J26: =PARTNERFORUM!J6 -> 1038175 | K26: =SUM(B26:J26) -> 9343575
A27: Bürokosten | B27: =PARTNERFORUM!B7 -> 0 | C27: =PARTNERFORUM!C7 -> 0 | D27: =PARTNERFORUM!D7 -> 0 | E27: =PARTNERFORUM!E7 -> 0 | F27: =PARTNERFORUM!F7 -> 0 | G27: =PARTNERFORUM!G7 -> 0 | H27: =PARTNERFORUM!H7 -> 0 | I27: =PARTNERFORUM!I7 -> 0 | J27: =PARTNERFORUM!J7 -> 0 | K27: =SUM(B27:J27) -> 0
A28: Overhead (20% Personalkosten) | B28: =PARTNERFORUM!B8 -> 207635 | C28: =PARTNERFORUM!C8 -> 207635 | D28: =PARTNERFORUM!D8 -> 207635 | E28: =PARTNERFORUM!E8 -> 207635 | F28: =PARTNERFORUM!F8 -> 207635 | G28: =PARTNERFORUM!G8 -> 207635 | H28: =PARTNERFORUM!H8 -> 207635 | I28: =PARTNERFORUM!I8 -> 207635 | J28: =PARTNERFORUM!J8 -> 207635 | K28: =SUM(B28:J28) -> 1868715
A29: Sitzungsgelder (10 Selbstständige, 1 Sitzung/Monat)2 | B29: =PARTNERFORUM!B9 -> 12000 | C29: =PARTNERFORUM!C9 -> 12000 | D29: =PARTNERFORUM!D9 -> 12000 | E29: =PARTNERFORUM!E9 -> 12000 | F29: =PARTNERFORUM!F9 -> 12000 | G29: =PARTNERFORUM!G9 -> 12000 | H29: =PARTNERFORUM!H9 -> 12000 | I29: =PARTNERFORUM!I9 -> 12000 | J29: =PARTNERFORUM!J9 -> 12000 | K29: =SUM(B29:J29) -> 108000
A30: Fahrtkosten/Unterkunft3 | B30: =PARTNERFORUM!B10 -> 10000 | C30: =PARTNERFORUM!C10 -> 10000 | D30: =PARTNERFORUM!D10 -> 10000 | E30: =PARTNERFORUM!E10 -> 10000 | F30: =PARTNERFORUM!F10 -> 10000 | G30: =PARTNERFORUM!G10 -> 10000 | H30: =PARTNERFORUM!H10 -> 10000 | I30: =PARTNERFORUM!I10 -> 10000 | J30: =PARTNERFORUM!J10 -> 10000 | K30: =SUM(B30:J30) -> 90000
A31: Öffentlichkeitsarbeit (Zuarbeit zum BNE-Portal) | B31: =PARTNERFORUM!B11 -> 9000 | C31: =PARTNERFORUM!C11 -> 9000 | D31: =PARTNERFORUM!D11 -> 9000 | E31: =PARTNERFORUM!E11 -> 9000 | F31: =PARTNERFORUM!F11 -> 9000 | G31: =PARTNERFORUM!G11 -> 9000 | H31: =PARTNERFORUM!H11 -> 9000 | I31: =PARTNERFORUM!I11 -> 9000 | J31: =PARTNERFORUM!J11 -> 9000 | K31: =SUM(B31:J31) -> 81000
A33: Projektfonds4
A34: Projekt 1: Open Days (Präsenzveranstaltungen, 6x/Jahr) | B34: =PARTNERFORUM!B14 -> 750000 | C34: =PARTNERFORUM!C14 -> 750000 | D34: =PARTNERFORUM!D14 -> 750000 | E34: =PARTNERFORUM!E14 -> 750000 | F34: =PARTNERFORUM!F14 -> 750000 | G34: =PARTNERFORUM!G14 -> 750000 | H34: =PARTNERFORUM!H14 -> 750000 | I34: =PARTNERFORUM!I14 -> 750000 | J34: =PARTNERFORUM!J14 -> 750000 | K34: =SUM(B34:J34) -> 6750000
A35: Projekt 2: Informations-, Kommunikations-, Beratungs- und Auswahlstelle für die Vergabe finanzieller Mittel an Projekte und Veranstaltungen, die der BNE zuzuordnen sind, aber nicht von FF oder PN durchgeführt werden; Sachkostenpauschale für 10,5 Stellen ohne Mittelabwicklung)5 | B35: =PARTNERFORUM!B15 -> 136500 | C35: =PARTNERFORUM!C15 -> 136500 | D35: =PARTNERFORUM!D15 -> 136500 | E35: =PARTNERFORUM!E15 -> 136500 | F35: =PARTNERFORUM!F15 -> 136500 | G35: =PARTNERFORUM!G15 -> 136500 | H35: =PARTNERFORUM!H15 -> 136500 | I35: =PARTNERFORUM!I15 -> 136500 | J35: =PARTNERFORUM!J15 -> 136500 | K35: =SUM(B35:J35) -> 1228500
A36: Projekt 3 | B36: =PARTNERFORUM!B16 -> 0 | C36: =PARTNERFORUM!C16 -> 0 | D36: =PARTNERFORUM!D16 -> 0 | E36: =PARTNERFORUM!E16 -> 0 | F36: =PARTNERFORUM!F16 -> 0 | G36: =PARTNERFORUM!G16 -> 0 | H36: =PARTNERFORUM!H16 -> 0 | I36: =PARTNERFORUM!I16 -> 0 | J36: =PARTNERFORUM!J16 -> 0 | K36: =SUM(B36:J36) -> 0
A38: Gesamt Gremienarbeit | B38: =SUM(B26:B31) -> 1276810 | C38: =SUM(C26:C31) -> 1276810 | D38: =SUM(D26:D31) -> 1276810 | E38: =SUM(E26:E31) -> 1276810 | F38: =SUM(F26:F31) -> 1276810 | G38: =SUM(G26:G31) -> 1276810 | H38: =SUM(H26:H31) -> 1276810 | I38: =SUM(I26:I31) -> 1276810 | ... K38: =SUM(K26:K31) -> 11491290
A39: Gesamt Projektfonds | B39: =SUM(B34:B36) -> 886500 | C39: =SUM(C34:C36) -> 886500 | D39: =SUM(D34:D36) -> 886500 | E39: =SUM(E34:E36) -> 886500 | F39: =SUM(F34:F36) -> 886500 | G39: =SUM(G34:G36) -> 886500 | H39: =SUM(H34:H36) -> 886500 | I39: =SUM(I34:I36) -> 886500 | ... K39: =SUM(K34:K36) -> 7978500
A40: Summe Partnerforum | B40: =SUM(B38:B39) -> 2163310 | C40: =SUM(C38:C39) -> 2163310 | D40: =SUM(D38:D39) -> 2163310 | E40: =SUM(E38:E39) -> 2163310 | F40: =SUM(F38:F39) -> 2163310 | G40: =SUM(G38:G39) -> 2163310 | H40: =SUM(H38:H39) -> 2163310 | I40: =SUM(I38:I39) -> 2163310 | ... K40: =SUM(K38:K39) -> 19469790
A42: FF Frühkindliche Bildung
A44: Gremienarbeit
A45: Personal 2x100% (Betreuung und Koordinierung des Gremiums und seiner Projekte)1 | B45: =FFKiTa!B6 -> 166108 | C45: =FFKiTa!C6 -> 166108 | D45: =FFKiTa!D6 -> 166108 | E45: =FFKiTa!E6 -> 166108 | F45: =FFKiTa!F6 -> 166108 | G45: =FFKiTa!G6 -> 166108 | H45: =FFKiTa!H6 -> 166108 | I45: =FFKiTa!I6 -> 166108 | J45: =FFKiTa!J6 -> 166108 | K45: =SUM(B45:J45) -> 1494972
A46: Bürokosten | B46: =FFKiTa!B7 -> 0 | C46: =FFKiTa!C7 -> 0 | D46: =FFKiTa!D7 -> 0 | E46: =FFKiTa!E7 -> 0 | F46: =FFKiTa!F7 -> 0 | G46: =FFKiTa!G7 -> 0 | H46: =FFKiTa!H7 -> 0 | I46: =FFKiTa!I7 -> 0 | J46: =FFKiTa!J7 -> 0 | K46: =SUM(B46:J46) -> 0
A47: Overhead (20% Personalkosten) | B47: =PNKommunen!B8 -> 33221.6 | C47: =PNKommunen!C8 -> 33221.6 | D47: =PNKommunen!D8 -> 33221.6 | E47: =PNKommunen!E8 -> 33221.6 | F47: =PNKommunen!F8 -> 33221.6 | G47: =PNKommunen!G8 -> 33221.6 | H47: =PNKommunen!H8 -> 33221.6 | I47: =PNKommunen!I8 -> 33221.6 | ... K47: =PNKommunen!K8 -> 298994.4
A48: Sitzungsgelder (10 Selbstständige, 1 Sitzung/Monat)2 | B48: =FFKiTa!B9 -> 12000 | C48: =FFKiTa!C9 -> 12000 | D48: =FFKiTa!D9 -> 12000 | E48: =FFKiTa!E9 -> 12000 | F48: =FFKiTa!F9 -> 12000 | G48: =FFKiTa!G9 -> 12000 | H48: =FFKiTa!H9 -> 12000 | I48: =FFKiTa!I9 -> 12000 | J48: =FFKiTa!J9 -> 12000 | K48: =SUM(B48:J48) -> 108000
A49: Fahrtkosten/Unterkunft3 | B49: =FFKiTa!B10 -> 10000 | C49: =FFKiTa!C10 -> 10000 | D49: =FFKiTa!D10 -> 10000 | E49: =FFKiTa!E10 -> 10000 | F49: =FFKiTa!F10 -> 10000 | G49: =FFKiTa!G10 -> 10000 | H49: =FFKiTa!H10 -> 10000 | I49: =FFKiTa!I10 -> 10000 | J49: =FFKiTa!J10 -> 10000 | K49: =SUM(B49:J49) -> 90000
A50: Öffentlichkeitsarbeit (Zuarbeit zum BNE-Portal) | B50: =FFKiTa!B11 -> 9000 | C50: =FFKiTa!C11 -> 9000 | D50: =FFKiTa!D11 -> 9000 | E50: =FFKiTa!E11 -> 9000 | F50: =FFKiTa!F11 -> 9000 | G50: =FFKiTa!G11 -> 9000 | H50: =FFKiTa!H11 -> 9000 | I50: =FFKiTa!I11 -> 9000 | J50: =FFKiTa!J11 -> 9000 | K50: =SUM(B50:J50) -> 81000
A51: Referent*innen | B51: =FFKiTa!B12 -> 1000 | C51: =FFKiTa!C12 -> 1000 | D51: =FFKiTa!D12 -> 1000 | E51: =FFKiTa!E12 -> 1000 | F51: =FFKiTa!F12 -> 1000 | G51: =FFKiTa!G12 -> 1000 | H51: =FFKiTa!H12 -> 1000 | I51: =FFKiTa!I12 -> 1000 | J51: =FFKiTa!J12 -> 1000 | K51: =SUM(B51:J51) -> 9000
A52: Gutachten/Studien u.a. | B52: =FFKiTa!B13 -> 100000 | C52: =FFKiTa!C13 -> 100000 | D52: =FFKiTa!D13 -> 100000 | E52: =FFKiTa!E13 -> 100000 | F52: =FFKiTa!F13 -> 100000 | G52: =FFKiTa!G13 -> 100000 | H52: =FFKiTa!H13 -> 100000 | I52: =FFKiTa!I13 -> 100000 | J52: =FFKiTa!J13 -> 100000 | K52: =SUM(B52:J52) -> 900000
A54: Projektfonds4
A55: Projekt 1: Veranstaltungen „BNE in der KITA“ | B55: =FFKiTa!B16 -> 600000 | C55: =FFKiTa!C16 -> 600000 | D55: =FFKiTa!D16 -> 600000 | E55: =FFKiTa!E16 -> 600000 | F55: =FFKiTa!F16 -> 600000 | G55: =FFKiTa!G16 -> 600000 | H55: =FFKiTa!H16 -> 600000 | I55: =FFKiTa!I16 -> 600000 | J55: =FFKiTa!J16 -> 600000 | K55: =SUM(B55:J55) -> 5400000
A56: Projekt 2: (Fort-)Bildungsmaterialien | B56: =FFKiTa!B17 -> 1000000 | C56: =FFKiTa!C17 -> 1000000 | D56: =FFKiTa!D17 -> 1000000 | E56: =FFKiTa!E17 -> 1000000 | F56: =FFKiTa!F17 -> 1000000 | G56: =FFKiTa!G17 -> 1000000 | H56: =FFKiTa!H17 -> 1000000 | I56: =FFKiTa!I17 -> 1000000 | J56: =FFKiTa!J17 -> 1000000 | K56: =SUM(B56:J56) -> 9000000
A57: Projekt 3 | B57: =FFKiTa!B18 -> 0 | C57: =FFKiTa!C18 -> 0 | D57: =FFKiTa!D18 -> 0 | E57: =FFKiTa!E18 -> 0 | F57: =FFKiTa!F18 -> 0 | G57: =FFKiTa!G18 -> 0 | H57: =FFKiTa!H18 -> 0 | I57: =FFKiTa!I18 -> 0 | J57: =FFKiTa!J18 -> 0 | K57: =SUM(B57:J57) -> 0
A59: Gesamt Gremienarbeit | B59: =SUM(B45:B52) -> 331329.6 | C59: =SUM(C45:C52) -> 331329.6 | D59: =SUM(D45:D52) -> 331329.6 | E59: =SUM(E45:E52) -> 331329.6 | F59: =SUM(F45:F52) -> 331329.6 | G59: =SUM(G45:G52) -> 331329.6 | H59: =SUM(H45:H52) -> 331329.6 | I59: =SUM(I45:I52) -> 331329.6 | ... K59: =SUM(K45:K52) -> 2981966.4
A60: Gesamt Projektfonds | B60: =SUM(B55:B57) -> 1600000 | C60: =SUM(C55:C57) -> 1600000 | D60: =SUM(D55:D57) -> 1600000 | E60: =SUM(E55:E57) -> 1600000 | F60: =SUM(F55:F57) -> 1600000 | G60: =SUM(G55:G57) -> 1600000 | H60: =SUM(H55:H57) -> 1600000 | I60: =SUM(I55:I57) -> 1600000 | ... K60: =SUM(K55:K57) -> 14400000
A61: Summe FF Frühkindliche Bildung | B61: =SUM(B59:B60) -> 1931329.6 | C61: =SUM(C59:C60) -> 1931329.6 | D61: =SUM(D59:D60) -> 1931329.6 | E61: =SUM(E59:E60) -> 1931329.6 | F61: =SUM(F59:F60) -> 1931329.6 | G61: =SUM(G59:G60) -> 1931329.6 | H61: =SUM(H59:H60) -> 1931329.6 | I61: =SUM(I59:I60) -> 1931329.6 | ... K61: =SUM(K59:K60) -> 17381966
A63: FF Schule
A65: Gremienarbeit
A66: Personal 2x100% (Betreuung und Koordinierung des Gremiums und seiner Projekte)1 | B66: =FFSchule!B6 -> 166108 | C66: =FFSchule!C6 -> 166108 | D66: =FFSchule!D6 -> 166108 | E66: =FFSchule!E6 -> 166108 | F66: =FFSchule!F6 -> 166108 | G66: =FFSchule!G6 -> 166108 | H66: =FFSchule!H6 -> 166108 | I66: =FFSchule!I6 -> 166108 | J66: =FFSchule!J6 -> 166108 | K66: =SUM(B66:J66) -> 1494972
A67: Bürokosten | B67: =FFSchule!B7 -> 0 | C67: =FFSchule!C7 -> 0 | D67: =FFSchule!D7 -> 0 | E67: =FFSchule!E7 -> 0 | F67: =FFSchule!F7 -> 0 | G67: =FFSchule!G7 -> 0 | H67: =FFSchule!H7 -> 0 | I67: =FFSchule!I7 -> 0 | J67: =FFSchule!J7 -> 0 | K67: =SUM(B67:J67) -> 0
A68: Overhead (20% Personalkosten) | B68: =FFSchule!B8 -> 33221.6 | C68: =FFSchule!C8 -> 33221.6 | D68: =FFSchule!D8 -> 33221.6 | E68: =FFSchule!E8 -> 33221.6 | F68: =FFSchule!F8 -> 33221.6 | G68: =FFSchule!G8 -> 33221.6 | H68: =FFSchule!H8 -> 33221.6 | I68: =FFSchule!I8 -> 33221.6 | J68: =FFSchule!J8 -> 33221.6 | K68: =SUM(B68:J68) -> 298994.4
A69: Sitzungsgelder (10 Selbstständige, 1 Sitzung/Monat)2 | B69: =FFSchule!B9 -> 12000 | C69: =FFSchule!C9 -> 12000 | D69: =FFSchule!D9 -> 12000 | E69: =FFSchule!E9 -> 12000 | F69: =FFSchule!F9 -> 12000 | G69: =FFSchule!G9 -> 12000 | H69: =FFSchule!H9 -> 12000 | I69: =FFSchule!I9 -> 12000 | J69: =FFSchule!J9 -> 12000 | K69: =SUM(B69:J69) -> 108000
A70: Fahrtkosten/Unterkunft3 | B70: =FFSchule!B10 -> 10000 | C70: =FFSchule!C10 -> 10000 | D70: =FFSchule!D10 -> 10000 | E70: =FFSchule!E10 -> 10000 | F70: =FFSchule!F10 -> 10000 | G70: =FFSchule!G10 -> 10000 | H70: =FFSchule!H10 -> 10000 | I70: =FFSchule!I10 -> 10000 | J70: =FFSchule!J10 -> 10000 | K70: =SUM(B70:J70) -> 90000
A71: Öffentlichkeitsarbeit (Zuarbeit zum BNE-Portal) | B71: =FFSchule!B11 -> 9000 | C71: =FFSchule!C11 -> 9000 | D71: =FFSchule!D11 -> 9000 | E71: =FFSchule!E11 -> 9000 | F71: =FFSchule!F11 -> 9000 | G71: =FFSchule!G11 -> 9000 | H71: =FFSchule!H11 -> 9000 | I71: =FFSchule!I11 -> 9000 | J71: =FFSchule!J11 -> 9000 | K71: =SUM(B71:J71) -> 81000
A72: Referent*innen | B72: =FFSchule!B12 -> 1000 | C72: =FFSchule!C12 -> 1000 | D72: =FFSchule!D12 -> 1000 | E72: =FFSchule!E12 -> 1000 | F72: =FFSchule!F12 -> 1000 | G72: =FFSchule!G12 -> 1000 | H72: =FFSchule!H12 -> 1000 | I72: =FFSchule!I12 -> 1000 | J72: =FFSchule!J12 -> 1000 | K72: =SUM(B72:J72) -> 9000
A73: Gutachten/Studien u.a. | B73: =FFSchule!B13 -> 100000 | C73: =FFSchule!C13 -> 100000 | D73: =FFSchule!D13 -> 100000 | E73: =FFSchule!E13 -> 100000 | F73: =FFSchule!F13 -> 100000 | G73: =FFSchule!G13 -> 100000 | H73: =FFSchule!H13 -> 100000 | I73: =FFSchule!I13 -> 100000 | J73: =FFSchule!J13 -> 100000 | K73: =SUM(B73:J73) -> 900000
A75: Projektfonds4
A76: Projekt 1: Veranstaltungen „BNE in den Schulen“ | B76: =FFSchule!B16 -> 600000 | C76: =FFSchule!C16 -> 600000 | D76: =FFSchule!D16 -> 600000 | E76: =FFSchule!E16 -> 600000 | F76: =FFSchule!F16 -> 600000 | G76: =FFSchule!G16 -> 600000 | H76: =FFSchule!H16 -> 600000 | I76: =FFSchule!I16 -> 600000 | J76: =FFSchule!J16 -> 600000 | K76: =SUM(B76:J76) -> 5400000
A77: Projekt 2: (Fort-)Bildungsmaterialien | B77: =FFSchule!B17 -> 1000000 | C77: =FFSchule!C17 -> 1000000 | D77: =FFSchule!D17 -> 1000000 | E77: =FFSchule!E17 -> 1000000 | F77: =FFSchule!F17 -> 1000000 | G77: =FFSchule!G17 -> 1000000 | H77: =FFSchule!H17 -> 1000000 | I77: =FFSchule!I17 -> 1000000 | J77: =FFSchule!J17 -> 1000000 | K77: =SUM(B77:J77) -> 9000000
A78: Projekt 3 | B78: =FFSchule!B18 -> 0 | C78: =FFSchule!C18 -> 0 | D78: =FFSchule!D18 -> 0 | E78: =FFSchule!E18 -> 0 | F78: =FFSchule!F18 -> 0 | G78: =FFSchule!G18 -> 0 | H78: =FFSchule!H18 -> 0 | I78: =FFSchule!I18 -> 0 | J78: =FFSchule!J18 -> 0 | K78: =SUM(B78:J78) -> 0
A80: Gesamt Gremienarbeit | B80: =SUM(B66:B73) -> 331329.6 | C80: =SUM(C66:C73) -> 331329.6 | D80: =SUM(D66:D73) -> 331329.6 | E80: =SUM(E66:E73) -> 331329.6 | F80: =SUM(F66:F73) -> 331329.6 | G80: =SUM(G66:G73) -> 331329.6 | H80: =SUM(H66:H73) -> 331329.6 | I80: =SUM(I66:I73) -> 331329.6 | ... K80: =SUM(K66:K73) -> 2981966.4
A81: Gesamt Projektfonds | B81: =SUM(B76:B78) -> 1600000 | C81: =SUM(C76:C78) -> 1600000 | D81: =SUM(D76:D78) -> 1600000 | E81: =SUM(E76:E78) -> 1600000 | F81: =SUM(F76:F78) -> 1600000 | G81: =SUM(G76:G78) -> 1600000 | H81: =SUM(H76:H78) -> 1600000 | I81: =SUM(I76:I78) -> 1600000 | ... K81: =SUM(K76:K78) -> 14400000
A82: Summe FF Schule | B82: =SUM(B80:B81) -> 1931329.6 | C82: =SUM(C80:C81) -> 1931329.6 | D82: =SUM(D80:D81) -> 1931329.6 | E82: =SUM(E80:E81) -> 1931329.6 | F82: =SUM(F80:F81) -> 1931329.6 | G82: =SUM(G80:G81) -> 1931329.6 | H82: =SUM(H80:H81) -> 1931329.6 | I82: =SUM(I80:I81) -> 1931329.6 | ... K82: =SUM(K80:K81) -> 17381966
A84: FF Berufliche Bildung
A86: Gremienarbeit
A87: Personal 2x100% (Betreuung und Koordinierung des Gremiums und seiner Projekte)1 | B87: =FFBBNE!B6 -> 166108 | C87: =FFBBNE!C6 -> 166108 | D87: =FFBBNE!D6 -> 166108 | E87: =FFBBNE!E6 -> 166108 | F87: =FFBBNE!F6 -> 166108 | G87: =FFBBNE!G6 -> 166108 | H87: =FFBBNE!H6 -> 166108 | I87: =FFBBNE!I6 -> 166108 | J87: =FFBBNE!J6 -> 166108 | K87: =SUM(B87:J87) -> 1494972
A88: Bürokosten | B88: =FFBBNE!B7 -> 0 | C88: =FFBBNE!C7 -> 0 | D88: =FFBBNE!D7 -> 0 | E88: =FFBBNE!E7 -> 0 | F88: =FFBBNE!F7 -> 0 | G88: =FFBBNE!G7 -> 0 | H88: =FFBBNE!H7 -> 0 | I88: =FFBBNE!I7 -> 0 | J88: =FFBBNE!J7 -> 0 | K88: =SUM(B88:J88) -> 0
A89: Overhead (20% Personalkosten) | B89: =FFBBNE!B8 -> 33221.6 | C89: =FFBBNE!C8 -> 33221.6 | D89: =FFBBNE!D8 -> 33221.6 | E89: =FFBBNE!E8 -> 33221.6 | F89: =FFBBNE!F8 -> 33221.6 | G89: =FFBBNE!G8 -> 33221.6 | H89: =FFBBNE!H8 -> 33221.6 | I89: =FFBBNE!I8 -> 33221.6 | ... K89: =FFBBNE!K8 -> 298994.4
A90: Sitzungsgelder (10 Selbstständige, 1 Sitzung/Monat)2 | B90: =FFBBNE!B9 -> 12000 | C90: =FFBBNE!C9 -> 12000 | D90: =FFBBNE!D9 -> 12000 | E90: =FFBBNE!E9 -> 12000 | F90: =FFBBNE!F9 -> 12000 | G90: =FFBBNE!G9 -> 12000 | H90: =FFBBNE!H9 -> 12000 | I90: =FFBBNE!I9 -> 12000 | J90: =FFBBNE!J9 -> 12000 | K90: =SUM(B90:J90) -> 108000
A91: Fahrtkosten/Unterkunft3 | B91: =FFBBNE!B10 -> 10000 | C91: =FFBBNE!C10 -> 10000 | D91: =FFBBNE!D10 -> 10000 | E91: =FFBBNE!E10 -> 10000 | F91: =FFBBNE!F10 -> 10000 | G91: =FFBBNE!G10 -> 10000 | H91: =FFBBNE!H10 -> 10000 | I91: =FFBBNE!I10 -> 10000 | J91: =FFBBNE!J10 -> 10000 | K91: =SUM(B91:J91) -> 90000
A92: Öffentlichkeitsarbeit (Zuarbeit zum BNE-Portal) | B92: =FFBBNE!B11 -> 9000 | C92: =FFBBNE!C11 -> 9000 | D92: =FFBBNE!D11 -> 9000 | E92: =FFBBNE!E11 -> 9000 | F92: =FFBBNE!F11 -> 9000 | G92: =FFBBNE!G11 -> 9000 | H92: =FFBBNE!H11 -> 9000 | I92: =FFBBNE!I11 -> 9000 | J92: =FFBBNE!J11 -> 9000 | K92: =SUM(B92:J92) -> 81000
A93: Referent*innen | B93: =FFBBNE!B12 -> 1000 | C93: =FFBBNE!C12 -> 1000 | D93: =FFBBNE!D12 -> 1000 | E93: =FFBBNE!E12 -> 1000 | F93: =FFBBNE!F12 -> 1000 | G93: =FFBBNE!G12 -> 1000 | H93: =FFBBNE!H12 -> 1000 | I93: =FFBBNE!I12 -> 1000 | J93: =FFBBNE!J12 -> 1000 | K93: =SUM(B93:J93) -> 9000
A94: Gutachten/Studien u.a. | B94: =FFBBNE!B13 -> 100000 | C94: =FFBBNE!C13 -> 100000 | D94: =FFBBNE!D13 -> 100000 | E94: =FFBBNE!E13 -> 100000 | F94: =FFBBNE!F13 -> 100000 | G94: =FFBBNE!G13 -> 100000 | H94: =FFBBNE!H13 -> 100000 | I94: =FFBBNE!I13 -> 100000 | J94: =FFBBNE!J13 -> 100000 | K94: =SUM(B94:J94) -> 900000
A96: Projektfonds4
A97: Projekt 1: Veranstaltungen „BNE in der Beruflichen Bildung“ | B97: =FFBBNE!B16 -> 600000 | C97: =FFBBNE!C16 -> 600000 | D97: =FFBBNE!D16 -> 600000 | E97: =FFBBNE!E16 -> 600000 | F97: =FFBBNE!F16 -> 600000 | G97: =FFBBNE!G16 -> 600000 | H97: =FFBBNE!H16 -> 600000 | I97: =FFBBNE!I16 -> 600000 | J97: =FFBBNE!J16 -> 600000 | K97: =SUM(B97:J97) -> 5400000
A98: Projekt 2: (Fort-)Bildungsmaterialien | B98: =FFBBNE!B17 -> 1000000 | C98: =FFBBNE!C17 -> 1000000 | D98: =FFBBNE!D17 -> 1000000 | E98: =FFBBNE!E17 -> 1000000 | F98: =FFBBNE!F17 -> 1000000 | G98: =FFBBNE!G17 -> 1000000 | H98: =FFBBNE!H17 -> 1000000 | I98: =FFBBNE!I17 -> 1000000 | J98: =FFBBNE!J17 -> 1000000 | K98: =SUM(B98:J98) -> 9000000
A99: Projekt 3 | B99: =FFBBNE!B18 -> 0 | C99: =FFBBNE!C18 -> 0 | D99: =FFBBNE!D18 -> 0 | E99: =FFBBNE!E18 -> 0 | F99: =FFBBNE!F18 -> 0 | G99: =FFBBNE!G18 -> 0 | H99: =FFBBNE!H18 -> 0 | I99: =FFBBNE!I18 -> 0 | J99: =FFBBNE!J18 -> 0 | K99: =SUM(B99:J99) -> 0
A101: Gesamt Gremienarbeit | B101: =SUM(B87:B94) -> 331329.6 | C101: =SUM(C87:C94) -> 331329.6 | D101: =SUM(D87:D94) -> 331329.6 | E101: =SUM(E87:E94) -> 331329.6 | F101: =SUM(F87:F94) -> 331329.6 | G101: =SUM(G87:G94) -> 331329.6 | H101: =SUM(H87:H94) -> 331329.6 | I101: =SUM(I87:I94) -> 331329.6 | ... K101: =SUM(K87:K94) -> 2981966.4
A102: Gesamt Projektfonds | B102: =SUM(B97:B99) -> 1600000 | C102: =SUM(C97:C99) -> 1600000 | D102: =SUM(D97:D99) -> 1600000 | E102: =SUM(E97:E99) -> 1600000 | F102: =SUM(F97:F99) -> 1600000 | G102: =SUM(G97:G99) -> 1600000 | H102: =SUM(H97:H99) -> 1600000 | I102: =SUM(I97:I99) -> 1600000 | ... K102: =SUM(K97:K99) -> 14400000
A103: Summe FF Berufliche Bildung | B103: =SUM(B101:B102) -> 1931329.6 | C103: =SUM(C101:C102) -> 1931329.6 | D103: =SUM(D101:D102) -> 1931329.6 | E103: =SUM(E101:E102) -> 1931329.6 | F103: =SUM(F101:F102) -> 1931329.6 | G103: =SUM(G101:G102) -> 1931329.6 | H103: =SUM(H101:H102) -> 1931329.6 | I103: =SUM(I101:I102) -> 1931329.6 | ... K103: =SUM(K101:K102) -> 17381966
A105: FF Hochschule
A107: Gremienarbeit
A108: Personal 2x100% (Betreuung und Koordinierung des Gremiums und seiner Projekte)1 | B108: =FFHoch!B6 -> 166108 | C108: =FFHoch!C6 -> 166108 | D108: =FFHoch!D6 -> 166108 | E108: =FFHoch!E6 -> 166108 | F108: =FFHoch!F6 -> 166108 | G108: =FFHoch!G6 -> 166108 | H108: =FFHoch!H6 -> 166108 | I108: =FFHoch!I6 -> 166108 | J108: =FFHoch!J6 -> 166108 | K108: =SUM(B108:J108) -> 1494972
A109: Bürokosten | B109: =FFHoch!B7 -> 0 | C109: =FFHoch!C7 -> 0 | D109: =FFHoch!D7 -> 0 | E109: =FFHoch!E7 -> 0 | F109: =FFHoch!F7 -> 0 | G109: =FFHoch!G7 -> 0 | H109: =FFHoch!H7 -> 0 | I109: =FFHoch!I7 -> 0 | J109: =FFHoch!J7 -> 0 | K109: =SUM(B109:J109) -> 0
A110: Overhead (20% Personalkosten) | B110: =FFHoch!B8 -> 33221.6 | C110: =FFHoch!C8 -> 33221.6 | D110: =FFHoch!D8 -> 33221.6 | E110: =FFHoch!E8 -> 33221.6 | F110: =FFHoch!F8 -> 33221.6 | G110: =FFHoch!G8 -> 33221.6 | H110: =FFHoch!H8 -> 33221.6 | I110: =FFHoch!I8 -> 33221.6 | ... K110: =FFHoch!K8 -> 298994.4
A111: Sitzungsgelder (10 Selbstständige, 1 Sitzung/Monat)2 | B111: =FFHoch!B9 -> 12000 | C111: =FFHoch!C9 -> 12000 | D111: =FFHoch!D9 -> 12000 | E111: =FFHoch!E9 -> 12000 | F111: =FFHoch!F9 -> 12000 | G111: =FFHoch!G9 -> 12000 | H111: =FFHoch!H9 -> 12000 | I111: =FFHoch!I9 -> 12000 | J111: =FFHoch!J9 -> 12000 | K111: =SUM(B111:J111) -> 108000
A112: Fahrtkosten/Unterkunft3 | B112: =FFHoch!B10 -> 10000 | C112: =FFHoch!C10 -> 10000 | D112: =FFHoch!D10 -> 10000 | E112: =FFHoch!E10 -> 10000 | F112: =FFHoch!F10 -> 10000 | G112: =FFHoch!G10 -> 10000 | H112: =FFHoch!H10 -> 10000 | I112: =FFHoch!I10 -> 10000 | J112: =FFHoch!J10 -> 10000 | K112: =SUM(B112:J112) -> 90000
A113: Öffentlichkeitsarbeit (Zuarbeit zum BNE-Portal) | B113: =FFHoch!B11 -> 9000 | C113: =FFHoch!C11 -> 9000 | D113: =FFHoch!D11 -> 9000 | E113: =FFHoch!E11 -> 9000 | F113: =FFHoch!F11 -> 9000 | G113: =FFHoch!G11 -> 9000 | H113: =FFHoch!H11 -> 9000 | I113: =FFHoch!I11 -> 9000 | J113: =FFHoch!J11 -> 9000 | K113: =SUM(B113:J113) -> 81000
A114: Referent*innen | B114: =FFHoch!B12 -> 1000 | C114: =FFHoch!C12 -> 1000 | D114: =FFHoch!D12 -> 1000 | E114: =FFHoch!E12 -> 1000 | F114: =FFHoch!F12 -> 1000 | G114: =FFHoch!G12 -> 1000 | H114: =FFHoch!H12 -> 1000 | I114: =FFHoch!I12 -> 1000 | J114: =FFHoch!J12 -> 1000 | K114: =SUM(B114:J114) -> 9000
A115: Gutachten/Studien u.a. | B115: =FFHoch!B13 -> 100000 | C115: =FFHoch!C13 -> 100000 | D115: =FFHoch!D13 -> 100000 | E115: =FFHoch!E13 -> 100000 | F115: =FFHoch!F13 -> 100000 | G115: =FFHoch!G13 -> 100000 | H115: =FFHoch!H13 -> 100000 | I115: =FFHoch!I13 -> 100000 | J115: =FFHoch!J13 -> 100000 | K115: =SUM(B115:J115) -> 900000
A117: Projektfonds4
A118: Projekt 1: Veranstaltungen „BNE in der Hochschule“ | B118: =FFHoch!B16 -> 600000 | C118: =FFHoch!C16 -> 600000 | D118: =FFHoch!D16 -> 600000 | E118: =FFHoch!E16 -> 600000 | F118: =FFHoch!F16 -> 600000 | G118: =FFHoch!G16 -> 600000 | H118: =FFHoch!H16 -> 600000 | I118: =FFHoch!I16 -> 600000 | J118: =FFHoch!J16 -> 600000 | K118: =SUM(B118:J118) -> 5400000
A119: Projekt 2: (Fort-)Bildungsmaterialien | B119: =FFHoch!B17 -> 1000000 | C119: =FFHoch!C17 -> 1000000 | D119: =FFHoch!D17 -> 1000000 | E119: =FFHoch!E17 -> 1000000 | F119: =FFHoch!F17 -> 1000000 | G119: =FFHoch!G17 -> 1000000 | H119: =FFHoch!H17 -> 1000000 | I119: =FFHoch!I17 -> 1000000 | J119: =FFHoch!J17 -> 1000000 | K119: =SUM(B119:J119) -> 9000000
A120: Projekt 3 | B120: =FFHoch!B18 -> 0 | C120: =FFHoch!C18 -> 0 | D120: =FFHoch!D18 -> 0 | E120: =FFHoch!E18 -> 0 | F120: =FFHoch!F18 -> 0 | G120: =FFHoch!G18 -> 0 | H120: =FFHoch!H18 -> 0 | I120: =FFHoch!I18 -> 0 | J120: =FFHoch!J18 -> 0 | K120: =SUM(B120:J120) -> 0
A122: Gesamt Gremienarbeit | B122: =SUM(B108:B115) -> 331329.6 | C122: =SUM(C108:C115) -> 331329.6 | D122: =SUM(D108:D115) -> 331329.6 | E122: =SUM(E108:E115) -> 331329.6 | F122: =SUM(F108:F115) -> 331329.6 | G122: =SUM(G108:G115) -> 331329.6 | H122: =SUM(H108:H115) -> 331329.6 | I122: =SUM(I108:I115) -> 331329.6 | ... K122: =SUM(K108:K115) -> 2981966.4
A123: Gesamt Projektfonds | B123: =SUM(B118:B120) -> 1600000 | C123: =SUM(C118:C120) -> 1600000 | D123: =SUM(D118:D120) -> 1600000 | E123: =SUM(E118:E120) -> 1600000 | F123: =SUM(F118:F120) -> 1600000 | G123: =SUM(G118:G120) -> 1600000 | H123: =SUM(H118:H120) -> 1600000 | I123: =SUM(I118:I120) -> 1600000 | ... K123: =SUM(K118:K120) -> 14400000
...

Sheet BMBF-DLR
A1: Übergeordnete Bereiche BMBF/DLR
B3: 2022 | C3: 2023 | D3: 2024 | E3: 2025 | F3: 2026 | G3: 2027 | H3: 2028 | I3: 2029 | J3: 2030 | K3: Gesamt
A4: Personal
A5: Koordinierung | K5: =SUM(B5:J5) -> 0
A6: Verwaltung und Abwicklung der Mittel für die Gremienarbeit sowie der Projektfördermittel gemäß der Auswahl durch das Partnerforum
A7: wissenschaftliche Begleitung | K7: =SUM(B7:J7) -> 0
A8: Öffentlichkeitsarbeit | K8: =SUM(B8:J8) -> 0
A9: Veranstaltungen | K9: =SUM(B9:J9) -> 0
A10: Summe „Übergeordnete Bereiche BMBF/DLR“ * | B10: 5000000 | C10: =B10 -> 5000000 | D10: =C10 -> 5000000 | E10: =D10 -> 5000000 | F10: =E10 -> 5000000 | G10: =F10 -> 5000000 | H10: =G10 -> 5000000 | I10: =H10 -> 5000000 | J10: =I10 -> 5000000 | K10: =SUM(B10:J10) -> 45000000
A12: Projektfonds4
A13: Finanzmittel für Projekte und Veranstaltungen, die der BNE zuzuordnen sind, die aber nicht von FF oder PN durchgeführt werden (Auswahl durch Partnerforum) | B13: 85000000 | C13: =B13 -> 85000000 | D13: =C13 -> 85000000 | E13: =D13 -> 85000000 | F13: =E13 -> 85000000 | G13: =F13 -> 85000000 | H13: =G13 -> 85000000 | I13: =H13 -> 85000000 | J13: =I13 -> 85000000 | K13: =SUM(B13:J13) -> 765000000
A15: Gesamt Kosten BMBF/DLR * | B15: =B10 -> 5000000 | C15: =C10 -> 5000000 | D15: =D10 -> 5000000 | E15: =E10 -> 5000000 | F15: =F10 -> 5000000 | G15: =G10 -> 5000000 | H15: =H10 -> 5000000 | I15: =I10 -> 5000000 | J15: =J10 -> 5000000 | K15: =SUM(B15:J15) -> 45000000
A16: Gesamt Projektfonds | B16: =B13 -> 85000000 | C16: =C13 -> 85000000 | D16: =D13 -> 85000000 | E16: =E13 -> 85000000 | F16: =F13 -> 85000000 | G16: =G13 -> 85000000 | H16: =H13 -> 85000000 | I16: =I13 -> 85000000 | J16: =J13 -> 85000000 | K16: =SUM(B16:J16) -> 765000000
A17: Summe „Übergeordnete Bereiche BMBF/DLR“ * | B17: =SUM(B15:B16) -> 90000000 | C17: =SUM(C15:C16) -> 90000000 | D17: =SUM(D15:D16) -> 90000000 | E17: =SUM(E15:E16) -> 90000000 | F17: =SUM(F15:F16) -> 90000000 | G17: =SUM(G15:G16) -> 90000000 | H17: =SUM(H15:H16) -> 90000000 | I17: =SUM(I15:I16) -> 90000000 | J17: =SUM(J15:J16) -> 90000000 | K17: =SUM(B17:J17) -> 810000000
A19: =Gesamt!A402 -> * = Kostenschätzung auf der Basis der BMBF-Auskunft v. 16.10.20
A20: =Gesamt!A408 -> 4 = Projektfonds deckt ALLE für die Planung, Organisation, Durchführung, Öffentlichkeitsarbeit und Dokumentation anfallenden Projektekosten: Honorare (inkl. der Projektleitung), Mieten, Catering, Technik- u.a. Sachkosten etc.

Sheet PARTNERFORUM
A1: Partnerforum
B3: 2022 | C3: 2023 | D3: 2024 | E3: 2025 | F3: 2026 | G3: 2027 | H3: 2028 | I3: 2029 | J3: 2030 | K3: Gesamt
A5: Gremienarbeit
A6: Personal 2x100% TV E131 (Betreuung und Koordinierung des Gremiums) + 10,5x100% TV E131 (je 1,5 Stellen pro Bildungsbereich) | B6: =12.5*Gesamt!A405 -> 1038175 | C6: =B6 -> 1038175 | D6: =C6 -> 1038175 | E6: =D6 -> 1038175 | F6: =E6 -> 1038175 | G6: =F6 -> 1038175 | H6: =G6 -> 1038175 | I6: =H6 -> 1038175 | J6: =I6 -> 1038175 | K6: =SUM(B6:J6) -> 9343575
A7: Bürokosten | K7: =SUM(B7:J7) -> 0
A8: Overhead (20% Personalkosten) | B8: =B6*0.2 -> 207635 | C8: =C6*0.2 -> 207635 | D8: =D6*0.2 -> 207635 | E8: =E6*0.2 -> 207635 | F8: =F6*0.2 -> 207635 | G8: =G6*0.2 -> 207635 | H8: =H6*0.2 -> 207635 | I8: =I6*0.2 -> 207635 | ... K8: =K6*0.2 -> 1868715
A9: Sitzungsgelder (10 Selbstständige, 1 Sitzung/Monat)2 | B9: =10*12*100 -> 12000 | C9: =B9 -> 12000 | D9: =C9 -> 12000 | E9: =D9 -> 12000 | F9: =E9 -> 12000 | G9: =F9 -> 12000 | H9: =G9 -> 12000 | I9: =H9 -> 12000 | J9: =I9 -> 12000 | K9: =SUM(B9:J9) -> 108000
A10: Fahrtkosten/Unterkunft3 | B10: =10*1000 -> 10000 | C10: =B10 -> 10000 | D10: =C10 -> 10000 | E10: =D10 -> 10000 | F10: =E10 -> 10000 | G10: =F10 -> 10000 | H10: =G10 -> 10000 | I10: =H10 -> 10000 | J10: =I10 -> 10000 | K10: =SUM(B10:J10) -> 90000
A11: Öffentlichkeitsarbeit (Zuarbeit zum BNE-Portal, 30 AT/Jahr, 300 € brutto/AT) | B11: =30*300 -> 9000 | C11: =B11 -> 9000 | D11: =C11 -> 9000 | E11: =D11 -> 9000 | F11: =E11 -> 9000 | G11: =F11 -> 9000 | H11: =G11 -> 9000 | I11: =H11 -> 9000 | J11: =I11 -> 9000 | K11: =SUM(B11:J11) -> 81000
A13: Projektfonds4
A14: Projekt 1: Open Days (Präsenzveranstaltungen, 6x/Jahr) | B14: =3*250000 -> 750000 | C14: =B14 -> 750000 | D14: =C14 -> 750000 | E14: =D14 -> 750000 | F14: =E14 -> 750000 | G14: =F14 -> 750000 | H14: =G14 -> 750000 | I14: =H14 -> 750000 | J14: =I14 -> 750000 | K14: =SUM(B14:J14) -> 6750000
A15: Projekt 2: Informations-, Kommunikations-, Beratungs- und Auswahlstelle für die Vergabe finanzieller Mittel an Projekte und Veranstaltungen, die der BNE zuzuordnen sind, aber nicht von FF oder PN durchgeführt werden; Sachkostenpauschale für 10,5 Stellen (keine Mittelabwicklung)5 | B15: =10.5*A31 -> 136500 | C15: =10.5*A31 -> 136500 | D15: =10.5*A31 -> 136500 | E15: =10.5*A31 -> 136500 | F15: =10.5*A31 -> 136500 | G15: =10.5*A31 -> 136500 | H15: =10.5*A31 -> 136500 | I15: =10.5*A31 -> 136500 | J15: =10.5*A31 -> 136500 | K15: =SUM(B15:J15) -> 1228500
A16: Projekt 3 | K16: =SUM(B16:J16) -> 0
A18: Gesamt Gremienarbeit Partnerforum | B18: =SUM(B6:B11) -> 1276810 | C18: =SUM(C6:C11) -> 1276810 | D18: =SUM(D6:D11) -> 1276810 | E18: =SUM(E6:E11) -> 1276810 | F18: =SUM(F6:F11) -> 1276810 | G18: =SUM(G6:G11) -> 1276810 | H18: =SUM(H6:H11) -> 1276810 | I18: =SUM(I6:I11) -> 1276810 | ... K18: =SUM(K6:K11) -> 11491290
A19: Gesamt Projektfonds | B19: =SUM(B14:B16) -> 886500 | C19: =SUM(C14:C16) -> 886500 | D19: =SUM(D14:D16) -> 886500 | E19: =SUM(E14:E16) -> 886500 | F19: =SUM(F14:F16) -> 886500 | G19: =SUM(G14:G16) -> 886500 | H19: =SUM(H14:H16) -> 886500 | I19: =SUM(I14:I16) -> 886500 | ... K19: =SUM(K14:K16) -> 7978500
A20: Summe "Partnerforum" | B20: =SUM(B18:B19) -> 2163310 | C20: =SUM(C18:C19) -> 2163310 | D20: =SUM(D18:D19) -> 2163310 | E20: =SUM(E18:E19) -> 2163310 | F20: =SUM(F18:F19) -> 2163310 | G20: =SUM(G18:G19) -> 2163310 | H20: =SUM(H18:H19) -> 2163310 | I20: =SUM(I18:I19) -> 2163310 | ... K20: =SUM(K18:K19) -> 19469790
A24: 1 = Tarif TV-LPersonalkosten / Arbeitgeber-Brutto lt. Hamburger Tabelle:
A25: =Gesamt!A404 -> 100 % E13 = 83.054 €/a
A26: 2 = Sitzungsgeld = 100 €/Tag und SelbstständigE/ER
A27: 3 = Fahrtkosten/Unterkunft (10 TN/Gremium x 1.000 €/Jahr, inkl. Veranstaltungsteilnahme)
A28: =Gesamt!A408 -> 4 = Projektfonds deckt ALLE für die Planung, Organisation, Durchführung, Öffentlichkeitsarbeit und Dokumentation anfallenden Projektekosten: Honorare (inkl. der Projektleitung), Mieten, Catering, Technik- u.a. Sachkosten etc.
A29: 5 = Schätzung auf der Grundlage der Verwaltungsvorschrift „Sachkostenpauschale eines Arbeitsplatzes in der Bundesverwaltung für Kostenberechnungen / Wirtschaftlichkeitsuntersuchungen (Sachkostenpauschale 2010 Anlage 2)“: 13.000 €/a
A30: http://www.verwaltungsvorschriften-im-internet.de/pdf/BMF-IIIA1-20110509-SF-A002.pdf
A31: 13000

Sheet FFKiTa
A1: Fachforum Frühkindliche Bildung
B3: 2022 | C3: 2023 | D3: 2024 | E3: 2025 | F3: 2026 | G3: 2027 | H3: 2028 | I3: 2029 | J3: 2030 | K3: Gesamt
A5: Gremienarbeit
A6: Personal 2x100% (Betreuung und Koordinierung des Gremiums und seiner Projekte)1 | B6: =2*Gesamt!A405 -> 166108 | C6: =B6 -> 166108 | D6: =C6 -> 166108 | E6: =D6 -> 166108 | F6: =E6 -> 166108 | G6: =F6 -> 166108 | H6: =G6 -> 166108 | I6: =H6 -> 166108 | J6: =I6 -> 166108 | K6: =SUM(B6:J6) -> 1494972
A7: Bürokosten | K7: =SUM(B7:J7) -> 0
A8: Overhead (20% Personalkosten) | B8: =B6*0.2 -> 33221.6 | C8: =C6*0.2 -> 33221.6 | D8: =D6*0.2 -> 33221.6 | E8: =E6*0.2 -> 33221.6 | F8: =F6*0.2 -> 33221.6 | G8: =G6*0.2 -> 33221.6 | H8: =H6*0.2 -> 33221.6 | I8: =I6*0.2 -> 33221.6 | ... K8: =K6*0.2 -> 298994.4
A9: Sitzungsgelder (10 Selbstständige, 1 Sitzung/Monat)2 | B9: =10*12*100 -> 12000 | C9: =B9 -> 12000 | D9: =C9 -> 12000 | E9: =D9 -> 12000 | F9: =E9 -> 12000 | G9: =F9 -> 12000 | H9: =G9 -> 12000 | I9: =H9 -> 12000 | J9: =I9 -> 12000 | K9: =SUM(B9:J9) -> 108000
A10: Fahrtkosten/Unterkunft3 | B10: =10*1000 -> 10000 | C10: =B10 -> 10000 | D10: =C10 -> 10000 | E10: =D10 -> 10000 | F10: =E10 -> 10000 | G10: =F10 -> 10000 | H10: =G10 -> 10000 | I10: =H10 -> 10000 | J10: =I10 -> 10000 | K10: =SUM(B10:J10) -> 90000
A11: Öffentlichkeitsarbeit (Zuarbeit zum BNE-Portal, 30 AT/Jahr, 300 € brutto/AT) | B11: =30*300 -> 9000 | C11: =B11 -> 9000 | D11: =C11 -> 9000 | E11: =D11 -> 9000 | F11: =E11 -> 9000 | G11: =F11 -> 9000 | H11: =G11 -> 9000 | I11: =H11 -> 9000 | J11: =I11 -> 9000 | K11: =SUM(B11:J11) -> 81000
A12: Referent*innen (2xJahr Input, 500 €/Input) | B12: =2*500 -> 1000 | C12: =B12 -> 1000 | D12: =C12 -> 1000 | E12: =D12 -> 1000 | F12: =E12 -> 1000 | G12: =F12 -> 1000 | H12: =G12 -> 1000 | I12: =H12 -> 1000 | J12: =I12 -> 1000 | K12: =SUM(B12:J12) -> 9000
A13: Gutachten/Studien u.a. (2x/Jahr) | B13: =2*50000 -> 100000 | C13: =B13 -> 100000 | D13: =C13 -> 100000 | E13: =D13 -> 100000 | F13: =E13 -> 100000 | G13: =F13 -> 100000 | H13: =G13 -> 100000 | I13: =H13 -> 100000 | J13: =I13 -> 100000 | K13: =SUM(B13:J13) -> 900000
A15: Projektfonds4
A16: Projekt 1: Veranstaltungen „BNE in der KITA“ (Präsenz, 6xJahr für Nord-, Mittel-, Süddeutschland) | B16: =6*100000 -> 600000 | C16: =B16 -> 600000 | D16: =C16 -> 600000 | E16: =D16 -> 600000 | F16: =E16 -> 600000 | G16: =F16 -> 600000 | H16: =G16 -> 600000 | I16: =H16 -> 600000 | J16: =I16 -> 600000 | K16: =SUM(B16:J16) -> 5400000
A17: Projekt 2: (Fort-)Bildungsmaterialien (Bücher, Spiele) | B17: 1000000 | C17: =B17 -> 1000000 | D17: =C17 -> 1000000 | E17: =D17 -> 1000000 | F17: =E17 -> 1000000 | G17: =F17 -> 1000000 | H17: =G17 -> 1000000 | I17: =H17 -> 1000000 | J17: =I17 -> 1000000 | K17: =SUM(B17:J17) -> 9000000
A18: Projekt 3 | K18: =SUM(B18:J18) -> 0
A20: Gesamt Gremienarbeit FF Frühkindliche | B20: =SUM(B6:B13) -> 331329.6 | C20: =SUM(C6:C13) -> 331329.6 | D20: =SUM(D6:D13) -> 331329.6 | E20: =SUM(E6:E13) -> 331329.6 | F20: =SUM(F6:F13) -> 331329.6 | G20: =SUM(G6:G13) -> 331329.6 | H20: =SUM(H6:H13) -> 331329.6 | I20: =SUM(I6:I13) -> 331329.6 | ... K20: =SUM(K6:K13) -> 2981966.4
A21: Gesamt Projektfonds | B21: =SUM(B16:B18) -> 1600000 | C21: =SUM(C16:C18) -> 1600000 | D21: =SUM(D16:D18) -> 1600000 | E21: =SUM(E16:E18) -> 1600000 | F21: =SUM(F16:F18) -> 1600000 | G21: =SUM(G16:G18) -> 1600000 | H21: =SUM(H16:H18) -> 1600000 | I21: =SUM(I16:I18) -> 1600000 | ... K21: =SUM(K16:K18) -> 14400000
A22: Summe "Frühkindliche Bildung" | B22: =SUM(B20:B21) -> 1931329.6 | C22: =SUM(C20:C21) -> 1931329.6 | D22: =SUM(D20:D21) -> 1931329.6 | E22: =SUM(E20:E21) -> 1931329.6 | F22: =SUM(F20:F21) -> 1931329.6 | G22: =SUM(G20:G21) -> 1931329.6 | H22: =SUM(H20:H21) -> 1931329.6 | I22: =SUM(I20:I21) -> 1931329.6 | ... K22: =SUM(K20:K21) -> 17381966
A26: 1 = Tarif TV-LPersonalkosten / Arbeitgeber-Brutto lt. Hamburger Tabelle:
A27: =Gesamt!A404 -> 100 % E13 = 83.054 €/a
A28: 2 = Sitzungsgeld = 100 €/Tag und SelbstständigE/ER
A29: 3 = Fahrtkosten/Unterkunft (10 TN/Gremium x 1.000 €/Jahr, inkl. Veranstaltungsteilnahme)
A30: =Gesamt!A408 -> 4 = Projektfonds deckt ALLE für die Planung, Organisation, Durchführung, Öffentlichkeitsarbeit und Dokumentation anfallenden Projektekosten: Honorare (inkl. der Projektleitung), Mieten, Catering, Technik- u.a. Sachkosten etc.

Sheet FFSchule
A1: Fachforum Schule
B3: 2022 | C3: 2023 | D3: 2024 | E3: 2025 | F3: 2026 | G3: 2027 | H3: 2028 | I3: 2029 | J3: 2030 | K3: Gesamt
A5: Gremienarbeit
A6: Personal 2x100% (Betreuung und Koordinierung des Gremiums und seiner Projekte)1 | B6: =2*Gesamt!A405 -> 166108 | C6: =B6 -> 166108 | D6: =C6 -> 166108 | E6: =D6 -> 166108 | F6: =E6 -> 166108 | G6: =F6 -> 166108 | H6: =G6 -> 166108 | I6: =H6 -> 166108 | J6: =I6 -> 166108 | K6: =SUM(B6:J6) -> 1494972
A7: Bürokosten | K7: =SUM(B7:J7) -> 0
A8: Overhead (20% Personalkosten) | B8: =B6*0.2 -> 33221.6 | C8: =C6*0.2 -> 33221.6 | D8: =D6*0.2 -> 33221.6 | E8: =E6*0.2 -> 33221.6 | F8: =F6*0.2 -> 33221.6 | G8: =G6*0.2 -> 33221.6 | H8: =H6*0.2 -> 33221.6 | I8: =I6*0.2 -> 33221.6 | ... K8: =K6*0.2 -> 298994.4
A9: Sitzungsgelder (10 Selbstständige, 1 Sitzung/Monat)2 | B9: =10*12*100 -> 12000 | C9: =B9 -> 12000 | D9: =C9 -> 12000 | E9: =D9 -> 12000 | F9: =E9 -> 12000 | G9: =F9 -> 12000 | H9: =G9 -> 12000 | I9: =H9 -> 12000 | J9: =I9 -> 12000 | K9: =SUM(B9:J9) -> 108000
A10: Fahrtkosten/Unterkunft3 | B10: =10*1000 -> 10000 | C10: =B10 -> 10000 | D10: =C10 -> 10000 | E10: =D10 -> 10000 | F10: =E10 -> 10000 | G10: =F10 -> 10000 | H10: =G10 -> 10000 | I10: =H10 -> 10000 | J10: =I10 -> 10000 | K10: =SUM(B10:J10) -> 90000
A11: Öffentlichkeitsarbeit (Zuarbeit zum BNE-Portal, 30 AT/Jahr, 300 € brutto/AT) | B11: =30*300 -> 9000 | C11: =B11 -> 9000 | D11: =C11 -> 9000 | E11: =D11 -> 9000 | F11: =E11 -> 9000 | G11: =F11 -> 9000 | H11: =G11 -> 9000 | I11: =H11 -> 9000 | J11: =I11 -> 9000 | K11: =SUM(B11:J11) -> 81000
A12: Referent*innen (2xJahr Input, 500 €/Input) | B12: =2*500 -> 1000 | C12: =B12 -> 1000 | D12: =C12 -> 1000 | E12: =D12 -> 1000 | F12: =E12 -> 1000 | G12: =F12 -> 1000 | H12: =G12 -> 1000 | I12: =H12 -> 1000 | J12: =I12 -> 1000 | K12: =SUM(B12:J12) -> 9000
A13: Gutachten/Studien u.a. (2x/Jahr) | B13: =2*50000 -> 100000 | C13: =B13 -> 100000 | D13: =C13 -> 100000 | E13: =D13 -> 100000 | F13: =E13 -> 100000 | G13: =F13 -> 100000 | H13: =G13 -> 100000 | I13: =H13 -> 100000 | J13: =I13 -> 100000 | K13: =SUM(B13:J13) -> 900000
A15: Projektfonds4
A16: Projekt 1: Veranstaltungen „BNE in den Schulen“ (Präsenz, 6xJahr für Nord-, Mittel-, Süddeutschland) | B16: =6*100000 -> 600000 | C16: =B16 -> 600000 | D16: =C16 -> 600000 | E16: =D16 -> 600000 | F16: =E16 -> 600000 | G16: =F16 -> 600000 | H16: =G16 -> 600000 | I16: =H16 -> 600000 | J16: =I16 -> 600000 | K16: =SUM(B16:J16) -> 5400000
A17: Projekt 2: (Fort-)Bildungsmaterialien (Bücher, Spiele, A/V, digitale Bildungsformate) | B17: 1000000 | C17: =B17 -> 1000000 | D17: =C17 -> 1000000 | E17: =D17 -> 1000000 | F17: =E17 -> 1000000 | G17: =F17 -> 1000000 | H17: =G17 -> 1000000 | I17: =H17 -> 1000000 | J17: =I17 -> 1000000 | K17: =SUM(B17:J17) -> 9000000
A18: Projekt 3 | K18: =SUM(B18:J18) -> 0
A20: Gesamt Gremienarbeit FF Schule | B20: =SUM(B6:B13) -> 331329.6 | C20: =SUM(C6:C13) -> 331329.6 | D20: =SUM(D6:D13) -> 331329.6 | E20: =SUM(E6:E13) -> 331329.6 | F20: =SUM(F6:F13) -> 331329.6 | G20: =SUM(G6:G13) -> 331329.6 | H20: =SUM(H6:H13) -> 331329.6 | I20: =SUM(I6:I13) -> 331329.6 | ... K20: =SUM(K6:K13) -> 2981966.4
A21: Gesamt Projektfonds | B21: =SUM(B16:B18) -> 1600000 | C21: =SUM(C16:C18) -> 1600000 | D21: =SUM(D16:D18) -> 1600000 | E21: =SUM(E16:E18) -> 1600000 | F21: =SUM(F16:F18) -> 1600000 | G21: =SUM(G16:G18) -> 1600000 | H21: =SUM(H16:H18) -> 1600000 | I21: =SUM(I16:I18) -> 1600000 | ... K21: =SUM(K16:K18) -> 14400000
A22: Summe "Schule" | B22: =SUM(B20:B21) -> 1931329.6 | C22: =SUM(C20:C21) -> 1931329.6 | D22: =SUM(D20:D21) -> 1931329.6 | E22: =SUM(E20:E21) -> 1931329.6 | F22: =SUM(F20:F21) -> 1931329.6 | G22: =SUM(G20:G21) -> 1931329.6 | H22: =SUM(H20:H21) -> 1931329.6 | I22: =SUM(I20:I21) -> 1931329.6 | ... K22: =SUM(K20:K21) -> 17381966
A26: 1 = Tarif TV-LPersonalkosten / Arbeitgeber-Brutto lt. Hamburger Tabelle:
A27: =Gesamt!A404 -> 100 % E13 = 83.054 €/a
A28: 2 = Sitzungsgeld = 100 €/Tag und SelbstständigE/ER
A29: 3 = Fahrtkosten/Unterkunft (10 TN/Gremium x 1.000 €/Jahr, inkl. Veranstaltungsteilnahme)
A30: =Gesamt!A408 -> 4 = Projektfonds deckt ALLE für die Planung, Organisation, Durchführung, Öffentlichkeitsarbeit und Dokumentation anfallenden Projektekosten: Honorare (inkl. der Projektleitung), Mieten, Catering, Technik- u.a. Sachkosten etc.

Sheet FFBBNE
A1: Fachforum Berufliche Bildung
B3: 2022 | C3: 2023 | D3: 2024 | E3: 2025 | F3: 2026 | G3: 2027 | H3: 2028 | I3: 2029 | J3: 2030 | K3: Gesamt
A5: Gremienarbeit
A6: Personal 2x100% (Betreuung und Koordinierung des Gremiums und seiner Projekte)1 | B6: =2*Gesamt!A405 -> 166108 | C6: =B6 -> 166108 | D6: =C6 -> 166108 | E6: =D6 -> 166108 | F6: =E6 -> 166108 | G6: =F6 -> 166108 | H6: =G6 -> 166108 | I6: =H6 -> 166108 | J6: =I6 -> 166108 | K6: =SUM(B6:J6) -> 1494972
A7: Bürokosten | K7: =SUM(B7:J7) -> 0
A8: Overhead (20% Personalkosten) | B8: =B6*0.2 -> 33221.6 | C8: =C6*0.2 -> 33221.6 | D8: =D6*0.2 -> 33221.6 | E8: =E6*0.2 -> 33221.6 | F8: =F6*0.2 -> 33221.6 | G8: =G6*0.2 -> 33221.6 | H8: =H6*0.2 -> 33221.6 | I8: =I6*0.2 -> 33221.6 | ... K8: =K6*0.2 -> 298994.4
A9: Sitzungsgelder (10 Selbstständige, 1 Sitzung/Monat)2 | B9: =10*12*100 -> 12000 | C9: =B9 -> 12000 | D9: =C9 -> 12000 | E9: =D9 -> 12000 | F9: =E9 -> 12000 | G9: =F9 -> 12000 | H9: =G9 -> 12000 | I9: =H9 -> 12000 | J9: =I9 -> 12000 | K9: =SUM(B9:J9) -> 108000
A10: Fahrtkosten/Unterkunft3 | B10: =10*1000 -> 10000 | C10: =B10 -> 10000 | D10: =C10 -> 10000 | E10: =D10 -> 10000 | F10: =E10 -> 10000 | G10: =F10 -> 10000 | H10: =G10 -> 10000 | I10: =H10 -> 10000 | J10: =I10 -> 10000 | K10: =SUM(B10:J10) -> 90000
A11: Öffentlichkeitsarbeit (Zuarbeit zum BNE-Portal, 30 AT/Jahr, 300 € brutto/AT) | B11: =30*300 -> 9000 | C11: =B11 -> 9000 | D11: =C11 -> 9000 | E11: =D11 -> 9000 | F11: =E11 -> 9000 | G11: =F11 -> 9000 | H11: =G11 -> 9000 | I11: =H11 -> 9000 | J11: =I11 -> 9000 | K11: =SUM(B11:J11) -> 81000
A12: Referent*innen (2xJahr Input, 500 €/Input) | B12: =2*500 -> 1000 | C12: =B12 -> 1000 | D12: =C12 -> 1000 | E12: =D12 -> 1000 | F12: =E12 -> 1000 | G12: =F12 -> 1000 | H12: =G12 -> 1000 | I12: =H12 -> 1000 | J12: =I12 -> 1000 | K12: =SUM(B12:J12) -> 9000
A13: Gutachten/Studien u.a. (2x/Jahr) | B13: =2*50000 -> 100000 | C13: =B13 -> 100000 | D13: =C13 -> 100000 | E13: =D13 -> 100000 | F13: =E13 -> 100000 | G13: =F13 -> 100000 | H13: =G13 -> 100000 | I13: =H13 -> 100000 | J13: =I13 -> 100000 | K13: =SUM(B13:J13) -> 900000
A15: Projektfonds4
A16: Projekt 1: Veranstaltungen „BNE in der Beruflichen Bildung“ (Präsenz, 6xJahr für Nord-, Mittel-, Süddeutschland) | B16: =6*100000 -> 600000 | C16: =B16 -> 600000 | D16: =C16 -> 600000 | E16: =D16 -> 600000 | F16: =E16 -> 600000 | G16: =F16 -> 600000 | H16: =G16 -> 600000 | I16: =H16 -> 600000 | J16: =I16 -> 600000 | K16: =SUM(B16:J16) -> 5400000
A17: Projekt 2: (Fort-)Bildungsmaterialien (Print, A/V, digitale Bildungsformate) | B17: 1000000 | C17: =B17 -> 1000000 | D17: =C17 -> 1000000 | E17: =D17 -> 1000000 | F17: =E17 -> 1000000 | G17: =F17 -> 1000000 | H17: =G17 -> 1000000 | I17: =H17 -> 1000000 | J17: =I17 -> 1000000 | K17: =SUM(B17:J17) -> 9000000
A18: Projekt 3 | K18: =SUM(B18:J18) -> 0
A20: Gesamt Gremienarbeit FF Berufliche Bildung | B20: =SUM(B6:B13) -> 331329.6 | C20: =SUM(C6:C13) -> 331329.6 | D20: =SUM(D6:D13) -> 331329.6 | E20: =SUM(E6:E13) -> 331329.6 | F20: =SUM(F6:F13) -> 331329.6 | G20: =SUM(G6:G13) -> 331329.6 | H20: =SUM(H6:H13) -> 331329.6 | I20: =SUM(I6:I13) -> 331329.6 | ... K20: =SUM(K6:K13) -> 2981966.4
A21: Gesamt Projektfonds | B21: =SUM(B16:B18) -> 1600000 | C21: =SUM(C16:C18) -> 1600000 | D21: =SUM(D16:D18) -> 1600000 | E21: =SUM(E16:E18) -> 1600000 | F21: =SUM(F16:F18) -> 1600000 | G21: =SUM(G16:G18) -> 1600000 | H21: =SUM(H16:H18) -> 1600000 | I21: =SUM(I16:I18) -> 1600000 | ... K21: =SUM(K16:K18) -> 14400000
A22: Summe "Berufliche Bildung" | B22: =SUM(B20:B21) -> 1931329.6 | C22: =SUM(C20:C21) -> 1931329.6 | D22: =SUM(D20:D21) -> 1931329.6 | E22: =SUM(E20:E21) -> 1931329.6 | F22: =SUM(F20:F21) -> 1931329.6 | G22: =SUM(G20:G21) -> 1931329.6 | H22: =SUM(H20:H21) -> 1931329.6 | I22: =SUM(I20:I21) -> 1931329.6 | ... K22: =SUM(K20:K21) -> 17381966
A26: 1 = Tarif TV-LPersonalkosten / Arbeitgeber-Brutto lt. Hamburger Tabelle:
A27: =Gesamt!A404 -> 100 % E13 = 83.054 €/a
A28: 2 = Sitzungsgeld = 100 €/Tag und SelbstständigE/ER
A29: 3 = Fahrtkosten/Unterkunft (10 TN/Gremium x 1.000 €/Jahr, inkl. Veranstaltungsteilnahme)
A30: =Gesamt!A408 -> 4 = Projektfonds deckt ALLE für die Planung, Organisation, Durchführung, Öffentlichkeitsarbeit und Dokumentation anfallenden Projektekosten: Honorare (inkl. der Projektleitung), Mieten, Catering, Technik- u.a. Sachkosten etc.

Sheet FFHoch
A1: Fachforum Hochschule
B3: 2022 | C3: 2023 | D3: 2024 | E3: 2025 | F3: 2026 | G3: 2027 | H3: 2028 | I3: 2029 | J3: 2030 | K3: Gesamt
A5: Gremienarbeit
A6: Personal 2x100% (Betreuung und Koordinierung des Gremiums und seiner Projekte)1 | B6: =2*Gesamt!A405 -> 166108 | C6: =B6 -> 166108 | D6: =C6 -> 166108 | E6: =D6 -> 166108 | F6: =E6 -> 166108 | G6: =F6 -> 166108 | H6: =G6 -> 166108 | I6: =H6 -> 166108 | J6: =I6 -> 166108 | K6: =SUM(B6:J6) -> 1494972
A7: Bürokosten | K7: =SUM(B7:J7) -> 0
A8: Overhead (20% Personalkosten) | B8: =B6*0.2 -> 33221.6 | C8: =C6*0.2 -> 33221.6 | D8: =D6*0.2 -> 33221.6 | E8: =E6*0.2 -> 33221.6 | F8: =F6*0.2 -> 33221.6 | G8: =G6*0.2 -> 33221.6 | H8: =H6*0.2 -> 33221.6 | I8: =I6*0.2 -> 33221.6 | ... K8: =K6*0.2 -> 298994.4
A9: Sitzungsgelder (10 Selbstständige, 1 Sitzung/Monat)2 | B9: =10*12*100 -> 12000 | C9: =B9 -> 12000 | D9: =C9 -> 12000 | E9: =D9 -> 12000 | F9: =E9 -> 12000 | G9: =F9 -> 12000 | H9: =G9 -> 12000 | I9: =H9 -> 12000 | J9: =I9 -> 12000 | K9: =SUM(B9:J9) -> 108000
A10: Fahrtkosten/Unterkunft3 | B10: =10*1000 -> 10000 | C10: =B10 -> 10000 | D10: =C10 -> 10000 | E10: =D10 -> 10000 | F10: =E10 -> 10000 | G10: =F10 -> 10000 | H10: =G10 -> 10000 | I10: =H10 -> 10000 | J10: =I10 -> 10000 | K10: =SUM(B10:J10) -> 90000
A11: Öffentlichkeitsarbeit (Zuarbeit zum BNE-Portal, 30 AT/Jahr, 300 € brutto/AT) | B11: =30*300 -> 9000 | C11: =B11 -> 9000 | D11: =C11 -> 9000 | E11: =D11 -> 9000 | F11: =E11 -> 9000 | G11: =F11 -> 9000 | H11: =G11 -> 9000 | I11: =H11 -> 9000 | J11: =I11 -> 9000 | K11: =SUM(B11:J11) -> 81000
A12: Referent*innen (2xJahr Input, 500 €/Input) | B12: =2*500 -> 1000 | C12: =B12 -> 1000 | D12: =C12 -> 1000 | E12: =D12 -> 1000 | F12: =E12 -> 1000 | G12: =F12 -> 1000 | H12: =G12 -> 1000 | I12: =H12 -> 1000 | J12: =I12 -> 1000 | K12: =SUM(B12:J12) -> 9000
A13: Gutachten/Studien u.a. (2x/Jahr) | B13: =2*50000 -> 100000 | C13: =B13 -> 100000 | D13: =C13 -> 100000 | E13: =D13 -> 100000 | F13: =E13 -> 100000 | G13: =F13 -> 100000 | H13: =G13 -> 100000 | I13: =H13 -> 100000 | J13: =I13 -> 100000 | K13: =SUM(B13:J13) -> 900000
A15: Projektfonds4
A16: Projekt 1: Veranstaltungen „BNE in der Hochschule“ (Präsenz, 6xJahr für Nord-, Mittel-, Süddeutschland) | B16: =6*100000 -> 600000 | C16: =B16 -> 600000 | D16: =C16 -> 600000 | E16: =D16 -> 600000 | F16: =E16 -> 600000 | G16: =F16 -> 600000 | H16: =G16 -> 600000 | I16: =H16 -> 600000 | J16: =I16 -> 600000 | K16: =SUM(B16:J16) -> 5400000
A17: Projekt 2: (Fort-)Bildungsmaterialien (Print, A/V, digitale Bildungsformate) | B17: 1000000 | C17: =B17 -> 1000000 | D17: =C17 -> 1000000 | E17: =D17 -> 1000000 | F17: =E17 -> 1000000 | G17: =F17 -> 1000000 | H17: =G17 -> 1000000 | I17: =H17 -> 1000000 | J17: =I17 -> 1000000 | K17: =SUM(B17:J17) -> 9000000
A18: Projekt 3 | K18: =SUM(B18:J18) -> 0
A20: Gesamt Gremienarbeit FF Hochschule | B20: =SUM(B6:B13) -> 331329.6 | C20: =SUM(C6:C13) -> 331329.6 | D20: =SUM(D6:D13) -> 331329.6 | E20: =SUM(E6:E13) -> 331329.6 | F20: =SUM(F6:F13) -> 331329.6 | G20: =SUM(G6:G13) -> 331329.6 | H20: =SUM(H6:H13) -> 331329.6 | I20: =SUM(I6:I13) -> 331329.6 | ... K20: =SUM(K6:K13) -> 2981966.4
A21: Gesamt Projektfonds | B21: =SUM(B16:B18) -> 1600000 | C21: =SUM(C16:C18) -> 1600000 | D21: =SUM(D16:D18) -> 1600000 | E21: =SUM(E16:E18) -> 1600000 | F21: =SUM(F16:F18) -> 1600000 | G21: =SUM(G16:G18) -> 1600000 | H21: =SUM(H16:H18) -> 1600000 | I21: =SUM(I16:I18) -> 1600000 | ... K21: =SUM(K16:K18) -> 14400000
A22: Summe "Hochschule" | B22: =SUM(B20:B21) -> 1931329.6 | C22: =SUM(C20:C21) -> 1931329.6 | D22: =SUM(D20:D21) -> 1931329.6 | E22: =SUM(E20:E21) -> 1931329.6 | F22: =SUM(F20:F21) -> 1931329.6 | G22: =SUM(G20:G21) -> 1931329.6 | H22: =SUM(H20:H21) -> 1931329.6 | I22: =SUM(I20:I21) -> 1931329.6 | ... K22: =SUM(K20:K21) -> 17381966
A26: 1 = Tarif TV-LPersonalkosten / Arbeitgeber-Brutto lt. Hamburger Tabelle:
A27: =Gesamt!A404 -> 100 % E13 = 83.054 €/a
A28: 2 = Sitzungsgeld = 100 €/Tag und SelbstständigE/ER
A29: 3 = Fahrtkosten/Unterkunft (10 TN/Gremium x 1.000 €/Jahr, inkl. Veranstaltungsteilnahme)
A30: =Gesamt!A408 -> 4 = Projektfonds deckt ALLE für die Planung, Organisation, Durchführung, Öffentlichkeitsarbeit und Dokumentation anfallenden Projektekosten: Honorare (inkl. der Projektleitung), Mieten, Catering, Technik- u.a. Sachkosten etc.

Sheet FFNonformal
A1: Fachforum Nonformale Bildung
B3: 2022 | C3: 2023 | D3: 2024 | E3: 2025 | F3: 2026 | G3: 2027 | H3: 2028 | I3: 2029 | J3: 2030 | K3: Gesamt
A5: Gremienarbeit
A6: Personal 2x100% (Betreuung und Koordinierung des Gremiums und seiner Projekte)1 | B6: =2*Gesamt!A405 -> 166108 | C6: =B6 -> 166108 | D6: =C6 -> 166108 | E6: =D6 -> 166108 | F6: =E6 -> 166108 | G6: =F6 -> 166108 | H6: =G6 -> 166108 | I6: =H6 -> 166108 | J6: =I6 -> 166108 | K6: =SUM(B6:J6) -> 1494972
A7: Bürokosten | K7: =SUM(B7:J7) -> 0
A8: Overhead (20% Personalkosten) | B8: =B6*0.2 -> 33221.6 | C8: =C6*0.2 -> 33221.6 | D8: =D6*0.2 -> 33221.6 | E8: =E6*0.2 -> 33221.6 | F8: =F6*0.2 -> 33221.6 | G8: =G6*0.2 -> 33221.6 | H8: =H6*0.2 -> 33221.6 | I8: =I6*0.2 -> 33221.6 | ... K8: =K6*0.2 -> 298994.4
A9: Sitzungsgelder (10 Selbstständige, 1 Sitzung/Monat)2 | B9: =10*12*100 -> 12000 | C9: =B9 -> 12000 | D9: =C9 -> 12000 | E9: =D9 -> 12000 | F9: =E9 -> 12000 | G9: =F9 -> 12000 | H9: =G9 -> 12000 | I9: =H9 -> 12000 | J9: =I9 -> 12000 | K9: =SUM(B9:J9) -> 108000
A10: Fahrtkosten/Unterkunft3 | B10: =10*1000 -> 10000 | C10: =B10 -> 10000 | D10: =C10 -> 10000 | E10: =D10 -> 10000 | F10: =E10 -> 10000 | G10: =F10 -> 10000 | H10: =G10 -> 10000 | I10: =H10 -> 10000 | J10: =I10 -> 10000 | K10: =SUM(B10:J10) -> 90000
A11: Öffentlichkeitsarbeit (Zuarbeit zum BNE-Portal, 30 AT/Jahr, 300 € brutto/AT) | B11: =30*300 -> 9000 | C11: =B11 -> 9000 | D11: =C11 -> 9000 | E11: =D11 -> 9000 | F11: =E11 -> 9000 | G11: =F11 -> 9000 | H11: =G11 -> 9000 | I11: =H11 -> 9000 | J11: =I11 -> 9000 | K11: =SUM(B11:J11) -> 81000
A12: Referent*innen (2xJahr Input, 500 €/Input) | B12: =2*500 -> 1000 | C12: =B12 -> 1000 | D12: =C12 -> 1000 | E12: =D12 -> 1000 | F12: =E12 -> 1000 | G12: =F12 -> 1000 | H12: =G12 -> 1000 | I12: =H12 -> 1000 | J12: =I12 -> 1000 | K12: =SUM(B12:J12) -> 9000
A13: Gutachten/Studien u.a. (2x/Jahr) | B13: =2*50000 -> 100000 | C13: =B13 -> 100000 | D13: =C13 -> 100000 | E13: =D13 -> 100000 | F13: =E13 -> 100000 | G13: =F13 -> 100000 | H13: =G13 -> 100000 | I13: =H13 -> 100000 | J13: =I13 -> 100000 | K13: =SUM(B13:J13) -> 900000
A15: Projektfonds4
A16: Projekt 1: Veranstaltungen „BNE in der Nonformalen Bildung“ (Präsenz, 6xJahr für Nord-, Mittel-, Süddeutschland) | B16: =6*100000 -> 600000 | C16: =B16 -> 600000 | D16: =C16 -> 600000 | E16: =D16 -> 600000 | F16: =E16 -> 600000 | G16: =F16 -> 600000 | H16: =G16 -> 600000 | I16: =H16 -> 600000 | J16: =I16 -> 600000 | K16: =SUM(B16:J16) -> 5400000
A17: Projekt 2: (Fort-)Bildungsmaterialien (Print, A/V, digitale Bildungsformate) | B17: 1000000 | C17: =B17 -> 1000000 | D17: =C17 -> 1000000 | E17: =D17 -> 1000000 | F17: =E17 -> 1000000 | G17: =F17 -> 1000000 | H17: =G17 -> 1000000 | I17: =H17 -> 1000000 | J17: =I17 -> 1000000 | K17: =SUM(B17:J17) -> 9000000
A18: Projekt 3 | K18: =SUM(B18:J18) -> 0
A20: Gesamt Gremienarbeit FF Nonformale Bildung | B20: =SUM(B6:B13) -> 331329.6 | C20: =SUM(C6:C13) -> 331329.6 | D20: =SUM(D6:D13) -> 331329.6 | E20: =SUM(E6:E13) -> 331329.6 | F20: =SUM(F6:F13) -> 331329.6 | G20: =SUM(G6:G13) -> 331329.6 | H20: =SUM(H6:H13) -> 331329.6 | I20: =SUM(I6:I13) -> 331329.6 | ... K20: =SUM(K6:K13) -> 2981966.4
A21: Gesamt Projektfonds | B21: =SUM(B16:B18) -> 1600000 | C21: =SUM(C16:C18) -> 1600000 | D21: =SUM(D16:D18) -> 1600000 | E21: =SUM(E16:E18) -> 1600000 | F21: =SUM(F16:F18) -> 1600000 | G21: =SUM(G16:G18) -> 1600000 | H21: =SUM(H16:H18) -> 1600000 | I21: =SUM(I16:I18) -> 1600000 | ... K21: =SUM(K16:K18) -> 14400000
A22: Summe "Nonformale Bildung" | B22: =SUM(B20:B21) -> 1931329.6 | C22: =SUM(C20:C21) -> 1931329.6 | D22: =SUM(D20:D21) -> 1931329.6 | E22: =SUM(E20:E21) -> 1931329.6 | F22: =SUM(F20:F21) -> 1931329.6 | G22: =SUM(G20:G21) -> 1931329.6 | H22: =SUM(H20:H21) -> 1931329.6 | I22: =SUM(I20:I21) -> 1931329.6 | ... K22: =SUM(K20:K21) -> 17381966
A26: 1 = Tarif TV-LPersonalkosten / Arbeitgeber-Brutto lt. Hamburger Tabelle:
A27: =Gesamt!A404 -> 100 % E13 = 83.054 €/a
A28: 2 = Sitzungsgeld = 100 €/Tag und SelbstständigE/ER
A29: 3 = Fahrtkosten/Unterkunft (10 TN/Gremium x 1.000 €/Jahr, inkl. Veranstaltungsteilnahme)
A30: =Gesamt!A408 -> 4 = Projektfonds deckt ALLE für die Planung, Organisation, Durchführung, Öffentlichkeitsarbeit und Dokumentation anfallenden Projektekosten: Honorare (inkl. der Projektleitung), Mieten, Catering, Technik- u.a. Sachkosten etc.

Sheet FFKommune
A1: Fachforum Kommunen
B3: 2022 | C3: 2023 | D3: 2024 | E3: 2025 | F3: 2026 | G3: 2027 | H3: 2028 | I3: 2029 | J3: 2030 | K3: Gesamt
A5: Gremienarbeit
A6: Personal 2x100% (Betreuung und Koordinierung des Gremiums und seiner Projekte)1 | B6: =2*Gesamt!A405 -> 166108 | C6: =B6 -> 166108 | D6: =C6 -> 166108 | E6: =D6 -> 166108 | F6: =E6 -> 166108 | G6: =F6 -> 166108 | H6: =G6 -> 166108 | I6: =H6 -> 166108 | J6: =I6 -> 166108 | K6: =SUM(B6:J6) -> 1494972
A7: Bürokosten | K7: =SUM(B7:J7) -> 0
A8: Overhead (20% Personalkosten) | B8: =B6*0.2 -> 33221.6 | C8: =C6*0.2 -> 33221.6 | D8: =D6*0.2 -> 33221.6 | E8: =E6*0.2 -> 33221.6 | F8: =F6*0.2 -> 33221.6 | G8: =G6*0.2 -> 33221.6 | H8: =H6*0.2 -> 33221.6 | I8: =I6*0.2 -> 33221.6 | ... K8: =K6*0.2 -> 298994.4
A9: Sitzungsgelder (10 Selbstständige, 1 Sitzung/Monat)2 | B9: =10*12*100 -> 12000 | C9: =B9 -> 12000 | D9: =C9 -> 12000 | E9: =D9 -> 12000 | F9: =E9 -> 12000 | G9: =F9 -> 12000 | H9: =G9 -> 12000 | I9: =H9 -> 12000 | J9: =I9 -> 12000 | K9: =SUM(B9:J9) -> 108000
A10: Fahrtkosten/Unterkunft3 | B10: =10*1000 -> 10000 | C10: =B10 -> 10000 | D10: =C10 -> 10000 | E10: =D10 -> 10000 | F10: =E10 -> 10000 | G10: =F10 -> 10000 | H10: =G10 -> 10000 | I10: =H10 -> 10000 | J10: =I10 -> 10000 | K10: =SUM(B10:J10) -> 90000
A11: Öffentlichkeitsarbeit (Zuarbeit zum BNE-Portal, 30 AT/Jahr, 300 € brutto/AT) | B11: =30*300 -> 9000 | C11: =B11 -> 9000 | D11: =C11 -> 9000 | E11: =D11 -> 9000 | F11: =E11 -> 9000 | G11: =F11 -> 9000 | H11: =G11 -> 9000 | I11: =H11 -> 9000 | J11: =I11 -> 9000 | K11: =SUM(B11:J11) -> 81000
A12: Referent*innen (2xJahr Input, 500 €/Input) | B12: =2*500 -> 1000 | C12: =B12 -> 1000 | D12: =C12 -> 1000 | E12: =D12 -> 1000 | F12: =E12 -> 1000 | G12: =F12 -> 1000 | H12: =G12 -> 1000 | I12: =H12 -> 1000 | J12: =I12 -> 1000 | K12: =SUM(B12:J12) -> 9000
A13: Gutachten/Studien u.a. (2x/Jahr) | B13: =2*50000 -> 100000 | C13: =B13 -> 100000 | D13: =C13 -> 100000 | E13: =D13 -> 100000 | F13: =E13 -> 100000 | G13: =F13 -> 100000 | H13: =G13 -> 100000 | I13: =H13 -> 100000 | J13: =I13 -> 100000 | K13: =SUM(B13:J13) -> 900000
A15: Projektfonds4
A16: Projekt 1: Veranstaltungen „BNE in der Kommune“ (Präsenz, 6xJahr für Nord-, Mittel-, Süddeutschland) | B16: =6*100000 -> 600000 | C16: =B16 -> 600000 | D16: =C16 -> 600000 | E16: =D16 -> 600000 | F16: =E16 -> 600000 | G16: =F16 -> 600000 | H16: =G16 -> 600000 | I16: =H16 -> 600000 | J16: =I16 -> 600000 | K16: =SUM(B16:J16) -> 5400000
A17: Projekt 2: (Fort-)Bildungsmaterialien (Print, A/V, digitale Bildungsformate) | B17: 1000000 | C17: =B17 -> 1000000 | D17: =C17 -> 1000000 | E17: =D17 -> 1000000 | F17: =E17 -> 1000000 | G17: =F17 -> 1000000 | H17: =G17 -> 1000000 | I17: =H17 -> 1000000 | J17: =I17 -> 1000000 | K17: =SUM(B17:J17) -> 9000000
A18: Projekt 3 | K18: =SUM(B18:J18) -> 0
A20: Gesamt Gremienarbeit FF Kommunen | B20: =SUM(B6:B13) -> 331329.6 | C20: =SUM(C6:C13) -> 331329.6 | D20: =SUM(D6:D13) -> 331329.6 | E20: =SUM(E6:E13) -> 331329.6 | F20: =SUM(F6:F13) -> 331329.6 | G20: =SUM(G6:G13) -> 331329.6 | H20: =SUM(H6:H13) -> 331329.6 | I20: =SUM(I6:I13) -> 331329.6 | ... K20: =SUM(K6:K13) -> 2981966.4
A21: Gesamt Projektfonds | B21: =SUM(B16:B18) -> 1600000 | C21: =SUM(C16:C18) -> 1600000 | D21: =SUM(D16:D18) -> 1600000 | E21: =SUM(E16:E18) -> 1600000 | F21: =SUM(F16:F18) -> 1600000 | G21: =SUM(G16:G18) -> 1600000 | H21: =SUM(H16:H18) -> 1600000 | I21: =SUM(I16:I18) -> 1600000 | ... K21: =SUM(K16:K18) -> 14400000
A22: Summe "Kommunen" | B22: =SUM(B20:B21) -> 1931329.6 | C22: =SUM(C20:C21) -> 1931329.6 | D22: =SUM(D20:D21) -> 1931329.6 | E22: =SUM(E20:E21) -> 1931329.6 | F22: =SUM(F20:F21) -> 1931329.6 | G22: =SUM(G20:G21) -> 1931329.6 | H22: =SUM(H20:H21) -> 1931329.6 | I22: =SUM(I20:I21) -> 1931329.6 | ... K22: =SUM(K20:K21) -> 17381966
A26: 1 = Tarif TV-LPersonalkosten / Arbeitgeber-Brutto lt. Hamburger Tabelle:
A27: =Gesamt!A404 -> 100 % E13 = 83.054 €/a
A28: 2 = Sitzungsgeld = 100 €/Tag und SelbstständigE/ER
A29: 3 = Fahrtkosten/Unterkunft (10 TN/Gremium x 1.000 €/Jahr, inkl. Veranstaltungsteilnahme)
A30: =Gesamt!A408 -> 4 = Projektfonds deckt ALLE für die Planung, Organisation, Durchführung, Öffentlichkeitsarbeit und Dokumentation anfallenden Projektekosten: Honorare (inkl. der Projektleitung), Mieten, Catering, Technik- u.a. Sachkosten etc.

Sheet youpaN
A1: youpaN
B3: 2022 | C3: 2023 | D3: 2024 | E3: 2025 | F3: 2026 | G3: 2027 | H3: 2028 | I3: 2029 | J3: 2030 | K3: Gesamt
A5: Gremienarbeit
A6: Personal 2x100% (Betreuung und Koordinierung des Gremiums und seiner Projekte)1 | B6: =2*Gesamt!A405 -> 166108 | C6: =B6 -> 166108 | D6: =C6 -> 166108 | E6: =D6 -> 166108 | F6: =E6 -> 166108 | G6: =F6 -> 166108 | H6: =G6 -> 166108 | I6: =H6 -> 166108 | J6: =I6 -> 166108 | K6: =SUM(B6:J6) -> 1494972
A7: Bürokosten | K7: =SUM(B7:J7) -> 0
A8: Overhead (20% Personalkosten) | B8: =B6*0.2 -> 33221.6 | C8: =C6*0.2 -> 33221.6 | D8: =D6*0.2 -> 33221.6 | E8: =E6*0.2 -> 33221.6 | F8: =F6*0.2 -> 33221.6 | G8: =G6*0.2 -> 33221.6 | H8: =H6*0.2 -> 33221.6 | I8: =I6*0.2 -> 33221.6 | ... K8: =K6*0.2 -> 298994.4
A9: Sitzungsgelder (10 Selbstständige, 1 Sitzung/Monat)2 | B9: =10*12*100 -> 12000 | C9: =B9 -> 12000 | D9: =C9 -> 12000 | E9: =D9 -> 12000 | F9: =E9 -> 12000 | G9: =F9 -> 12000 | H9: =G9 -> 12000 | I9: =H9 -> 12000 | J9: =I9 -> 12000 | K9: =SUM(B9:J9) -> 108000
A10: Fahrtkosten/Unterkunft3 | B10: =10*1000 -> 10000 | C10: =B10 -> 10000 | D10: =C10 -> 10000 | E10: =D10 -> 10000 | F10: =E10 -> 10000 | G10: =F10 -> 10000 | H10: =G10 -> 10000 | I10: =H10 -> 10000 | J10: =I10 -> 10000 | K10: =SUM(B10:J10) -> 90000
A11: Öffentlichkeitsarbeit (Zuarbeit zum BNE-Portal, 30 AT/Jahr, 300 € brutto/AT) | B11: =30*300 -> 9000 | C11: =B11 -> 9000 | D11: =C11 -> 9000 | E11: =D11 -> 9000 | F11: =E11 -> 9000 | G11: =F11 -> 9000 | H11: =G11 -> 9000 | I11: =H11 -> 9000 | J11: =I11 -> 9000 | K11: =SUM(B11:J11) -> 81000
A12: Referent*innen (2xJahr Input, 500 €/Input) | B12: =2*500 -> 1000 | C12: =B12 -> 1000 | D12: =C12 -> 1000 | E12: =D12 -> 1000 | F12: =E12 -> 1000 | G12: =F12 -> 1000 | H12: =G12 -> 1000 | I12: =H12 -> 1000 | J12: =I12 -> 1000 | K12: =SUM(B12:J12) -> 9000
A13: Gutachten/Studien u.a. (2x/Jahr) | B13: =2*50000 -> 100000 | C13: =B13 -> 100000 | D13: =C13 -> 100000 | E13: =D13 -> 100000 | F13: =E13 -> 100000 | G13: =F13 -> 100000 | H13: =G13 -> 100000 | I13: =H13 -> 100000 | J13: =I13 -> 100000 | K13: =SUM(B13:J13) -> 900000
A15: Projektfonds4
A16: Projekt 1: Veranstaltungen „BNE Youth“ (Präsenz, 6xJahr für Nord-, Mittel-, Süddeutschland) | B16: =6*100000 -> 600000 | C16: =B16 -> 600000 | D16: =C16 -> 600000 | E16: =D16 -> 600000 | F16: =E16 -> 600000 | G16: =F16 -> 600000 | H16: =G16 -> 600000 | I16: =H16 -> 600000 | J16: =I16 -> 600000 | K16: =SUM(B16:J16) -> 5400000
A17: Projekt 2: (Fort-)Bildungsmaterialien (A/V, digitale Bildungsformate) | B17: 1000000 | C17: =B17 -> 1000000 | D17: =C17 -> 1000000 | E17: =D17 -> 1000000 | F17: =E17 -> 1000000 | G17: =F17 -> 1000000 | H17: =G17 -> 1000000 | I17: =H17 -> 1000000 | J17: =I17 -> 1000000 | K17: =SUM(B17:J17) -> 9000000
A18: Projekt 3 | K18: =SUM(B18:J18) -> 0
A20: Gesamt Gremienarbeit FF youpaN | B20: =SUM(B6:B13) -> 331329.6 | C20: =SUM(C6:C13) -> 331329.6 | D20: =SUM(D6:D13) -> 331329.6 | E20: =SUM(E6:E13) -> 331329.6 | F20: =SUM(F6:F13) -> 331329.6 | G20: =SUM(G6:G13) -> 331329.6 | H20: =SUM(H6:H13) -> 331329.6 | I20: =SUM(I6:I13) -> 331329.6 | ... K20: =SUM(K6:K13) -> 2981966.4
A21: Gesamt Projektfonds | B21: =SUM(B16:B18) -> 1600000 | C21: =SUM(C16:C18) -> 1600000 | D21: =SUM(D16:D18) -> 1600000 | E21: =SUM(E16:E18) -> 1600000 | F21: =SUM(F16:F18) -> 1600000 | G21: =SUM(G16:G18) -> 1600000 | H21: =SUM(H16:H18) -> 1600000 | I21: =SUM(I16:I18) -> 1600000 | ... K21: =SUM(K16:K18) -> 14400000
A22: Summe "youpaN" | B22: =SUM(B20:B21) -> 1931329.6 | C22: =SUM(C20:C21) -> 1931329.6 | D22: =SUM(D20:D21) -> 1931329.6 | E22: =SUM(E20:E21) -> 1931329.6 | F22: =SUM(F20:F21) -> 1931329.6 | G22: =SUM(G20:G21) -> 1931329.6 | H22: =SUM(H20:H21) -> 1931329.6 | I22: =SUM(I20:I21) -> 1931329.6 | ... K22: =SUM(K20:K21) -> 17381966
A26: 1 = Tarif TV-LPersonalkosten / Arbeitgeber-Brutto lt. Hamburger Tabelle:
A27: =Gesamt!A404 -> 100 % E13 = 83.054 €/a
A28: 2 = Sitzungsgeld = 100 €/Tag und SelbstständigE/ER
A29: 3 = Fahrtkosten/Unterkunft (10 TN/Gremium x 1.000 €/Jahr, inkl. Veranstaltungsteilnahme)
A30: =Gesamt!A408 -> 4 = Projektfonds deckt ALLE für die Planung, Organisation, Durchführung, Öffentlichkeitsarbeit und Dokumentation anfallenden Projektekosten: Honorare (inkl. der Projektleitung), Mieten, Catering, Technik- u.a. Sachkosten etc.

Sheet PNFrühB
A1: Partnernetzwerk Frühkindliche Bildung
B3: 2022 | C3: 2023 | D3: 2024 | E3: 2025 | F3: 2026 | G3: 2027 | H3: 2028 | I3: 2029 | J3: 2030 | K3: Gesamt
A5: Gremienarbeit
A6: Personal 2x100% (Betreuung und Koordinierung des Gremiums und seiner Projekte)1 | B6: =2*Gesamt!A405 -> 166108 | C6: =B6 -> 166108 | D6: =C6 -> 166108 | E6: =D6 -> 166108 | F6: =E6 -> 166108 | G6: =F6 -> 166108 | H6: =G6 -> 166108 | I6: =H6 -> 166108 | J6: =I6 -> 166108 | K6: =SUM(B6:J6) -> 1494972
A7: Bürokosten | K7: =SUM(B7:J7) -> 0
A8: Overhead (20% Personalkosten) | B8: =B6*0.2 -> 33221.6 | C8: =C6*0.2 -> 33221.6 | D8: =D6*0.2 -> 33221.6 | E8: =E6*0.2 -> 33221.6 | F8: =F6*0.2 -> 33221.6 | G8: =G6*0.2 -> 33221.6 | H8: =H6*0.2 -> 33221.6 | I8: =I6*0.2 -> 33221.6 | J8: =J6*0.2 -> 33221.6 | K8: =SUM(B8:J8) -> 298994.4
A9: Sitzungsgelder (10 Selbstständige, 1 Sitzung/Monat)2 | B9: =10*12*100 -> 12000 | C9: =B9 -> 12000 | D9: =C9 -> 12000 | E9: =D9 -> 12000 | F9: =E9 -> 12000 | G9: =F9 -> 12000 | H9: =G9 -> 12000 | I9: =H9 -> 12000 | J9: =I9 -> 12000 | K9: =SUM(B9:J9) -> 108000
A10: Fahrtkosten/Unterkunft3 | B10: =10*1000 -> 10000 | C10: =B10 -> 10000 | D10: =C10 -> 10000 | E10: =D10 -> 10000 | F10: =E10 -> 10000 | G10: =F10 -> 10000 | H10: =G10 -> 10000 | I10: =H10 -> 10000 | J10: =I10 -> 10000 | K10: =SUM(B10:J10) -> 90000
A11: Öffentlichkeitsarbeit (Zuarbeit zum BNE-Portal, 30 AT/Jahr, 300 € brutto/AT) | B11: =30*300 -> 9000 | C11: =B11 -> 9000 | D11: =C11 -> 9000 | E11: =D11 -> 9000 | F11: =E11 -> 9000 | G11: =F11 -> 9000 | H11: =G11 -> 9000 | I11: =H11 -> 9000 | J11: =I11 -> 9000 | K11: =SUM(B11:J11) -> 81000
A12: Referent*innen (2xJahr Input, 500 €/Input) | B12: =2*500 -> 1000 | C12: =B12 -> 1000 | D12: =C12 -> 1000 | E12: =D12 -> 1000 | F12: =E12 -> 1000 | G12: =F12 -> 1000 | H12: =G12 -> 1000 | I12: =H12 -> 1000 | J12: =I12 -> 1000 | K12: =SUM(B12:J12) -> 9000
A13: Gutachten/Studien u.a. (1x/Jahr) | B13: =50000 -> 50000 | C13: =B13 -> 50000 | D13: =C13 -> 50000 | E13: =D13 -> 50000 | F13: =E13 -> 50000 | G13: =F13 -> 50000 | H13: =G13 -> 50000 | I13: =H13 -> 50000 | J13: =I13 -> 50000 | K13: =SUM(B13:J13) -> 450000
A15: Projektfonds4
A16: Projekt 1 | K16: =SUM(B16:J16) -> 0
A17: Projekt 2 | K17: =SUM(B17:J17) -> 0
A18: Projekt 3 | K18: =SUM(B18:J18) -> 0
A20: Gesamt Gremienarbeit PN Frühkindliche Bildung | B20: =SUM(B6:B13) -> 281329.6 | C20: =SUM(C6:C13) -> 281329.6 | D20: =SUM(D6:D13) -> 281329.6 | E20: =SUM(E6:E13) -> 281329.6 | F20: =SUM(F6:F13) -> 281329.6 | G20: =SUM(G6:G13) -> 281329.6 | H20: =SUM(H6:H13) -> 281329.6 | I20: =SUM(I6:I13) -> 281329.6 | ... K20: =SUM(K6:K13) -> 2531966.4
A21: Gesamt Projektfonds | B21: =SUM(B16:B18) -> 0 | C21: =SUM(C16:C18) -> 0 | D21: =SUM(D16:D18) -> 0 | E21: =SUM(E16:E18) -> 0 | F21: =SUM(F16:F18) -> 0 | G21: =SUM(G16:G18) -> 0 | H21: =SUM(H16:H18) -> 0 | I21: =SUM(I16:I18) -> 0 | ... K21: =SUM(K16:K18) -> 0
A22: Summe "PN Frühkindliche Bildung" | B22: =SUM(B20:B21) -> 281329.6 | C22: =SUM(C20:C21) -> 281329.6 | D22: =SUM(D20:D21) -> 281329.6 | E22: =SUM(E20:E21) -> 281329.6 | F22: =SUM(F20:F21) -> 281329.6 | G22: =SUM(G20:G21) -> 281329.6 | H22: =SUM(H20:H21) -> 281329.6 | I22: =SUM(I20:I21) -> 281329.6 | ... K22: =SUM(K20:K21) -> 2531966.4
A26: 1 = Tarif TV-LPersonalkosten / Arbeitgeber-Brutto lt. Hamburger Tabelle:
A27: =Gesamt!A404 -> 100 % E13 = 83.054 €/a
A28: 2 = Sitzungsgeld = 100 €/Tag und SelbstständigE/ER
A29: 3 = Fahrtkosten/Unterkunft (10 TN/Gremium x 1.000 €/Jahr, inkl. Veranstaltungsteilnahme)
A30: =Gesamt!A408 -> 4 = Projektfonds deckt ALLE für die Planung, Organisation, Durchführung, Öffentlichkeitsarbeit und Dokumentation anfallenden Projektekosten: Honorare (inkl. der Projektleitung), Mieten, Catering, Technik- u.a. Sachkosten etc.

Sheet PNBBNE
A1: Partnernetzwerk Berufliche Bildung
B3: 2022 | C3: 2023 | D3: 2024 | E3: 2025 | F3: 2026 | G3: 2027 | H3: 2028 | I3: 2029 | J3: 2030 | K3: Gesamt
A5: Gremienarbeit
A6: Personal 2x100% (Betreuung und Koordinierung des Gremiums und seiner Projekte)1 | B6: =2*Gesamt!A405 -> 166108 | C6: =B6 -> 166108 | D6: =C6 -> 166108 | E6: =D6 -> 166108 | F6: =E6 -> 166108 | G6: =F6 -> 166108 | H6: =G6 -> 166108 | I6: =H6 -> 166108 | J6: =I6 -> 166108 | K6: =SUM(B6:J6) -> 1494972
A7: Bürokosten | K7: =SUM(B7:J7) -> 0
A8: Overhead (20% Personalkosten) | B8: =B6*0.2 -> 33221.6 | C8: =C6*0.2 -> 33221.6 | D8: =D6*0.2 -> 33221.6 | E8: =E6*0.2 -> 33221.6 | F8: =F6*0.2 -> 33221.6 | G8: =G6*0.2 -> 33221.6 | H8: =H6*0.2 -> 33221.6 | I8: =I6*0.2 -> 33221.6 | ... K8: =K6*0.2 -> 298994.4
A9: Sitzungsgelder (10 Selbstständige, 1 Sitzung/Monat)2 | B9: =10*12*100 -> 12000 | C9: =B9 -> 12000 | D9: =C9 -> 12000 | E9: =D9 -> 12000 | F9: =E9 -> 12000 | G9: =F9 -> 12000 | H9: =G9 -> 12000 | I9: =H9 -> 12000 | J9: =I9 -> 12000 | K9: =SUM(B9:J9) -> 108000
A10: Fahrtkosten/Unterkunft3 | B10: =10*1000 -> 10000 | C10: =B10 -> 10000 | D10: =C10 -> 10000 | E10: =D10 -> 10000 | F10: =E10 -> 10000 | G10: =F10 -> 10000 | H10: =G10 -> 10000 | I10: =H10 -> 10000 | J10: =I10 -> 10000 | K10: =SUM(B10:J10) -> 90000
A11: Öffentlichkeitsarbeit (Zuarbeit zum BNE-Portal, 30 AT/Jahr, 300 € brutto/AT) | B11: =30*300 -> 9000 | C11: =B11 -> 9000 | D11: =C11 -> 9000 | E11: =D11 -> 9000 | F11: =E11 -> 9000 | G11: =F11 -> 9000 | H11: =G11 -> 9000 | I11: =H11 -> 9000 | J11: =I11 -> 9000 | K11: =SUM(B11:J11) -> 81000
A12: Referent*innen (2xJahr Input, 500 €/Input) | B12: =2*500 -> 1000 | C12: =B12 -> 1000 | D12: =C12 -> 1000 | E12: =D12 -> 1000 | F12: =E12 -> 1000 | G12: =F12 -> 1000 | H12: =G12 -> 1000 | I12: =H12 -> 1000 | J12: =I12 -> 1000 | K12: =SUM(B12:J12) -> 9000
A13: Gutachten/Studien u.a. (1x/Jahr) | B13: =50000 -> 50000 | C13: =B13 -> 50000 | D13: =C13 -> 50000 | E13: =D13 -> 50000 | F13: =E13 -> 50000 | G13: =F13 -> 50000 | H13: =G13 -> 50000 | I13: =H13 -> 50000 | J13: =I13 -> 50000 | K13: =SUM(B13:J13) -> 450000
A15: Projektfonds4
A16: Projekt 1 | K16: =SUM(B16:J16) -> 0
A17: Projekt 2 | K17: =SUM(B17:J17) -> 0
A18: Projekt 3 | K18: =SUM(B18:J18) -> 0
A20: Gesamt Gremienarbeit PN Berufliche Bildung | B20: =SUM(B6:B13) -> 281329.6 | C20: =SUM(C6:C13) -> 281329.6 | D20: =SUM(D6:D13) -> 281329.6 | E20: =SUM(E6:E13) -> 281329.6 | F20: =SUM(F6:F13) -> 281329.6 | G20: =SUM(G6:G13) -> 281329.6 | H20: =SUM(H6:H13) -> 281329.6 | I20: =SUM(I6:I13) -> 281329.6 | ... K20: =SUM(K6:K13) -> 2531966.4
A21: Gesamt Projektfonds | B21: =SUM(B16:B18) -> 0 | C21: =SUM(C16:C18) -> 0 | D21: =SUM(D16:D18) -> 0 | E21: =SUM(E16:E18) -> 0 | F21: =SUM(F16:F18) -> 0 | G21: =SUM(G16:G18) -> 0 | H21: =SUM(H16:H18) -> 0 | I21: =SUM(I16:I18) -> 0 | ... K21: =SUM(K16:K18) -> 0
A22: Summe "PN Berufliche Bildung" | B22: =SUM(B20:B21) -> 281329.6 | C22: =SUM(C20:C21) -> 281329.6 | D22: =SUM(D20:D21) -> 281329.6 | E22: =SUM(E20:E21) -> 281329.6 | F22: =SUM(F20:F21) -> 281329.6 | G22: =SUM(G20:G21) -> 281329.6 | H22: =SUM(H20:H21) -> 281329.6 | I22: =SUM(I20:I21) -> 281329.6 | ... K22: =SUM(K20:K21) -> 2531966.4
A26: 1 = Tarif TV-LPersonalkosten / Arbeitgeber-Brutto lt. Hamburger Tabelle:
A27: =Gesamt!A404 -> 100 % E13 = 83.054 €/a
A28: 2 = Sitzungsgeld = 100 €/Tag und SelbstständigE/ER
A29: 3 = Fahrtkosten/Unterkunft (10 TN/Gremium x 1.000 €/Jahr, inkl. Veranstaltungsteilnahme)
A30: =Gesamt!A408 -> 4 = Projektfonds deckt ALLE für die Planung, Organisation, Durchführung, Öffentlichkeitsarbeit und Dokumentation anfallenden Projektekosten: Honorare (inkl. der Projektleitung), Mieten, Catering, Technik- u.a. Sachkosten etc.

Sheet PNHoch
A1: Partnernetzwerk Hochschule
B3: 2022 | C3: 2023 | D3: 2024 | E3: 2025 | F3: 2026 | G3: 2027 | H3: 2028 | I3: 2029 | J3: 2030 | K3: Gesamt
A5: Gremienarbeit
A6: Personal 2x100% (Betreuung und Koordinierung des Gremiums und seiner Projekte)1 | B6: =2*Gesamt!A405 -> 166108 | C6: =B6 -> 166108 | D6: =C6 -> 166108 | E6: =D6 -> 166108 | F6: =E6 -> 166108 | G6: =F6 -> 166108 | H6: =G6 -> 166108 | I6: =H6 -> 166108 | J6: =I6 -> 166108 | K6: =SUM(B6:J6) -> 1494972
A7: Bürokosten | K7: =SUM(B7:J7) -> 0
A8: Overhead (20% Personalkosten) | B8: =B6*0.2 -> 33221.6 | C8: =C6*0.2 -> 33221.6 | D8: =D6*0.2 -> 33221.6 | E8: =E6*0.2 -> 33221.6 | F8: =F6*0.2 -> 33221.6 | G8: =G6*0.2 -> 33221.6 | H8: =H6*0.2 -> 33221.6 | I8: =I6*0.2 -> 33221.6 | ... K8: =K6*0.2 -> 298994.4
A9: Sitzungsgelder (10 Selbstständige, 1 Sitzung/Monat)2 | B9: =10*12*100 -> 12000 | C9: =B9 -> 12000 | D9: =C9 -> 12000 | E9: =D9 -> 12000 | F9: =E9 -> 12000 | G9: =F9 -> 12000 | H9: =G9 -> 12000 | I9: =H9 -> 12000 | J9: =I9 -> 12000 | K9: =SUM(B9:J9) -> 108000
A10: Fahrtkosten/Unterkunft3 | B10: =10*1000 -> 10000 | C10: =B10 -> 10000 | D10: =C10 -> 10000 | E10: =D10 -> 10000 | F10: =E10 -> 10000 | G10: =F10 -> 10000 | H10: =G10 -> 10000 | I10: =H10 -> 10000 | J10: =I10 -> 10000 | K10: =SUM(B10:J10) -> 90000
A11: Öffentlichkeitsarbeit (Zuarbeit zum BNE-Portal, 30 AT/Jahr, 300 € brutto/AT) | B11: =30*300 -> 9000 | C11: =B11 -> 9000 | D11: =C11 -> 9000 | E11: =D11 -> 9000 | F11: =E11 -> 9000 | G11: =F11 -> 9000 | H11: =G11 -> 9000 | I11: =H11 -> 9000 | J11: =I11 -> 9000 | K11: =SUM(B11:J11) -> 81000
A12: Referent*innen (2xJahr Input, 500 €/Input) | B12: =2*500 -> 1000 | C12: =B12 -> 1000 | D12: =C12 -> 1000 | E12: =D12 -> 1000 | F12: =E12 -> 1000 | G12: =F12 -> 1000 | H12: =G12 -> 1000 | I12: =H12 -> 1000 | J12: =I12 -> 1000 | K12: =SUM(B12:J12) -> 9000
A13: Gutachten/Studien u.a. (1x/Jahr) | B13: =50000 -> 50000 | C13: =B13 -> 50000 | D13: =C13 -> 50000 | E13: =D13 -> 50000 | F13: =E13 -> 50000 | G13: =F13 -> 50000 | H13: =G13 -> 50000 | I13: =H13 -> 50000 | J13: =I13 -> 50000 | K13: =SUM(B13:J13) -> 450000
A15: Projektfonds4
A16: Projekt 1 | K16: =SUM(B16:J16) -> 0
A17: Projekt 2 | K17: =SUM(B17:J17) -> 0
A18: Projekt 3 | K18: =SUM(B18:J18) -> 0
A20: Gesamt Gremienarbeit PN Hochschule | B20: =SUM(B6:B13) -> 281329.6 | C20: =SUM(C6:C13) -> 281329.6 | D20: =SUM(D6:D13) -> 281329.6 | E20: =SUM(E6:E13) -> 281329.6 | F20: =SUM(F6:F13) -> 281329.6 | G20: =SUM(G6:G13) -> 281329.6 | H20: =SUM(H6:H13) -> 281329.6 | I20: =SUM(I6:I13) -> 281329.6 | ... K20: =SUM(K6:K13) -> 2531966.4
A21: Gesamt Projektfonds | B21: =SUM(B16:B18) -> 0 | C21: =SUM(C16:C18) -> 0 | D21: =SUM(D16:D18) -> 0 | E21: =SUM(E16:E18) -> 0 | F21: =SUM(F16:F18) -> 0 | G21: =SUM(G16:G18) -> 0 | H21: =SUM(H16:H18) -> 0 | I21: =SUM(I16:I18) -> 0 | ... K21: =SUM(K16:K18) -> 0
A22: Summe "PN Hochschule" | B22: =SUM(B20:B21) -> 281329.6 | C22: =SUM(C20:C21) -> 281329.6 | D22: =SUM(D20:D21) -> 281329.6 | E22: =SUM(E20:E21) -> 281329.6 | F22: =SUM(F20:F21) -> 281329.6 | G22: =SUM(G20:G21) -> 281329.6 | H22: =SUM(H20:H21) -> 281329.6 | I22: =SUM(I20:I21) -> 281329.6 | ... K22: =SUM(K20:K21) -> 2531966.4
A26: 1 = Tarif TV-LPersonalkosten / Arbeitgeber-Brutto lt. Hamburger Tabelle:
A27: =Gesamt!A404 -> 100 % E13 = 83.054 €/a
A28: 2 = Sitzungsgeld = 100 €/Tag und SelbstständigE/ER
A29: 3 = Fahrtkosten/Unterkunft (10 TN/Gremium x 1.000 €/Jahr, inkl. Veranstaltungsteilnahme)
A30: =Gesamt!A408 -> 4 = Projektfonds deckt ALLE für die Planung, Organisation, Durchführung, Öffentlichkeitsarbeit und Dokumentation anfallenden Projektekosten: Honorare (inkl. der Projektleitung), Mieten, Catering, Technik- u.a. Sachkosten etc.

Sheet PNMedien
A1: Partnernetzwerk Medien
B3: 2022 | C3: 2023 | D3: 2024 | E3: 2025 | F3: 2026 | G3: 2027 | H3: 2028 | I3: 2029 | J3: 2030 | K3: Gesamt
A5: Gremienarbeit
A6: Personal 2x100% (Betreuung und Koordinierung des Gremiums und seiner Projekte)1 | B6: =2*Gesamt!A405 -> 166108 | C6: =B6 -> 166108 | D6: =C6 -> 166108 | E6: =D6 -> 166108 | F6: =E6 -> 166108 | G6: =F6 -> 166108 | H6: =G6 -> 166108 | I6: =H6 -> 166108 | J6: =I6 -> 166108 | K6: =SUM(B6:J6) -> 1494972
A7: Bürokosten | K7: =SUM(B7:J7) -> 0
A8: Overhead (20% Personalkosten) | B8: =B6*0.2 -> 33221.6 | C8: =C6*0.2 -> 33221.6 | D8: =D6*0.2 -> 33221.6 | E8: =E6*0.2 -> 33221.6 | F8: =F6*0.2 -> 33221.6 | G8: =G6*0.2 -> 33221.6 | H8: =H6*0.2 -> 33221.6 | I8: =I6*0.2 -> 33221.6 | ... K8: =K6*0.2 -> 298994.4
A9: Sitzungsgelder (10 Selbstständige, 1 Sitzung/Monat)2 | B9: =10*12*100 -> 12000 | C9: =B9 -> 12000 | D9: =C9 -> 12000 | E9: =D9 -> 12000 | F9: =E9 -> 12000 | G9: =F9 -> 12000 | H9: =G9 -> 12000 | I9: =H9 -> 12000 | J9: =I9 -> 12000 | K9: =SUM(B9:J9) -> 108000
A10: Fahrtkosten/Unterkunft3 | B10: =10*1000 -> 10000 | C10: =B10 -> 10000 | D10: =C10 -> 10000 | E10: =D10 -> 10000 | F10: =E10 -> 10000 | G10: =F10 -> 10000 | H10: =G10 -> 10000 | I10: =H10 -> 10000 | J10: =I10 -> 10000 | K10: =SUM(B10:J10) -> 90000
A11: Öffentlichkeitsarbeit (Zuarbeit zum BNE-Portal, 30 AT/Jahr, 300 € brutto/AT, Blog Openbook Kommunikation) | B11: =30*300+75000 -> 84000 | C11: =B11 -> 84000 | D11: =C11 -> 84000 | E11: =D11 -> 84000 | F11: =E11 -> 84000 | G11: =F11 -> 84000 | H11: =G11 -> 84000 | I11: =H11 -> 84000 | J11: =I11 -> 84000 | K11: =SUM(B11:J11) -> 756000
A12: Referent*innen (2xJahr Input, 500 €/Input) | B12: =2*500 -> 1000 | C12: =B12 -> 1000 | D12: =C12 -> 1000 | E12: =D12 -> 1000 | F12: =E12 -> 1000 | G12: =F12 -> 1000 | H12: =G12 -> 1000 | I12: =H12 -> 1000 | J12: =I12 -> 1000 | K12: =SUM(B12:J12) -> 9000
A13: Gutachten/Studien u.a. (2x/Jahr) | B13: =2*50000 -> 100000 | C13: =B13 -> 100000 | D13: =C13 -> 100000 | E13: =D13 -> 100000 | F13: =E13 -> 100000 | G13: =F13 -> 100000 | H13: =G13 -> 100000 | I13: =H13 -> 100000 | J13: =I13 -> 100000 | K13: =SUM(B13:J13) -> 900000
A15: Projektfonds4
A16: Projekt 1: Tagungen/Veranstaltungen „Narrative und fiktionale Erzählformen“ (Präsenz, 6xJahr für Nord-, Mittel-, Süddeutschland) | B16: =6*100000 -> 600000 | C16: =B16 -> 600000 | D16: =C16 -> 600000 | E16: =D16 -> 600000 | F16: =E16 -> 600000 | G16: =F16 -> 600000 | H16: =G16 -> 600000 | I16: =H16 -> 600000 | J16: =I16 -> 600000 | K16: =SUM(B16:J16) -> 5400000
A17: Projekt 2: Materialien zu den Tagungen (Print, A/V, digitale Bildungsformate) | B17: 1000000 | C17: =B17 -> 1000000 | D17: =C17 -> 1000000 | E17: =D17 -> 1000000 | F17: =E17 -> 1000000 | G17: =F17 -> 1000000 | H17: =G17 -> 1000000 | I17: =H17 -> 1000000 | J17: =I17 -> 1000000 | K17: =SUM(B17:J17) -> 9000000
A18: Projekt 3: Open Book Nachhaltigkeitskommunikation | B18: 100000 | C18: =B18 -> 100000 | D18: =C18 -> 100000 | E18: =D18 -> 100000 | F18: =E18 -> 100000 | G18: =F18 -> 100000 | H18: =G18 -> 100000 | I18: =H18 -> 100000 | J18: =I18 -> 100000 | K18: =SUM(B18:J18) -> 900000
A20: Gesamt Gremienarbeit PN Medien | B20: =SUM(B6:B13) -> 406329.6 | C20: =SUM(C6:C13) -> 406329.6 | D20: =SUM(D6:D13) -> 406329.6 | E20: =SUM(E6:E13) -> 406329.6 | F20: =SUM(F6:F13) -> 406329.6 | G20: =SUM(G6:G13) -> 406329.6 | H20: =SUM(H6:H13) -> 406329.6 | I20: =SUM(I6:I13) -> 406329.6 | ... K20: =SUM(K6:K13) -> 3656966.4
A21: Gesamt Projektfonds | B21: =SUM(B16:B18) -> 1700000 | C21: =SUM(C16:C18) -> 1700000 | D21: =SUM(D16:D18) -> 1700000 | E21: =SUM(E16:E18) -> 1700000 | F21: =SUM(F16:F18) -> 1700000 | G21: =SUM(G16:G18) -> 1700000 | H21: =SUM(H16:H18) -> 1700000 | I21: =SUM(I16:I18) -> 1700000 | ... K21: =SUM(K16:K18) -> 15300000
A22: Summe "PN Medien" | B22: =SUM(B20:B21) -> 2106329.6 | C22: =SUM(C20:C21) -> 2106329.6 | D22: =SUM(D20:D21) -> 2106329.6 | E22: =SUM(E20:E21) -> 2106329.6 | F22: =SUM(F20:F21) -> 2106329.6 | G22: =SUM(G20:G21) -> 2106329.6 | H22: =SUM(H20:H21) -> 2106329.6 | I22: =SUM(I20:I21) -> 2106329.6 | ... K22: =SUM(K20:K21) -> 18956966
A26: 1 = Tarif TV-LPersonalkosten / Arbeitgeber-Brutto lt. Hamburger Tabelle:
A27: =Gesamt!A404 -> 100 % E13 = 83.054 €/a
A28: 2 = Sitzungsgeld = 100 €/Tag und SelbstständigE/ER
A29: 3 = Fahrtkosten/Unterkunft (10 TN/Gremium x 1.000 €/Jahr, inkl. Veranstaltungsteilnahme)
A30: =Gesamt!A408 -> 4 = Projektfonds deckt ALLE für die Planung, Organisation, Durchführung, Öffentlichkeitsarbeit und Dokumentation anfallenden Projektekosten: Honorare (inkl. der Projektleitung), Mieten, Catering, Technik- u.a. Sachkosten etc.

Sheet PNBiodiv
A1: Partnernetzwerk Biodiversität
B3: 2022 | C3: 2023 | D3: 2024 | E3: 2025 | F3: 2026 | G3: 2027 | H3: 2028 | I3: 2029 | J3: 2030 | K3: Gesamt
A5: Gremienarbeit
A6: Personal 2x100% (Betreuung und Koordinierung des Gremiums und seiner Projekte)1 | B6: =2*Gesamt!A405 -> 166108 | C6: =B6 -> 166108 | D6: =C6 -> 166108 | E6: =D6 -> 166108 | F6: =E6 -> 166108 | G6: =F6 -> 166108 | H6: =G6 -> 166108 | I6: =H6 -> 166108 | J6: =I6 -> 166108 | K6: =SUM(B6:J6) -> 1494972
A7: Bürokosten | K7: =SUM(B7:J7) -> 0
A8: Overhead (20% Personalkosten) | B8: =B6*0.2 -> 33221.6 | C8: =C6*0.2 -> 33221.6 | D8: =D6*0.2 -> 33221.6 | E8: =E6*0.2 -> 33221.6 | F8: =F6*0.2 -> 33221.6 | G8: =G6*0.2 -> 33221.6 | H8: =H6*0.2 -> 33221.6 | I8: =I6*0.2 -> 33221.6 | ... K8: =K6*0.2 -> 298994.4
A9: Sitzungsgelder (10 Selbstständige, 1 Sitzung/Monat)2 | B9: =10*12*100 -> 12000 | C9: =B9 -> 12000 | D9: =C9 -> 12000 | E9: =D9 -> 12000 | F9: =E9 -> 12000 | G9: =F9 -> 12000 | H9: =G9 -> 12000 | I9: =H9 -> 12000 | J9: =I9 -> 12000 | K9: =SUM(B9:J9) -> 108000
A10: Fahrtkosten/Unterkunft3 | B10: =10*1000 -> 10000 | C10: =B10 -> 10000 | D10: =C10 -> 10000 | E10: =D10 -> 10000 | F10: =E10 -> 10000 | G10: =F10 -> 10000 | H10: =G10 -> 10000 | I10: =H10 -> 10000 | J10: =I10 -> 10000 | K10: =SUM(B10:J10) -> 90000
A11: Öffentlichkeitsarbeit (Zuarbeit zum BNE-Portal, 30 AT/Jahr, 300 € brutto/AT) | B11: =30*300 -> 9000 | C11: =B11 -> 9000 | D11: =C11 -> 9000 | E11: =D11 -> 9000 | F11: =E11 -> 9000 | G11: =F11 -> 9000 | H11: =G11 -> 9000 | I11: =H11 -> 9000 | J11: =I11 -> 9000 | K11: =SUM(B11:J11) -> 81000
A12: Referent*innen (2xJahr Input, 500 €/Input) | B12: =2*500 -> 1000 | C12: =B12 -> 1000 | D12: =C12 -> 1000 | E12: =D12 -> 1000 | F12: =E12 -> 1000 | G12: =F12 -> 1000 | H12: =G12 -> 1000 | I12: =H12 -> 1000 | J12: =I12 -> 1000 | K12: =SUM(B12:J12) -> 9000
A13: Gutachten/Studien u.a. (1x/Jahr) | B13: =50000 -> 50000 | C13: =B13 -> 50000 | D13: =C13 -> 50000 | E13: =D13 -> 50000 | F13: =E13 -> 50000 | G13: =F13 -> 50000 | H13: =G13 -> 50000 | I13: =H13 -> 50000 | J13: =I13 -> 50000 | K13: =SUM(B13:J13) -> 450000
A15: Projektfonds4
A16: Projekt 1: Veranstaltungen „BNE & Biodiversität“ (Präsenz, 6xJahr für Nord-, Mittel-, Süddeutschland) | B16: =6*100000 -> 600000 | C16: =B16 -> 600000 | D16: =C16 -> 600000 | E16: =D16 -> 600000 | F16: =E16 -> 600000 | G16: =F16 -> 600000 | H16: =G16 -> 600000 | I16: =H16 -> 600000 | J16: =I16 -> 600000 | K16: =SUM(B16:J16) -> 5400000
A17: Projekt 2: (Fort-)Bildungsmaterialien (Print, A/V, digitale Bildungsformate) | B17: 1000000 | C17: =B17 -> 1000000 | D17: =C17 -> 1000000 | E17: =D17 -> 1000000 | F17: =E17 -> 1000000 | G17: =F17 -> 1000000 | H17: =G17 -> 1000000 | I17: =H17 -> 1000000 | J17: =I17 -> 1000000 | K17: =SUM(B17:J17) -> 9000000
A18: Projekt 3 | K18: =SUM(B18:J18) -> 0
A20: Gesamt Gremienarbeit PN Biodiversität | B20: =SUM(B6:B13) -> 281329.6 | C20: =SUM(C6:C13) -> 281329.6 | D20: =SUM(D6:D13) -> 281329.6 | E20: =SUM(E6:E13) -> 281329.6 | F20: =SUM(F6:F13) -> 281329.6 | G20: =SUM(G6:G13) -> 281329.6 | H20: =SUM(H6:H13) -> 281329.6 | I20: =SUM(I6:I13) -> 281329.6 | ... K20: =SUM(K6:K13) -> 2531966.4
A21: Gesamt Projektfonds | B21: =SUM(B16:B18) -> 1600000 | C21: =SUM(C16:C18) -> 1600000 | D21: =SUM(D16:D18) -> 1600000 | E21: =SUM(E16:E18) -> 1600000 | F21: =SUM(F16:F18) -> 1600000 | G21: =SUM(G16:G18) -> 1600000 | H21: =SUM(H16:H18) -> 1600000 | I21: =SUM(I16:I18) -> 1600000 | ... K21: =SUM(K16:K18) -> 14400000
A22: Summe "PN Biodiversität" | B22: =SUM(B20:B21) -> 1881329.6 | C22: =SUM(C20:C21) -> 1881329.6 | D22: =SUM(D20:D21) -> 1881329.6 | E22: =SUM(E20:E21) -> 1881329.6 | F22: =SUM(F20:F21) -> 1881329.6 | G22: =SUM(G20:G21) -> 1881329.6 | H22: =SUM(H20:H21) -> 1881329.6 | I22: =SUM(I20:I21) -> 1881329.6 | ... K22: =SUM(K20:K21) -> 16931966
A26: 1 = Tarif TV-LPersonalkosten / Arbeitgeber-Brutto lt. Hamburger Tabelle:
A27: =Gesamt!A404 -> 100 % E13 = 83.054 €/a
A28: 2 = Sitzungsgeld = 100 €/Tag und SelbstständigE/ER
A29: 3 = Fahrtkosten/Unterkunft (10 TN/Gremium x 1.000 €/Jahr, inkl. Veranstaltungsteilnahme)
A30: =Gesamt!A408 -> 4 = Projektfonds deckt ALLE für die Planung, Organisation, Durchführung, Öffentlichkeitsarbeit und Dokumentation anfallenden Projektekosten: Honorare (inkl. der Projektleitung), Mieten, Catering, Technik- u.a. Sachkosten etc.

Sheet PNaußersch
A1: Partnernetzwerk Außerschulische Bildung
B3: 2022 | C3: 2023 | D3: 2024 | E3: 2025 | F3: 2026 | G3: 2027 | H3: 2028 | I3: 2029 | J3: 2030 | K3: Gesamt
A5: Gremienarbeit
A6: Personal 2x100% (Betreuung und Koordinierung des Gremiums und seiner Projekte)1 | B6: =2*Gesamt!A405 -> 166108 | C6: =B6 -> 166108 | D6: =C6 -> 166108 | E6: =D6 -> 166108 | F6: =E6 -> 166108 | G6: =F6 -> 166108 | H6: =G6 -> 166108 | I6: =H6 -> 166108 | J6: =I6 -> 166108 | K6: =SUM(B6:J6) -> 1494972
A7: Bürokosten | K7: =SUM(B7:J7) -> 0
A8: Overhead (20% Personalkosten) | B8: =B6*0.2 -> 33221.6 | C8: =C6*0.2 -> 33221.6 | D8: =D6*0.2 -> 33221.6 | E8: =E6*0.2 -> 33221.6 | F8: =F6*0.2 -> 33221.6 | G8: =G6*0.2 -> 33221.6 | H8: =H6*0.2 -> 33221.6 | I8: =I6*0.2 -> 33221.6 | ... K8: =K6*0.2 -> 298994.4
A9: Sitzungsgelder (10 Selbstständige, 1 Sitzung/Monat)2 | B9: =10*12*100 -> 12000 | C9: =B9 -> 12000 | D9: =C9 -> 12000 | E9: =D9 -> 12000 | F9: =E9 -> 12000 | G9: =F9 -> 12000 | H9: =G9 -> 12000 | I9: =H9 -> 12000 | J9: =I9 -> 12000 | K9: =SUM(B9:J9) -> 108000
A10: Fahrtkosten/Unterkunft3 | B10: =10*1000 -> 10000 | C10: =B10 -> 10000 | D10: =C10 -> 10000 | E10: =D10 -> 10000 | F10: =E10 -> 10000 | G10: =F10 -> 10000 | H10: =G10 -> 10000 | I10: =H10 -> 10000 | J10: =I10 -> 10000 | K10: =SUM(B10:J10) -> 90000
A11: Öffentlichkeitsarbeit (Zuarbeit zum BNE-Portal, 30 AT/Jahr, 300 € brutto/AT) | B11: =30*300 -> 9000 | C11: =B11 -> 9000 | D11: =C11 -> 9000 | E11: =D11 -> 9000 | F11: =E11 -> 9000 | G11: =F11 -> 9000 | H11: =G11 -> 9000 | I11: =H11 -> 9000 | J11: =I11 -> 9000 | K11: =SUM(B11:J11) -> 81000
A12: Referent*innen (2xJahr Input, 500 €/Input) | B12: =2*500 -> 1000 | C12: =B12 -> 1000 | D12: =C12 -> 1000 | E12: =D12 -> 1000 | F12: =E12 -> 1000 | G12: =F12 -> 1000 | H12: =G12 -> 1000 | I12: =H12 -> 1000 | J12: =I12 -> 1000 | K12: =SUM(B12:J12) -> 9000
A13: Gutachten/Studien u.a. (1x/Jahr) | B13: =50000 -> 50000 | C13: =B13 -> 50000 | D13: =C13 -> 50000 | E13: =D13 -> 50000 | F13: =E13 -> 50000 | G13: =F13 -> 50000 | H13: =G13 -> 50000 | I13: =H13 -> 50000 | J13: =I13 -> 50000 | K13: =SUM(B13:J13) -> 450000
A15: Projektfonds4
A16: Projekt 1 | K16: =SUM(B16:J16) -> 0
A17: Projekt 2 | K17: =SUM(B17:J17) -> 0
A18: Projekt 3 | K18: =SUM(B18:J18) -> 0
A20: Gesamt Gremienarbeit PN außerschulische BNE | B20: =SUM(B6:B13) -> 281329.6 | C20: =SUM(C6:C13) -> 281329.6 | D20: =SUM(D6:D13) -> 281329.6 | E20: =SUM(E6:E13) -> 281329.6 | F20: =SUM(F6:F13) -> 281329.6 | G20: =SUM(G6:G13) -> 281329.6 | H20: =SUM(H6:H13) -> 281329.6 | I20: =SUM(I6:I13) -> 281329.6 | ... K20: =SUM(K6:K13) -> 2531966.4
A21: Gesamt Projektfonds | B21: =SUM(B16:B18) -> 0 | C21: =SUM(C16:C18) -> 0 | D21: =SUM(D16:D18) -> 0 | E21: =SUM(E16:E18) -> 0 | F21: =SUM(F16:F18) -> 0 | G21: =SUM(G16:G18) -> 0 | H21: =SUM(H16:H18) -> 0 | I21: =SUM(I16:I18) -> 0 | ... K21: =SUM(K16:K18) -> 0
A22: Summe "PN außerschulische BNE" | B22: =SUM(B20:B21) -> 281329.6 | C22: =SUM(C20:C21) -> 281329.6 | D22: =SUM(D20:D21) -> 281329.6 | E22: =SUM(E20:E21) -> 281329.6 | F22: =SUM(F20:F21) -> 281329.6 | G22: =SUM(G20:G21) -> 281329.6 | H22: =SUM(H20:H21) -> 281329.6 | I22: =SUM(I20:I21) -> 281329.6 | ... K22: =SUM(K20:K21) -> 2531966.4
A26: 1 = Tarif TV-LPersonalkosten / Arbeitgeber-Brutto lt. Hamburger Tabelle:
A27: =Gesamt!A404 -> 100 % E13 = 83.054 €/a
A28: 2 = Sitzungsgeld = 100 €/Tag und SelbstständigE/ER
A29: 3 = Fahrtkosten/Unterkunft (10 TN/Gremium x 1.000 €/Jahr, inkl. Veranstaltungsteilnahme)
A30: =Gesamt!A408 -> 4 = Projektfonds deckt ALLE für die Planung, Organisation, Durchführung, Öffentlichkeitsarbeit und Dokumentation anfallenden Projektekosten: Honorare (inkl. der Projektleitung), Mieten, Catering, Technik- u.a. Sachkosten etc.

Sheet PNKultur
A1: Partnernetzwerk Kultur
B3: 2022 | C3: 2023 | D3: 2024 | E3: 2025 | F3: 2026 | G3: 2027 | H3: 2028 | I3: 2029 | J3: 2030 | K3: Gesamt
A5: Gremienarbeit
A6: Personal 2x100% (Betreuung und Koordinierung des Gremiums und seiner Projekte)1 | B6: =2*Gesamt!A405 -> 166108 | C6: =B6 -> 166108 | D6: =C6 -> 166108 | E6: =D6 -> 166108 | F6: =E6 -> 166108 | G6: =F6 -> 166108 | H6: =G6 -> 166108 | I6: =H6 -> 166108 | J6: =I6 -> 166108 | K6: =SUM(B6:J6) -> 1494972
A7: Bürokosten | K7: =SUM(B7:J7) -> 0
A8: Overhead (20% Personalkosten) | B8: =B6*0.2 -> 33221.6 | C8: =C6*0.2 -> 33221.6 | D8: =D6*0.2 -> 33221.6 | E8: =E6*0.2 -> 33221.6 | F8: =F6*0.2 -> 33221.6 | G8: =G6*0.2 -> 33221.6 | H8: =H6*0.2 -> 33221.6 | I8: =I6*0.2 -> 33221.6 | J8: =J6*0.2 -> 33221.6 | K8: =SUM(B8:J8) -> 298994.4
A9: Sitzungsgelder (10 Selbstständige, 1 Sitzung/Monat)2 | B9: =10*12*100 -> 12000 | C9: =B9 -> 12000 | D9: =C9 -> 12000 | E9: =D9 -> 12000 | F9: =E9 -> 12000 | G9: =F9 -> 12000 | H9: =G9 -> 12000 | I9: =H9 -> 12000 | J9: =I9 -> 12000 | K9: =SUM(B9:J9) -> 108000
A10: Fahrtkosten/Unterkunft3 | B10: =10*1000 -> 10000 | C10: =B10 -> 10000 | D10: =C10 -> 10000 | E10: =D10 -> 10000 | F10: =E10 -> 10000 | G10: =F10 -> 10000 | H10: =G10 -> 10000 | I10: =H10 -> 10000 | J10: =I10 -> 10000 | K10: =SUM(B10:J10) -> 90000
A11: Öffentlichkeitsarbeit (Zuarbeit zum BNE-Portal, 30 AT/Jahr, 300 € brutto/AT) | B11: =30*300 -> 9000 | C11: =B11 -> 9000 | D11: =C11 -> 9000 | E11: =D11 -> 9000 | F11: =E11 -> 9000 | G11: =F11 -> 9000 | H11: =G11 -> 9000 | I11: =H11 -> 9000 | J11: =I11 -> 9000 | K11: =SUM(B11:J11) -> 81000
A12: Referent*innen (2xJahr Input, 500 €/Input) | B12: =2*500 -> 1000 | C12: =B12 -> 1000 | D12: =C12 -> 1000 | E12: =D12 -> 1000 | F12: =E12 -> 1000 | G12: =F12 -> 1000 | H12: =G12 -> 1000 | I12: =H12 -> 1000 | J12: =I12 -> 1000 | K12: =SUM(B12:J12) -> 9000
A13: Gutachten/Studien u.a. (1x/Jahr) | B13: =50000 -> 50000 | C13: =B13 -> 50000 | D13: =C13 -> 50000 | E13: =D13 -> 50000 | F13: =E13 -> 50000 | G13: =F13 -> 50000 | H13: =G13 -> 50000 | I13: =H13 -> 50000 | J13: =I13 -> 50000 | K13: =SUM(B13:J13) -> 450000
A15: Projektfonds4
A16: Projekt 1: Veranstaltungen „BNE & Kultur“ (Präsenz, 6xJahr für Nord-, Mittel-, Süddeutschland) | B16: =6*100000 -> 600000 | C16: =B16 -> 600000 | D16: =C16 -> 600000 | E16: =D16 -> 600000 | F16: =E16 -> 600000 | G16: =F16 -> 600000 | H16: =G16 -> 600000 | I16: =H16 -> 600000 | J16: =I16 -> 600000 | K16: =SUM(B16:J16) -> 5400000
A17: Projekt 2: jährliche neue Publikationen (Print, A/V, digital) | B17: 1000000 | C17: =B17 -> 1000000 | D17: =C17 -> 1000000 | E17: =D17 -> 1000000 | F17: =E17 -> 1000000 | G17: =F17 -> 1000000 | H17: =G17 -> 1000000 | I17: =H17 -> 1000000 | J17: =I17 -> 1000000 | K17: =SUM(B17:J17) -> 9000000
A18: Projekt 3: Kommunikation der aktuellen Publikation | B18: 20000 | C18: 0 | D18: 0 | E18: 0 | F18: 0 | G18: 0 | H18: 0 | I18: 0 | J18: 0 | K18: =SUM(B18:J18) -> 20000
A20: Gesamt Gremienarbeit PN Kultur | B20: =SUM(B6:B13) -> 281329.6 | C20: =SUM(C6:C13) -> 281329.6 | D20: =SUM(D6:D13) -> 281329.6 | E20: =SUM(E6:E13) -> 281329.6 | F20: =SUM(F6:F13) -> 281329.6 | G20: =SUM(G6:G13) -> 281329.6 | H20: =SUM(H6:H13) -> 281329.6 | I20: =SUM(I6:I13) -> 281329.6 | ... K20: =SUM(K6:K13) -> 2531966.4
A21: Gesamt Projektfonds | B21: =SUM(B16:B18) -> 1620000 | C21: =SUM(C16:C18) -> 1600000 | D21: =SUM(D16:D18) -> 1600000 | E21: =SUM(E16:E18) -> 1600000 | F21: =SUM(F16:F18) -> 1600000 | G21: =SUM(G16:G18) -> 1600000 | H21: =SUM(H16:H18) -> 1600000 | I21: =SUM(I16:I18) -> 1600000 | ... K21: =SUM(K16:K18) -> 14420000
A22: Summe "PN Kultur" | B22: =SUM(B20:B21) -> 1901329.6 | C22: =SUM(C20:C21) -> 1881329.6 | D22: =SUM(D20:D21) -> 1881329.6 | E22: =SUM(E20:E21) -> 1881329.6 | F22: =SUM(F20:F21) -> 1881329.6 | G22: =SUM(G20:G21) -> 1881329.6 | H22: =SUM(H20:H21) -> 1881329.6 | I22: =SUM(I20:I21) -> 1881329.6 | ... K22: =SUM(K20:K21) -> 16951966
A26: 1 = Tarif TV-LPersonalkosten / Arbeitgeber-Brutto lt. Hamburger Tabelle:
A27: =Gesamt!A404 -> 100 % E13 = 83.054 €/a
A28: 2 = Sitzungsgeld = 100 €/Tag und SelbstständigE/ER
A29: 3 = Fahrtkosten/Unterkunft (10 TN/Gremium x 1.000 €/Jahr, inkl. Veranstaltungsteilnahme)
A30: =Gesamt!A408 -> 4 = Projektfonds deckt ALLE für die Planung, Organisation, Durchführung, Öffentlichkeitsarbeit und Dokumentation anfallenden Projektekosten: Honorare (inkl. der Projektleitung), Mieten, Catering, Technik- u.a. Sachkosten etc.
A33: Personal (Betreuung PN KuBi/SprecherIn), Aufwandsentschädigung für freiberufliche/selbstständige Tätigkeit
A34: Stundensatz freiberufl. €
A35: Stundenaufwand monatlich
A36: monatlich gesamt
A37: jährliche Honorarsteigerung
A39: Fahrtkosten/Unterkunft, sofern nicht durch Personalkosten abgedeckt: 2 Tagessätze á €, ohne jährliche Preissteigerungen

Sheet PNÖkonomie
A1: Partnernetzwerk Ökonomie
B3: 2022 | C3: 2023 | D3: 2024 | E3: 2025 | F3: 2026 | G3: 2027 | H3: 2028 | I3: 2029 | J3: 2030 | K3: Gesamt
A5: Gremienarbeit
A6: Personal 2x100% (Betreuung und Koordinierung des Gremiums und seiner Projekte)1 | B6: =2*Gesamt!A405 -> 166108 | C6: =B6 -> 166108 | D6: =C6 -> 166108 | E6: =D6 -> 166108 | F6: =E6 -> 166108 | G6: =F6 -> 166108 | H6: =G6 -> 166108 | I6: =H6 -> 166108 | J6: =I6 -> 166108 | K6: =SUM(B6:J6) -> 1494972
A7: Bürokosten | K7: =SUM(B7:J7) -> 0
A8: Overhead (20% Personalkosten) | B8: =B6*0.2 -> 33221.6 | C8: =C6*0.2 -> 33221.6 | D8: =D6*0.2 -> 33221.6 | E8: =E6*0.2 -> 33221.6 | F8: =F6*0.2 -> 33221.6 | G8: =G6*0.2 -> 33221.6 | H8: =H6*0.2 -> 33221.6 | I8: =I6*0.2 -> 33221.6 | ... K8: =K6*0.2 -> 298994.4
A9: Sitzungsgelder (10 Selbstständige, 1 Sitzung/Monat)2 | B9: =10*12*100 -> 12000 | C9: =B9 -> 12000 | D9: =C9 -> 12000 | E9: =D9 -> 12000 | F9: =E9 -> 12000 | G9: =F9 -> 12000 | H9: =G9 -> 12000 | I9: =H9 -> 12000 | J9: =I9 -> 12000 | K9: =SUM(B9:J9) -> 108000
A10: Fahrtkosten/Unterkunft3 | B10: =10*1000 -> 10000 | C10: =B10 -> 10000 | D10: =C10 -> 10000 | E10: =D10 -> 10000 | F10: =E10 -> 10000 | G10: =F10 -> 10000 | H10: =G10 -> 10000 | I10: =H10 -> 10000 | J10: =I10 -> 10000 | K10: =SUM(B10:J10) -> 90000
A11: Öffentlichkeitsarbeit (Zuarbeit zum BNE-Portal, 30 AT/Jahr, 300 € brutto/AT) | B11: =30*300 -> 9000 | C11: =B11 -> 9000 | D11: =C11 -> 9000 | E11: =D11 -> 9000 | F11: =E11 -> 9000 | G11: =F11 -> 9000 | H11: =G11 -> 9000 | I11: =H11 -> 9000 | J11: =I11 -> 9000 | K11: =SUM(B11:J11) -> 81000
A12: Referent*innen (2xJahr Input, 500 €/Input) | B12: =2*500 -> 1000 | C12: =B12 -> 1000 | D12: =C12 -> 1000 | E12: =D12 -> 1000 | F12: =E12 -> 1000 | G12: =F12 -> 1000 | H12: =G12 -> 1000 | I12: =H12 -> 1000 | J12: =I12 -> 1000 | K12: =SUM(B12:J12) -> 9000
A13: Gutachten/Studien u.a. (1x/Jahr) | B13: =50000 -> 50000 | C13: =B13 -> 50000 | D13: =C13 -> 50000 | E13: =D13 -> 50000 | F13: =E13 -> 50000 | G13: =F13 -> 50000 | H13: =G13 -> 50000 | I13: =H13 -> 50000 | J13: =I13 -> 50000 | K13: =SUM(B13:J13) -> 450000
A15: Projektfonds4
A16: Projekt 1 | K16: =SUM(B16:J16) -> 0
A17: Projekt 2 | K17: =SUM(B17:J17) -> 0
A18: Projekt 3 | K18: =SUM(B18:J18) -> 0
A20: Gesamt Gremienarbeit PN Ökonomie | B20: =SUM(B6:B13) -> 281329.6 | C20: =SUM(C6:C13) -> 281329.6 | D20: =SUM(D6:D13) -> 281329.6 | E20: =SUM(E6:E13) -> 281329.6 | F20: =SUM(F6:F13) -> 281329.6 | G20: =SUM(G6:G13) -> 281329.6 | H20: =SUM(H6:H13) -> 281329.6 | I20: =SUM(I6:I13) -> 281329.6 | ... K20: =SUM(K6:K13) -> 2531966.4
A21: Gesamt Projektfonds | B21: =SUM(B16:B18) -> 0 | C21: =SUM(C16:C18) -> 0 | D21: =SUM(D16:D18) -> 0 | E21: =SUM(E16:E18) -> 0 | F21: =SUM(F16:F18) -> 0 | G21: =SUM(G16:G18) -> 0 | H21: =SUM(H16:H18) -> 0 | I21: =SUM(I16:I18) -> 0 | ... K21: =SUM(K16:K18) -> 0
A22: Summe "PN Ökonomie" | B22: =SUM(B20:B21) -> 281329.6 | C22: =SUM(C20:C21) -> 281329.6 | D22: =SUM(D20:D21) -> 281329.6 | E22: =SUM(E20:E21) -> 281329.6 | F22: =SUM(F20:F21) -> 281329.6 | G22: =SUM(G20:G21) -> 281329.6 | H22: =SUM(H20:H21) -> 281329.6 | I22: =SUM(I20:I21) -> 281329.6 | ... K22: =SUM(K20:K21) -> 2531966.4
A26: 1 = Tarif TV-LPersonalkosten / Arbeitgeber-Brutto lt. Hamburger Tabelle:
A27: =Gesamt!A404 -> 100 % E13 = 83.054 €/a
A28: 2 = Sitzungsgeld = 100 €/Tag und SelbstständigE/ER
A29: 3 = Fahrtkosten/Unterkunft (10 TN/Gremium x 1.000 €/Jahr, inkl. Veranstaltungsteilnahme)
A30: =Gesamt!A408 -> 4 = Projektfonds deckt ALLE für die Planung, Organisation, Durchführung, Öffentlichkeitsarbeit und Dokumentation anfallenden Projektekosten: Honorare (inkl. der Projektleitung), Mieten, Catering, Technik- u.a. Sachkosten etc.

Sheet PNKommunen
A1: Partnernetzwerk Kommunen
A2: Teilnehmende pro Treffen: durchschnittlich 30
B3: 2022 | C3: 2023 | D3: 2024 | E3: 2025 | F3: 2026 | G3: 2027 | H3: 2028 | I3: 2029 | J3: 2030 | K3: Gesamt
A5: Gremienarbeit
A6: Personal 2x100% (Betreuung und Koordinierung des Gremiums und seiner Projekte)1 | B6: =2*Gesamt!A405 -> 166108 | C6: =B6 -> 166108 | D6: =C6 -> 166108 | E6: =D6 -> 166108 | F6: =E6 -> 166108 | G6: =F6 -> 166108 | H6: =G6 -> 166108 | I6: =H6 -> 166108 | J6: =I6 -> 166108 | K6: =SUM(B6:J6) -> 1494972
A7: Bürokosten | K7: =SUM(B7:J7) -> 0
A8: Overhead (20% Personalkosten) | B8: =B6*0.2 -> 33221.6 | C8: =C6*0.2 -> 33221.6 | D8: =D6*0.2 -> 33221.6 | E8: =E6*0.2 -> 33221.6 | F8: =F6*0.2 -> 33221.6 | G8: =G6*0.2 -> 33221.6 | H8: =H6*0.2 -> 33221.6 | I8: =I6*0.2 -> 33221.6 | J8: =J6*0.2 -> 33221.6 | K8: =SUM(B8:J8) -> 298994.4
A9: Sitzungsgelder (10 Selbstständige, 1 Sitzung/Monat)2 | B9: =10*12*100 -> 12000 | C9: =B9 -> 12000 | D9: =C9 -> 12000 | E9: =D9 -> 12000 | F9: =E9 -> 12000 | G9: =F9 -> 12000 | H9: =G9 -> 12000 | I9: =H9 -> 12000 | J9: =I9 -> 12000 | K9: =SUM(B9:J9) -> 108000
A10: Fahrtkosten/Unterkunft3 | B10: =10*1000 -> 10000 | C10: =B10 -> 10000 | D10: =C10 -> 10000 | E10: =D10 -> 10000 | F10: =E10 -> 10000 | G10: =F10 -> 10000 | H10: =G10 -> 10000 | I10: =H10 -> 10000 | J10: =I10 -> 10000 | K10: =SUM(B10:J10) -> 90000
A11: Öffentlichkeitsarbeit (Zuarbeit zum BNE-Portal, 30 AT/Jahr; dazu Dauerpräsenz via Flyer, Facebook, Veranstaltungen: 100 AT/Jahr, 300 € brutto/AT) | B11: =130*300 -> 39000 | C11: =B11 -> 39000 | D11: =C11 -> 39000 | E11: =D11 -> 39000 | F11: =E11 -> 39000 | G11: =F11 -> 39000 | H11: =G11 -> 39000 | I11: =H11 -> 39000 | J11: =I11 -> 39000 | K11: =SUM(B11:J11) -> 351000
A12: Referent*innen (ca. 2 pro Sitzung= 24/Jahr, 250 €/Input) | B12: =24*250 -> 6000 | C12: =B12 -> 6000 | D12: =C12 -> 6000 | E12: =D12 -> 6000 | F12: =E12 -> 6000 | G12: =F12 -> 6000 | H12: =G12 -> 6000 | I12: =H12 -> 6000 | J12: =I12 -> 6000 | K12: =SUM(B12:J12) -> 54000
A13: Gutachten/Studien, Konzeptpapier u.a. | B13: =50000 -> 50000 | C13: =B13 -> 50000 | D13: =C13 -> 50000 | E13: =D13 -> 50000 | F13: =E13 -> 50000 | G13: =F13 -> 50000 | H13: =G13 -> 50000 | I13: =H13 -> 50000 | J13: =I13 -> 50000 | K13: =SUM(B13:J13) -> 450000
A15: Projektfonds4
A16: Projekt 1: Gute BNE-Praxisbeispiele aus den BNE-Kommunen | B16: =100000 -> 100000 | C16: =B16 -> 100000 | D16: =C16 -> 100000 | E16: =D16 -> 100000 | F16: =E16 -> 100000 | G16: =F16 -> 100000 | H16: =G16 -> 100000 | I16: =H16 -> 100000 | J16: =I16 -> 100000 | K16: =SUM(B16:J16) -> 900000
A17: Projekt 2 | K17: =SUM(B17:J17) -> 0
A18: Projekt 3 | K18: =SUM(B18:J18) -> 0
A20: Gesamt Gremienarbeit PN Kommunen | B20: =SUM(B6:B13) -> 316329.6 | C20: =SUM(C6:C13) -> 316329.6 | D20: =SUM(D6:D13) -> 316329.6 | E20: =SUM(E6:E13) -> 316329.6 | F20: =SUM(F6:F13) -> 316329.6 | G20: =SUM(G6:G13) -> 316329.6 | H20: =SUM(H6:H13) -> 316329.6 | I20: =SUM(I6:I13) -> 316329.6 | ... K20: =SUM(K6:K13) -> 2846966.4
A21: Gesamt Projektfonds | B21: =SUM(B16:B18) -> 100000 | C21: =SUM(C16:C18) -> 100000 | D21: =SUM(D16:D18) -> 100000 | E21: =SUM(E16:E18) -> 100000 | F21: =SUM(F16:F18) -> 100000 | G21: =SUM(G16:G18) -> 100000 | H21: =SUM(H16:H18) -> 100000 | I21: =SUM(I16:I18) -> 100000 | ... K21: =SUM(K16:K18) -> 900000
A22: Summe "PN Kommunen" | B22: =SUM(B20:B21) -> 416329.6 | C22: =SUM(C20:C21) -> 416329.6 | D22: =SUM(D20:D21) -> 416329.6 | E22: =SUM(E20:E21) -> 416329.6 | F22: =SUM(F20:F21) -> 416329.6 | G22: =SUM(G20:G21) -> 416329.6 | H22: =SUM(H20:H21) -> 416329.6 | I22: =SUM(I20:I21) -> 416329.6 | ... K22: =SUM(K20:K21) -> 3746966.4
A26: 1 = Tarif TV-LPersonalkosten / Arbeitgeber-Brutto lt. Hamburger Tabelle:
A27: =Gesamt!A404 -> 100 % E13 = 83.054 €/a
A28: 2 = Sitzungsgeld = 100 €/Tag und SelbstständigE/ER
A29: 3 = Fahrtkosten/Unterkunft (10 TN/Gremium x 1.000 €/Jahr, inkl. Veranstaltungsteilnahme)
A30: =Gesamt!A408 -> 4 = Projektfonds deckt ALLE für die Planung, Organisation, Durchführung, Öffentlichkeitsarbeit und Dokumentation anfallenden Projektekosten: Honorare (inkl. der Projektleitung), Mieten, Catering, Technik- u.a. Sachkosten etc.
