Workbook

Sheet Gesamt
A1: Bitte auf dieser Seite KEINE ZAHLEN eintragen - Eintragungen NUR in den Tabellenblättern der FF oder PN (s. Reiter unten)
A2: Die Daten aus den Tabellenblätter werden automatisch auf diese Seite übertragen
A3: AUTOR*INNEN: Dr. Manfred Beck (Co-Vorsitzender Forum Kommunen), Ralf Behrens (Mitglied Forum Kommunen), Birgit Eschenlohr (Mitglied Forum Kommunen), Klemens Gieles (Co-Sprecher Partnernetzwerk Kulturelle Bildung und Kulturpolitik), Friedrich Hagedorn (designiertes Mitglied Forum Non-formales und informelles Lernen / Jugend ), Dr. Thomas Klein (Co-Sprecher Partnernetzwerk Medien), Madeleine Porr (Mitglied Partnernetzwerk Außerschulische Bildungswelten)
A4: Stand: 18.08.2021
B6: 2022 | C6: 2023 | D6: 2024 | E6: 2025 | F6: 2026 | G6: 2027 | H6: 2028 | I6: 2029 | J6: 2030 | K6: Gesamt
A7: Übergeordnete Bereiche BMBF/DLR
A8: Personal | K8: =SUM(B8:J8) -> 0
A9: Koordinierung | K9: =SUM(B9:J9) -> 0
A10: ='BMBF-DLR'!A6 -> Verwaltung und Abwicklung der Mittel für die Gremienarbeit sowie der Projektfördermittel gemäß der Auswahl durch das Partnerforum | K10: =SUM(B10:J10) -> 0
A11: wissenschaftliche Begleitung | K11: =SUM(B11:J11) -> 0
A12: Öffentlichkeitsarbeit | K12: =SUM(B12:J12) -> 0
A13: Veranstaltungen | K13: =SUM(B13:J13) -> 0
A14: Gesamt Kosten BMBF/DLR * | B14: 5000000 | C14: =B14 -> 5000000 | D14: =C14 -> 5000000 | E14: =D14 -> 5000000 | F14: =E14 -> 5000000 | G14: =F14 -> 5000000 | H14: =G14 -> 5000000 | I14: =H14 -> 5000000 | J14: =I14 -> 5000000 | K14: =SUM(B14:J14) -> 45000000
A16: Projektfonds4
A17: ='BMBF-DLR'!A13 -> Finanzmittel für Projekte und Veranstaltungen, die der BNE zuzuordnen sind, die aber nicht von FF oder PN durchgeführt werden (Auswahl durch Partnerforum) | B17: 85000000 | C17: =B17 -> 85000000 | D17: =C17 -> 85000000 | E17: =D17 -> 85000000 | F17: =E17 -> 85000000 | G17: =F17 -> 85000000 | H17: =G17 -> 85000000 | I17: =H17 -> 85000000 | J17: =I17 -> 85000000 | K17: =SUM(B17:J17) -> 765000000
A19: Gesamt Kosten BMBF/DLR * | B19: =B14 -> 5000000 | C19: =C14 -> 5000000 | D19: =D14 -> 5000000 | E19: =E14 -> 5000000 | F19: =F14 -> 5000000 | G19: =G14 -> 5000000 | H19: =H14 -> 5000000 | I19: =I14 -> 5000000 | J19: =J14 -> 5000000 | K19: =SUM(B19:J19) -> 45000000
A20: Gesamt Projektfonds | B20: =B17 -> 85000000 | C20: =C17 -> 85000000 | D20: =D17 -> 85000000 | E20: =E17 -> 85000000 | F20: =F17 -> 85000000 | G20: =G17 -> 85000000 | H20: =H17 -> 85000000 | I20: =I17 -> 85000000 | J20: =J17 -> 85000000 | K20: =SUM(B20:J20) -> 765000000
A21: Summe Übergeordnete Bereiche BMBF/DLR * | B21: =SUM(B19:B20) -> 90000000 | C21: =SUM(C19:C20) -> 90000000 | D21: =SUM(D19:D20) -> 90000000 | E21: =SUM(E19:E20) -> 90000000 | F21: =SUM(F19:F20) -> 90000000 | G21: =SUM(G19:G20) -> 90000000 | H21: =SUM(H19:H20) -> 90000000 | I21: =SUM(I19:I20) -> 90000000 | J21: =SUM(J19:J20) -> 90000000 | K21: =SUM(B21:J21) -> 810000000
A23: Partnerforum
A25: Gremienarbeit
A26: Personal 2x100% TV E131 (Betreuung und Koordinierung des Gremiums) + 10,5x100% TV E131 (je 1,5 Stellen pro Bildungsbereich) | B26: =PARTNERFORUM!B6 -> 1038175 | C26: =PARTNERFORUM!C6 -> 1038175 | D26: =PARTNERFORUM!D6 -> 1038175 | E26: =PARTNERFORUM!E6 -> 1038175 | F26: =PARTNERFORUM!F6 -> 1038175 | G26: =PARTNERFORUM!G6 -> 1038175 | H26: =PARTNERFORUM!H6 -> 1038175 | I26: =PARTNERFORUM!I6 -> 1038175 | J26: =PARTNERFORUM!J6 -> 1038175 | K26: =SUM(B26:J26) -> 9343575
A27: Bürokosten | B27: =PARTNERFORUM!B7 -> 0 | C27: =PARTNERFORUM!C7 -> 0 | D27: =PARTNERFORUM!D7 -> 0 | E27: =PARTNERFORUM!E7 -> 0 | F27: =PARTNERFORUM!F7 -> 0 | G27: =PARTNERFORUM!G7 -> 0 | H27: =PARTNERFORUM!H7 -> 0 | I27: =PARTNERFORUM!I7 -> 0 | J27: =PARTNERFORUM!J7 -> 0 | K27: =SUM(B27:J27) -> 0
A28: Overhead (20% Personalkosten) | B28: =PARTNERFORUM!B8 -> 207635 | C28: =PARTNERFORUM!C8 -> 207635 | D28: =PARTNERFORUM!D8 -> 207635 | E28: =PARTNERFORUM!E8 -> 207635 | F28: =PARTNERFORUM!F8 -> 207635 | G28: =PARTNERFORUM!G8 -> 207635 | H28: =PARTNERFORUM!H8 -> 207635 | I28: =PARTNERFORUM!I8 -> 207635 | J28: =PARTNERFORUM!J8 -> 207635 | K28: =SUM(B28:J28) -> 1868715
A29: Sitzungsgelder (10 Selbstständige, 1 Sitzung/Monat)2 | B29: =PARTNERFORUM!B9 -> 12000 | C29: =PARTNERFORUM!C9 -> 12000 | D29: =PARTNERFORUM!D9 -> 12000 | E29: =PARTNERFORUM!E9 -> 12000 | F29: =PARTNERFORUM!F9 -> 12000 | G29: =PARTNERFORUM!G9 -> 12000 | H29: =PARTNERFORUM!H9 -> 12000 | I29: =PARTNERFORUM!I9 -> 12000 | J29: =PARTNERFORUM!J9 -> 12000 | K29: =SUM(B29:J29) -> 108000
A30: Fahrtkosten/Unterkunft3 | B30: =PARTNERFORUM!B10 -> 10000 | C30: =PARTNERFORUM!C10 -> 10000 | D30: =PARTNERFORUM!D10 -> 10000 | E30: =PARTNERFORUM!E10 -> 10000 | F30: =PARTNERFORUM!F10 -> 10000 | G30: =PARTNERFORUM!G10 -> 10000 | H30: =PARTNERFORUM!H10 -> 10000 | I30: =PARTNERFORUM!I10 -> 10000 | J30: =PARTNERFORUM!J10 -> 10000 | K30: =SUM(B30:J30) -> 90000
A31: Öffentlichkeitsarbeit (Zuarbeit zum BNE-Portal) | B31: =PARTNERFORUM!B11 -> 9000 | C31: =PARTNERFORUM!C11 -> 9000 | D31: =PARTNERFORUM!D11 -> 9000 | E31: =PARTNERFORUM!E11 -> 9000 | F31: =PARTNERFORUM!F11 -> 9000 | G31: =PARTNERFORUM!G11 -> 9000 | H31: =PARTNERFORUM!H11 -> 9000 | I31: =PARTNERFORUM!I11 -> 9000 | J31: =PARTNERFORUM!J11 -> 9000 | K31: =SUM(B31:J31) -> 81000
A33: Projektfonds4
A34: Projekt 1: Open Days (Präsenzveranstaltungen, 6x/Jahr) | B34: =PARTNERFORUM!B14 -> 750000 | C34: =PARTNERFORUM!C14 -> 750000 | D34: =PARTNERFORUM!D14 -> 750000 | E34: =PARTNERFORUM!E14 -> 750000 | F34: =PARTNERFORUM!F14 -> 750000 | G34: =PARTNERFORUM!G14 -> 750000 | H34: =PARTNERFORUM!H14 -> 750000 | I34: =PARTNERFORUM!I14 -> 750000 | J34: =PARTNERFORUM!J14 -> 750000 | K34: =SUM(B34:J34) -> 6750000
A35: Projekt 2: Informations-, Kommunikations-, Beratungs- und Auswahlstelle für die Vergabe finanzieller Mittel an Projekte und Veranstaltungen, die der BNE zuzuordnen sind, aber nicht von FF oder PN durchgeführt werden; Sachkostenpauschale für 10,5 Stellen ohne Mittelabwicklung)5 | B35: =PARTNERFORUM!B15 -> 136500 | C35: =PARTNERFORUM!C15 -> 136500 | D35: =PARTNERFORUM!D15 -> 136500 | E35: =PARTNERFORUM!E15 -> 136500 | F35: =PARTNERFORUM!F15 -> 136500 | G35: =PARTNERFORUM!G15 -> 136500 | H35: =PARTNERFORUM!H15 -> 136500 | I35: =PARTNERFORUM!I15 -> 136500 | J35: =PARTNERFORUM!J15 -> 136500 | K35: =SUM(B35:J35) -> 1228500
A36: Projekt 3 | B36: =PARTNERFORUM!B16 -> 0 | C36: =PARTNERFORUM!C16 -> 0 | D36: =PARTNERFORUM!D16 -> 0 | E36: =PARTNERFORUM!E16 -> 0 | F36: =PARTNERFORUM!F16 -> 0 | G36: =PARTNERFORUM!G16 -> 0 | H36: =PARTNERFORUM!H16 -> 0 | I36: =PARTNERFORUM!I16 -> 0 | J36: =PARTNERFORUM!J16 -> 0 | K36: =SUM(B36:J36) -> 0
A38: Gesamt Gremienarbeit | B38: =SUM(B26:B31) -> 1276810 | C38: =SUM(C26:C31) -> 1276810 | D38: =SUM(D26:D31) -> 1276810 | E38: =SUM(E26:E31) -> 1276810 | F38: =SUM(F26:F31) -> 1276810 | G38: =SUM(G26:G31) -> 1276810 | H38: =SUM(H26:H31) -> 1276810 | I38: =SUM(I26:I31) -> 1276810 | ... K38: =SUM(K26:K31) -> 11491290
A39: Gesamt Projektfonds | B39: =SUM(B34:B36) -> 886500 | C39: =SUM(C34:C36) -> 886500 | D39: =SUM(D34:D36) -> 886500 | E39: =SUM(E34:E36) -> 886500 | F39: =SUM(F34:F36) -> 886500 | G39: =SUM(G34:G36) -> 886500 | H39: =SUM(H34:H36) -> 886500 | I39: =SUM(I34:I36) -> 886500 | ... K39: =SUM(K34:K36) -> 7978500
A40: Summe Partnerforum | B40: =SUM(B38:B39) -> 2163310 | C40: =SUM(C38:C39) -> 2163310 | D40: =SUM(D38:D39) -> 2163310 | E40: =SUM(E38:E39) -> 2163310 | F40: =SUM(F38:F39) -> 2163310 | G40: =SUM(G38:G39) -> 2163310 | H40: =SUM(H38:H39) -> 2163310 | I40: =SUM(I38:I39) -> 2163310 | ... K40: =SUM(K38:K39) -> 19469790
A42: FF Frühkindliche Bildung
A44: Gremienarbeit
A45: Personal 2x100% (Betreuung und Koordinierung des Gremiums und seiner Projekte)1 | B45: =FFKiTa!B6 -> 166108 | C45: =FFKiTa!C6 -> 166108 | D45: =FFKiTa!D6 -> 166108 | E45: =FFKiTa!E6 -> 166108 | F45: =FFKiTa!F6 -> 166108 | G45: =FFKiTa!G6 -> 166108 | H45: =FFKiTa!H6 -> 166108 | I45: =FFKiTa!I6 -> 166108 | J45: =FFKiTa!J6 -> 166108 | K45: =SUM(B45:J45) -> 1494972
A46: Bürokosten | B46: =FFKiTa!B7 -> 0 | C46: =FFKiTa!C7 -> 0 | D46: =FFKiTa!D7 -> 0 | E46: =FFKiTa!E7 -> 0 | F46: =FFKiTa!F7 -> 0 | G46: =FFKiTa!G7 -> 0 | H46: =FFKiTa!H7 -> 0 | I46: =FFKiTa!I7 -> 0 | J46: =FFKiTa!J7 -> 0 | K46: =SUM(B46:J46) -> 0
A47: Overhead (20% Personalkosten) | B47: =PNKommunen!B8 -> 33221.6 | C47: =PNKommunen!C8 -> 33221.6 | D47: =PNKommunen!D8 -> 33221.6 | E47: =PNKommunen!E8 -> 33221.6 | F47: =PNKommunen!F8 -> 33221.6 | G47: =PNKommunen!G8 -> 33221.6 | H47: =PNKommunen!H8 -> 33221.6 | I47: =PNKommunen!I8 -> 33221.6 | ... K47: =PNKommunen!K8 -> 298994.4
A48: Sitzungsgelder (10 Selbstständige, 1 Sitzung/Monat)2 | B48: =FFKiTa!B9 -> 12000 | C48: =FFKiTa!C9 -> 12000 | D48: =FFKiTa!D9 -> 12000 | E48: =FFKiTa!E9 -> 12000 | F48: =FFKiTa!F9 -> 12000 | G48: =FFKiTa!G9 -> 12000 | H48: =FFKiTa!H9 -> 12000 | I48: =FFKiTa!I9 -> 12000 | J48: =FFKiTa!J9 -> 12000 | K48: =SUM(B48:J48) -> 108000
A49: Fahrtkosten/Unterkunft3 | B49: =FFKiTa!B10 -> 10000 | C49: =FFKiTa!C10 -> 10000 | D49: =FFKiTa!D10 -> 10000 | E49: =FFKiTa!E10 -> 10000 | F49: =FFKiTa!F10 -> 10000 | G49: =FFKiTa!G10 -> 10000 | H49: =FFKiTa!H10 -> 10000 | I49: =FFKiTa!I10 -> 10000 | J49: =FFKiTa!J10 -> 10000 | K49: =SUM(B49:J49) -> 90000
...

Sheet BMBF-DLR
A1: Übergeordnete Bereiche BMBF/DLR
B3: 2022 | C3: 2023 | D3: 2024 | E3: 2025 | F3: 2026 | G3: 2027 | H3: 2028 | I3: 2029 | J3: 2030 | K3: Gesamt
A4: Personal
A5: Koordinierung | K5: =SUM(B5:J5) -> 0
A6: Verwaltung und Abwicklung der Mittel für die Gremienarbeit sowie der Projektfördermittel gemäß der Auswahl durch das Partnerforum
A7: wissenschaftliche Begleitung | K7: =SUM(B7:J7) -> 0
A8: Öffentlichkeitsarbeit | K8: =SUM(B8:J8) -> 0
A9: Veranstaltungen | K9: =SUM(B9:J9) -> 0
A10: Summe „Übergeordnete Bereiche BMBF/DLR“ * | B10: 5000000 | C10: =B10 -> 5000000 | D10: =C10 -> 5000000 | E10: =D10 -> 5000000 | F10: =E10 -> 5000000 | G10: =F10 -> 5000000 | H10: =G10 -> 5000000 | I10: =H10 -> 5000000 | J10: =I10 -> 5000000 | K10: =SUM(B10:J10) -> 45000000
A12: Projektfonds4
A13: Finanzmittel für Projekte und Veranstaltungen, die der BNE zuzuordnen sind, die aber nicht von FF oder PN durchgeführt werden (Auswahl durch Partnerforum) | B13: 85000000 | C13: =B13 -> 85000000 | D13: =C13 -> 85000000 | E13: =D13 -> 85000000 | F13: =E13 -> 85000000 | G13: =F13 -> 85000000 | H13: =G13 -> 85000000 | I13: =H13 -> 85000000 | J13: =I13 -> 85000000 | K13: =SUM(B13:J13) -> 765000000
A15: Gesamt Kosten BMBF/DLR * | B15: =B10 -> 5000000 | C15: =C10 -> 5000000 | D15: =D10 -> 5000000 | E15: =E10 -> 5000000 | F15: =F10 -> 5000000 | G15: =G10 -> 5000000 | H15: =H10 -> 5000000 | I15: =I10 -> 5000000 | J15: =J10 -> 5000000 | K15: =SUM(B15:J15) -> 45000000
A16: Gesamt Projektfonds | B16: =B13 -> 85000000 | C16: =C13 -> 85000000 | D16: =D13 -> 85000000 | E16: =E13 -> 85000000 | F16: =F13 -> 85000000 | G16: =G13 -> 85000000 | H16: =H13 -> 85000000 | I16: =I13 -> 85000000 | J16: =J13 -> 85000000 | K16: =SUM(B16:J16) -> 765000000
A17: Summe „Übergeordnete Bereiche BMBF/DLR“ * | B17: =SUM(B15:B16) -> 90000000 | C17: =SUM(C15:C16) -> 90000000 | D17: =SUM(D15:D16) -> 90000000 | E17: =SUM(E15:E16) -> 90000000 | F17: =SUM(F15:F16) -> 90000000 | G17: =SUM(G15:G16) -> 90000000 | H17: =SUM(H15:H16) -> 90000000 | I17: =SUM(I15:I16) -> 90000000 | J17: =SUM(J15:J16) -> 90000000 | K17: =SUM(B17:J17) -> 810000000
A19: =Gesamt!A402 -> * = Kostenschätzung auf der Basis der BMBF-Auskunft v. 16.10.20
A20: =Gesamt!A408 -> 4 = Projektfonds deckt ALLE für die Planung, Organisation, Durchführung, Öffentlichkeitsarbeit und Dokumentation anfallenden Projektekosten: Honorare (inkl. der Projektleitung), Mieten, Catering, Technik- u.a. Sachkosten etc.

Sheet PARTNERFORUM
A1: Partnerforum
B3: 2022 | C3: 2023 | D3: 2024 | E3: 2025 | F3: 2026 | G3: 2027 | H3: 2028 | I3: 2029 | J3: 2030 | K3: Gesamt
A5: Gremienarbeit
A6: Personal 2x100% TV E131 (Betreuung und Koordinierung des Gremiums) + 10,5x100% TV E131 (je 1,5 Stellen pro Bildungsbereich) | B6: =12.5*Gesamt!A405 -> 1038175 | C6: =B6 -> 1038175 | D6: =C6 -> 1038175 | E6: =D6 -> 1038175 | F6: =E6 -> 1038175 | G6: =F6 -> 1038175 | H6: =G6 -> 1038175 | I6: =H6 -> 1038175 | J6: =I6 -> 1038175 | K6: =SUM(B6:J6) -> 9343575
A7: Bürokosten | K7: =SUM(B7:J7) -> 0
A8: Overhead (20% Personalkosten) | B8: =B6*0.2 -> 207635 | C8: =C6*0.2 -> 207635 | D8: =D6*0.2 -> 207635 | E8: =E6*0.2 -> 207635 | F8: =F6*0.2 -> 207635 | G8: =G6*0.2 -> 207635 | H8: =H6*0.2 -> 207635 | I8: =I6*0.2 -> 207635 | ... K8: =K6*0.2 -> 1868715
A9: Sitzungsgelder (10 Selbstständige, 1 Sitzung/Monat)2 | B9: =10*12*100 -> 12000 | C9: =B9 -> 12000 | D9: =C9 -> 12000 | E9: =D9 -> 12000 | F9: =E9 -> 12000 | G9: =F9 -> 12000 | H9: =G9 -> 12000 | I9: =H9 -> 12000 | J9: =I9 -> 12000 | K9: =SUM(B9:J9) -> 108000
A10: Fahrtkosten/Unterkunft3 | B10: =10*1000 -> 10000 | C10: =B10 -> 10000 | D10: =C10 -> 10000 | E10: =D10 -> 10000 | F10: =E10 -> 10000 | G10: =F10 -> 10000 | H10: =G10 -> 10000 | I10: =H10 -> 10000 | J10: =I10 -> 10000 | K10: =SUM(B10:J10) -> 90000
A11: Öffentlichkeitsarbeit (Zuarbeit zum BNE-Portal, 30 AT/Jahr, 300 € brutto/AT) | B11: =30*300 -> 9000 | C11: =B11 -> 9000 | D11: =C11 -> 9000 | E11: =D11 -> 9000 | F11: =E11 -> 9000 | G11: =F11 -> 9000 | H11: =G11 -> 9000 | I11: =H11 -> 9000 | J11: =I11 -> 9000 | K11: =SUM(B11:J11) -> 81000
A13: Projektfonds4
A14: Projekt 1: Open Days (Präsenzveranstaltungen, 6x/Jahr) | B14: =3*250000 -> 750000 | C14: =B14 -> 750000 | D14: =C14 -> 750000 | E14: =D14 -> 750000 | F14: =E14 -> 750000 | G14: =F14 -> 750000 | H14: =G14 -> 750000 | I14: =H14 -> 750000 | J14: =I14 -> 750000 | K14: =SUM(B14:J14) -> 6750000
A15: Projekt 2: Informations-, Kommunikations-, Beratungs- und Auswahlstelle für die Vergabe finanzieller Mittel an Projekte und Veranstaltungen, die der BNE zuzuordnen sind, aber nicht von FF oder PN durchgeführt werden; Sachkostenpauschale für 10,5 Stellen (keine Mittelabwicklung)5 | B15: =10.5*A31 -> 136500 | C15: =10.5*A31 -> 136500 | D15: =10.5*A31 -> 136500 | E15: =10.5*A31 -> 136500 | F15: =10.5*A31 -> 136500 | G15: =10.5*A31 -> 136500 | H15: =10.5*A31 -> 136500 | I15: =10.5*A31 -> 136500 | J15: =10.5*A31 -> 136500 | K15: =SUM(B15:J15) -> 1228500
A16: Projekt 3 | K16: =SUM(B16:J16) -> 0
A18: Gesamt Gremienarbeit Partnerforum | B18: =SUM(B6:B11) -> 1276810 | C18: =SUM(C6:C11) -> 1276810 | D18: =SUM(D6:D11) -> 1276810 | E18: =SUM(E6:E11) -> 1276810 | F18: =SUM(F6:F11) -> 1276810 | G18: =SUM(G6:G11) -> 1276810 | H18: =SUM(H6:H11) -> 1276810 | I18: =SUM(I6:I11) -> 1276810 | ... K18: =SUM(K6:K11) -> 11491290
A19: Gesamt Projektfonds | B19: =SUM(B14:B16) -> 886500 | C19: =SUM(C14:C16) -> 886500 | D19: =SUM(D14:D16) -> 886500 | E19: =SUM(E14:E16) -> 886500 | F19: =SUM(F14:F16) -> 886500 | G19: =SUM(G14:G16) -> 886500 | H19: =SUM(H14:H16) -> 886500 | I19: =SUM(I14:I16) -> 886500 | ... K19: =SUM(K14:K16) -> 7978500
A20: Summe "Partnerforum" | B20: =SUM(B18:B19) -> 2163310 | C20: =SUM(C18:C19) -> 2163310 | D20: =SUM(D18:D19) -> 2163310 | E20: =SUM(E18:E19) -> 2163310 | F20: =SUM(F18:F19) -> 2163310 | G20: =SUM(G18:G19) -> 2163310 | H20: =SUM(H18:H19) -> 2163310 | I20: =SUM(I18:I19) -> 2163310 | ... K20: =SUM(K18:K19) -> 19469790
A24: 1 = Tarif TV-LPersonalkosten / Arbeitgeber-Brutto lt. Hamburger Tabelle:
A25: =Gesamt!A404 -> 100 % E13 = 83.054 €/a
A26: 2 = Sitzungsgeld = 100 €/Tag und SelbstständigE/ER
A27: 3 = Fahrtkosten/Unterkunft (10 TN/Gremium x 1.000 €/Jahr, inkl. Veranstaltungsteilnahme)
A28: =Gesamt!A408 -> 4 = Projektfonds deckt ALLE für die Planung, Organisation, Durchführung, Öffentlichkeitsarbeit und Dokumentation anfallenden Projektekosten: Honorare (inkl. der Projektleitung), Mieten, Catering, Technik- u.a. Sachkosten etc.
A29: 5 = Schätzung auf der Grundlage der Verwaltungsvorschrift „Sachkostenpauschale eines Arbeitsplatzes in der Bundesverwaltung für Kostenberechnungen / Wirtschaftlichkeitsuntersuchungen (Sachkostenpauschale 2010 Anlage 2)“: 13.000 €/a
A30: http://www.verwaltungsvorschriften-im-internet.de/pdf/BMF-IIIA1-20110509-SF-A002.pdf
A31: 13000

Sheet FFKiTa
A1: Fachforum Frühkindliche Bildung
B3: 2022 | C3: 2023 | D3: 2024 | E3: 2025 | F3: 2026 | G3: 2027 | H3: 2028 | I3: 2029 | J3: 2030 | K3: Gesamt
A5: Gremienarbeit
A6: Personal 2x100% (Betreuung und Koordinierung des Gremiums und seiner Projekte)1 | B6: =2*Gesamt!A405 -> 166108 | C6: =B6 -> 166108 | D6: =C6 -> 166108 | E6: =D6 -> 166108 | F6: =E6 -> 166108 | G6: =F6 -> 166108 | H6: =G6 -> 166108 | I6: =H6 -> 166108 | J6: =I6 -> 166108 | K6: =SUM(B6:J6) -> 1494972
A7: Bürokosten | K7: =SUM(B7:J7) -> 0
A8: Overhead (20% Personalkosten) | B8: =B6*0.2 -> 33221.6 | C8: =C6*0.2 -> 33221.6 | D8: =D6*0.2 -> 33221.6 | E8: =E6*0.2 -> 33221.6 | F8: =F6*0.2 -> 33221.6 | G8: =G6*0.2 -> 33221.6 | H8: =H6*0.2 -> 33221.6 | I8: =I6*0.2 -> 33221.6 | ... K8: =K6*0.2 -> 298994.4
A9: Sitzungsgelder (10 Selbstständige, 1 Sitzung/Monat)2 | B9: =10*12*100 -> 12000 | C9: =B9 -> 12000 | D9: =C9 -> 12000 | E9: =D9 -> 12000 | F9: =E9 -> 12000 | G9: =F9 -> 12000 | H9: =G9 -> 12000 | I9: =H9 -> 12000 | J9: =I9 -> 12000 | K9: =SUM(B9:J9) -> 108000
A10: Fahrtkosten/Unterkunft3 | B10: =10*1000 -> 10000 | C10: =B10 -> 10000 | D10: =C10 -> 10000 | E10: =D10 -> 10000 | F10: =E10 -> 10000 | G10: =F10 -> 10000 | H10: =G10 -> 10000 | I10: =H10 -> 10000 | J10: =I10 -> 10000 | K10: =SUM(B10:J10) -> 90000
A11: Öffentlichkeitsarbeit (Zuarbeit zum BNE-Portal, 30 AT/Jahr, 300 € brutto/AT) | B11: =30*300 -> 9000 | C11: =B11 -> 9000 | D11: =C11 -> 9000 | E11: =D11 -> 9000 | F11: =E11 -> 9000 | G11: =F11 -> 9000 | H11: =G11 -> 9000 | I11: =H11 -> 9000 | J11: =I11 -> 9000 | K11: =SUM(B11:J11) -> 81000
A12: Referent*innen (2xJahr Input, 500 €/Input) | B12: =2*500 -> 1000 | C12: =B12 -> 1000 | D12: =C12 -> 1000 | E12: =D12 -> 1000 | F12: =E12 -> 1000 | G12: =F12 -> 1000 | H12: =G12 -> 1000 | I12: =H12 -> 1000 | J12: =I12 -> 1000 | K12: =SUM(B12:J12) -> 9000
A13: Gutachten/Studien u.a. (2x/Jahr) | B13: =2*50000 -> 100000 | C13: =B13 -> 100000 | D13: =C13 -> 100000 | E13: =D13 -> 100000 | F13: =E13 -> 100000 | G13: =F13 -> 100000 | H13: =G13 -> 100000 | I13: =H13 -> 100000 | J13: =I13 -> 100000 | K13: =SUM(B13:J13) -> 900000
A15: Projektfonds4
A16: Projekt 1: Veranstaltungen „BNE in der KITA“ (Präsenz, 6xJahr für Nord-, Mittel-, Süddeutschland) | B16: =6*100000 -> 600000 | C16: =B16 -> 600000 | D16: =C16 -> 600000 | E16: =D16 -> 600000 | F16: =E16 -> 600000 | G16: =F16 -> 600000 | H16: =G16 -> 600000 | I16: =H16 -> 600000 | J16: =I16 -> 600000 | K16: =SUM(B16:J16) -> 5400000
A17: Projekt 2: (Fort-)Bildungsmaterialien (Bücher, Spiele) | B17: 1000000 | C17: =B17 -> 1000000 | D17: =C17 -> 1000000 | E17: =D17 -> 1000000 | F17: =E17 -> 1000000 | G17: =F17 -> 1000000 | H17: =G17 -> 1000000 | I17: =H17 -> 1000000 | J17: =I17 -> 1000000 | K17: =SUM(B17:J17) -> 9000000
A18: Projekt 3 | K18: =SUM(B18:J18) -> 0
A20: Gesamt Gremienarbeit FF Frühkindliche | B20: =SUM(B6:B13) -> 331329.6 | C20: =SUM(C6:C13) -> 331329.6 | D20: =SUM(D6:D13) -> 331329.6 | E20: =SUM(E6:E13) -> 331329.6 | F20: =SUM(F6:F13) -> 331329.6 | G20: =SUM(G6:G13) -> 331329.6 | H20: =SUM(H6:H13) -> 331329.6 | I20: =SUM(I6:I13) -> 331329.6 | ... K20: =SUM(K6:K13) -> 2981966.4
A21: Gesamt Projektfonds | B21: =SUM(B16:B18) -> 1600000 | C21: =SUM(C16:C18) -> 1600000 | D21: =SUM(D16:D18) -> 1600000 | E21: =SUM(E16:E18) -> 1600000 | F21: =SUM(F16:F18) -> 1600000 | G21: =SUM(G16:G18) -> 1600000 | H21: =SUM(H16:H18) -> 1600000 | I21: =SUM(I16:I18) -> 1600000 | ... K21: =SUM(K16:K18) -> 14400000
A22: Summe "Frühkindliche Bildung" | B22: =SUM(B20:B21) -> 1931329.6 | C22: =SUM(C20:C21) -> 1931329.6 | D22: =SUM(D20:D21) -> 1931329.6 | E22: =SUM(E20:E21) -> 1931329.6 | F22: =SUM(F20:F21) -> 1931329.6 | G22: =SUM(G20:G21) -> 1931329.6 | H22: =SUM(H20:H21) -> 1931329.6 | I22: =SUM(I20:I21) -> 1931329.6 | ... K22: =SUM(K20:K21) -> 17381966
A26: 1 = Tarif TV-LPersonalkosten / Arbeitgeber-Brutto lt. Hamburger Tabelle:
A27: =Gesamt!A404 -> 100 % E13 = 83.054 €/a
A28: 2 = Sitzungsgeld = 100 €/Tag und SelbstständigE/ER
A29: 3 = Fahrtkosten/Unterkunft (10 TN/Gremium x 1.000 €/Jahr, inkl. Veranstaltungsteilnahme)
A30: =Gesamt!A408 -> 4 = Projektfonds deckt ALLE für die Planung, Organisation, Durchführung, Öffentlichkeitsarbeit und Dokumentation anfallenden Projektekosten: Honorare (inkl. der Projektleitung), Mieten, Catering, Technik- u.a. Sachkosten etc.

Sheet FFSchule
A1: Fachforum Schule
B3: 2022 | C3: 2023 | D3: 2024 | E3: 2025 | F3: 2026 | G3: 2027 | H3: 2028 | I3: 2029 | J3: 2030 | K3: Gesamt
A5: Gremienarbeit
A6: Personal 2x100% (Betreuung und Koordinierung des Gremiums und seiner Projekte)1 | B6: =2*Gesamt!A405 -> 166108 | C6: =B6 -> 166108 | D6: =C6 -> 166108 | E6: =D6 -> 166108 | F6: =E6 -> 166108 | G6: =F6 -> 166108 | H6: =G6 -> 166108 | I6: =H6 -> 166108 | J6: =I6 -> 166108 | K6: =SUM(B6:J6) -> 1494972
A7: Bürokosten | K7: =SUM(B7:J7) -> 0
A8: Overhead (20% Personalkosten) | B8: =B6*0.2 -> 33221.6 | C8: =C6*0.2 -> 33221.6 | D8: =D6*0.2 -> 33221.6 | E8: =E6*0.2 -> 33221.6 | F8: =F6*0.2 -> 33221.6 | G8: =G6*0.2 -> 33221.6 | H8: =H6*0.2 -> 33221.6 | I8: =I6*0.2 -> 33221.6 | ... K8: =K6*0.2 -> 298994.4
A9: Sitzungsgelder (10 Selbstständige, 1 Sitzung/Monat)2 | B9: =10*12*100 -> 12000 | C9: =B9 -> 12000 | D9: =C9 -> 12000 | E9: =D9 -> 12000 | F9: =E9 -> 12000 | G9: =F9 -> 12000 | H9: =G9 -> 12000 | I9: =H9 -> 12000 | J9: =I9 -> 12000 | K9: =SUM(B9:J9) -> 108000
A10: Fahrtkosten/Unterkunft3 | B10: =10*1000 -> 10000 | C10: =B10 -> 10000 | D10: =C10 -> 10000 | E10: =D10 -> 10000 | F10: =E10 -> 10000 | G10: =F10 -> 10000 | H10: =G10 -> 10000 | I10: =H10 -> 10000 | J10: =I10 -> 10000 | K10: =SUM(B10:J10) -> 90000
A11: Öffentlichkeitsarbeit (Zuarbeit zum BNE-Portal, 30 AT/Jahr, 300 € brutto/AT) | B11: =30*300 -> 9000 | C11: =B11 -> 9000 | D11: =C11 -> 9000 | E11: =D11 -> 9000 | F11: =E11 -> 9000 | G11: =F11 -> 9000 | H11: =G11 -> 9000 | I11: =H11 -> 9000 | J11: =I11 -> 9000 | K11: =SUM(B11:J11) -> 81000
A12: Referent*innen (2xJahr Input, 500 €/Input) | B12: =2*500 -> 1000 | C12: =B12 -> 1000 | D12: =C12 -> 1000 | E12: =D12 -> 1000 | F12: =E12 -> 1000 | G12: =F12 -> 1000 | H12: =G12 -> 1000 | I12: =H12 -> 1000 | J12: =I12 -> 1000 | K12: =SUM(B12:J12) -> 9000
A13: Gutachten/Studien u.a. (2x/Jahr) | B13: =2*50000 -> 100000 | C13: =B13 -> 100000 | D13: =C13 -> 100000 | E13: =D13 -> 100000 | F13: =E13 -> 100000 | G13: =F13 -> 100000 | H13: =G13 -> 100000 | I13: =H13 -> 100000 | J13: =I13 -> 100000 | K13: =SUM(B13:J13) -> 900000
A15: Projektfonds4
A16: Projekt 1: Veranstaltungen „BNE in den Schulen“ (Präsenz, 6xJahr für Nord-, Mittel-, Süddeutschland) | B16: =6*100000 -> 600000 | C16: =B16 -> 600000 | D16: =C16 -> 600000 | E16: =D16 -> 600000 | F16: =E16 -> 600000 | G16: =F16 -> 600000 | H16: =G16 -> 600000 | I16: =H16 -> 600000 | J16: =I16 -> 600000 | K16: =SUM(B16:J16) -> 5400000
A17: Projekt 2: (Fort-)Bildungsmaterialien (Bücher, Spiele, A/V, digitale Bildungsformate) | B17: 1000000 | C17: =B17 -> 1000000 | D17: =C17 -> 1000000 | E17: =D17 -> 1000000 | F17: =E17 -> 1000000 | G17: =F17 -> 1000000 | H17: =G17 -> 1000000 | I17: =H17 -> 1000000 | J17: =I17 -> 1000000 | K17: =SUM(B17:J17) -> 9000000
A18: Projekt 3 | K18: =SUM(B18:J18) -> 0
A20: Gesamt Gremienarbeit FF Schule | B20: =SUM(B6:B13) -> 331329.6 | C20: =SUM(C6:C13) -> 331329.6 | D20: =SUM(D6:D13) -> 331329.6 | E20: =SUM(E6:E13) -> 331329.6 | F20: =SUM(F6:F13) -> 331329.6 | G20: =SUM(G6:G13) -> 331329.6 | H20: =SUM(H6:H13) -> 331329.6 | I20: =SUM(I6:I13) -> 331329.6 | ... K20: =SUM(K6:K13) -> 2981966.4
A21: Gesamt Projektfonds | B21: =SUM(B16:B18) -> 1600000 | C21: =SUM(C16:C18) -> 1600000 | D21: =SUM(D16:D18) -> 1600000 | E21: =SUM(E16:E18) -> 1600000 | F21: =SUM(F16:F18) -> 1600000 | G21: =SUM(G16:G18) -> 1600000 | H21: =SUM(H16:H18) -> 1600000 | I21: =SUM(I16:I18) -> 1600000 | ... K21: =SUM(K16:K18) -> 14400000
A22: Summe "Schule" | B22: =SUM(B20:B21) -> 1931329.6 | C22: =SUM(C20:C21) -> 1931329.6 | D22: =SUM(D20:D21) -> 1931329.6 | E22: =SUM(E20:E21) -> 1931329.6 | F22: =SUM(F20:F21) -> 1931329.6 | G22: =SUM(G20:G21) -> 1931329.6 | H22: =SUM(H20:H21) -> 1931329.6 | I22: =SUM(I20:I21) -> 1931329.6 | ... K22: =SUM(K20:K21) -> 17381966
A26: 1 = Tarif TV-LPersonalkosten / Arbeitgeber-Brutto lt. Hamburger Tabelle:
A27: =Gesamt!A404 -> 100 % E13 = 83.054 €/a
A28: 2 = Sitzungsgeld = 100 €/Tag und SelbstständigE/ER
A29: 3 = Fahrtkosten/Unterkunft (10 TN/Gremium x 1.000 €/Jahr, inkl. Veranstaltungsteilnahme)
A30: =Gesamt!A408 -> 4 = Projektfonds deckt ALLE für die Planung, Organisation, Durchführung, Öffentlichkeitsarbeit und Dokumentation anfallenden Projektekosten: Honorare (inkl. der Projektleitung), Mieten, Catering, Technik- u.a. Sachkosten etc.

Sheet FFBBNE
A1: Fachforum Berufliche Bildung
B3: 2022 | C3: 2023 | D3: 2024 | E3: 2025 | F3: 2026 | G3: 2027 | H3: 2028 | I3: 2029 | J3: 2030 | K3: Gesamt
A5: Gremienarbeit
A6: Personal 2x100% (Betreuung und Koordinierung des Gremiums und seiner Projekte)1 | B6: =2*Gesamt!A405 -> 166108 | C6: =B6 -> 166108 | D6: =C6 -> 166108 | E6: =D6 -> 166108 | F6: =E6 -> 166108 | G6: =F6 -> 166108 | H6: =G6 -> 166108 | I6: =H6 -> 166108 | J6: =I6 -> 166108 | K6: =SUM(B6:J6) -> 1494972
A7: Bürokosten | K7: =SUM(B7:J7) -> 0
A8: Overhead (20% Personalkosten) | B8: =B6*0.2 -> 33221.6 | C8: =C6*0.2 -> 33221.6 | D8: =D6*0.2 -> 33221.6 | E8: =E6*0.2 -> 33221.6 | F8: =F6*0.2 -> 33221.6 | G8: =G6*0.2 -> 33221.6 | H8: =H6*0.2 -> 33221.6 | I8: =I6*0.2 -> 33221.6 | ... K8: =K6*0.2 -> 298994.4
A9: Sitzungsgelder (10 Selbstständige, 1 Sitzung/Monat)2 | B9: =10*12*100 -> 12000 | C9: =B9 -> 12000 | D9: =C9 -> 12000 | E9: =D9 -> 12000 | F9: =E9 -> 12000 | G9: =F9 -> 12000 | H9: =G9 -> 12000 | I9: =H9 -> 12000 | J9: =I9 -> 12000 | K9: =SUM(B9:J9) -> 108000
A10: Fahrtkosten/Unterkunft3 | B10: =10*1000 -> 10000 | C10: =B10 -> 10000 | D10: =C10 -> 10000 | E10: =D10 -> 10000 | F10: =E10 -> 10000 | G10: =F10 -> 10000 | H10: =G10 -> 10000 | I10: =H10 -> 10000 | J10: =I10 -> 10000 | K10: =SUM(B10:J10) -> 90000
A11: Öffentlichkeitsarbeit (Zuarbeit zum BNE-Portal, 30 AT/Jahr, 300 € brutto/AT) | B11: =30*300 -> 9000 | C11: =B11 -> 9000 | D11: =C11 -> 9000 | E11: =D11 -> 9000 | F11: =E11 -> 9000 | G11: =F11 -> 9000 | H11: =G11 -> 9000 | I11: =H11 -> 9000 | J11: =I11 -> 9000 | K11: =SUM(B11:J11) -> 81000
A12: Referent*innen (2xJahr Input, 500 €/Input) | B12: =2*500 -> 1000 | C12: =B12 -> 1000 | D12: =C12 -> 1000 | E12: =D12 -> 1000 | F12: =E12 -> 1000 | G12: =F12 -> 1000 | H12: =G12 -> 1000 | I12: =H12 -> 1000 | J12: =I12 -> 1000 | K12: =SUM(B12:J12) -> 9000
A13: Gutachten/Studien u.a. (2x/Jahr) | B13: =2*50000 -> 100000 | C13: =B13 -> 100000 | D13: =C13 -> 100000 | E13: =D13 -> 100000 | F13: =E13 -> 100000 | G13: =F13 -> 100000 | H13: =G13 -> 100000 | I13: =H13 -> 100000 | J13: =I13 -> 100000 | K13: =SUM(B13:J13) -> 900000
A15: Projektfonds4
A16: Projekt 1: Veranstaltungen „BNE in der Beruflichen Bildung“ (Präsenz, 6xJahr für Nord-, Mittel-, Süddeutschland) | B16: =6*100000 -> 600000 | C16: =B16 -> 600000 | D16: =C16 -> 600000 | E16: =D16 -> 600000 | F16: =E16 -> 600000 | G16: =F16 -> 600000 | H16: =G16 -> 600000 | I16: =H16 -> 600000 | J16: =I16 -> 600000 | K16: =SUM(B16:J16) -> 5400000
A17: Projekt 2: (Fort-)Bildungsmaterialien (Print, A/V, digitale Bildungsformate) | B17: 1000000 | C17: =B17 -> 1000000 | D17: =C17 -> 1000000 | E17: =D17 -> 1000000 | F17: =E17 -> 1000000 | G17: =F17 -> 1000000 | H17: =G17 -> 1000000 | I17: =H17 -> 1000000 | J17: =I17 -> 1000000 | K17: =SUM(B17:J17) -> 9000000
A18: Projekt 3 | K18: =SUM(B18:J18) -> 0
A20: Gesamt Gremienarbeit FF Berufliche Bildung | B20: =SUM(B6:B13) -> 331329.6 | C20: =SUM(C6:C13) -> 331329.6 | D20: =SUM(D6:D13) -> 331329.6 | E20: =SUM(E6:E13) -> 331329.6 | F20: =SUM(F6:F13) -> 331329.6 | G20: =SUM(G6:G13) -> 331329.6 | H20: =SUM(H6:H13) -> 331329.6 | I20: =SUM(I6:I13) -> 331329.6 | ... K20: =SUM(K6:K13) -> 2981966.4
A21: Gesamt Projektfonds | B21: =SUM(B16:B18) -> 1600000 | C21: =SUM(C16:C18) -> 1600000 | D21: =SUM(D16:D18) -> 1600000 | E21: =SUM(E16:E18) -> 1600000 | F21: =SUM(F16:F18) -> 1600000 | G21: =SUM(G16:G18) -> 1600000 | H21: =SUM(H16:H18) -> 1600000 | I21: =SUM(I16:I18) -> 1600000 | ... K21: =SUM(K16:K18) -> 14400000
A22: Summe "Berufliche Bildung" | B22: =SUM(B20:B21) -> 1931329.6 | C22: =SUM(C20:C21) -> 1931329.6 | D22: =SUM(D20:D21) -> 1931329.6 | E22: =SUM(E20:E21) -> 1931329.6 | F22: =SUM(F20:F21) -> 1931329.6 | G22: =SUM(G20:G21) -> 1931329.6 | H22: =SUM(H20:H21) -> 1931329.6 | I22: =SUM(I20:I21) -> 1931329.6 | ... K22: =SUM(K20:K21) -> 17381966
A26: 1 = Tarif TV-LPersonalkosten / Arbeitgeber-Brutto lt. Hamburger Tabelle:
A27: =Gesamt!A404 -> 100 % E13 = 83.054 €/a
A28: 2 = Sitzungsgeld = 100 €/Tag und SelbstständigE/ER
A29: 3 = Fahrtkosten/Unterkunft (10 TN/Gremium x 1.000 €/Jahr, inkl. Veranstaltungsteilnahme)
A30: =Gesamt!A408 -> 4 = Projektfonds deckt ALLE für die Planung, Organisation, Durchführung, Öffentlichkeitsarbeit und Dokumentation anfallenden Projektekosten: Honorare (inkl. der Projektleitung), Mieten, Catering, Technik- u.a. Sachkosten etc.

Sheet FFHoch
A1: Fachforum Hochschule
B3: 2022 | C3: 2023 | D3: 2024 | E3: 2025 | F3: 2026 | G3: 2027 | H3: 2028 | I3: 2029 | J3: 2030 | K3: Gesamt
A5: Gremienarbeit
A6: Personal 2x100% (Betreuung und Koordinierung des Gremiums und seiner Projekte)1 | B6: =2*Gesamt!A405 -> 166108 | C6: =B6 -> 166108 | D6: =C6 -> 166108 | E6: =D6 -> 166108 | F6: =E6 -> 166108 | G6: =F6 -> 166108 | H6: =G6 -> 166108 | I6: =H6 -> 166108 | J6: =I6 -> 166108 | K6: =SUM(B6:J6) -> 1494972
A7: Bürokosten | K7: =SUM(B7:J7) -> 0
A8: Overhead (20% Personalkosten) | B8: =B6*0.2 -> 33221.6 | C8: =C6*0.2 -> 33221.6 | D8: =D6*0.2 -> 33221.6 | E8: =E6*0.2 -> 33221.6 | F8: =F6*0.2 -> 33221.6 | G8: =G6*0.2 -> 33221.6 | H8: =H6*0.2 -> 33221.6 | I8: =I6*0.2 -> 33221.6 | ... K8: =K6*0.2 -> 298994.4
A9: Sitzungsgelder (10 Selbstständige, 1 Sitzung/Monat)2 | B9: =10*12*100 -> 12000 | C9: =B9 -> 12000 | D9: =C9 -> 12000 | E9: =D9 -> 12000 | F9: =E9 -> 12000 | G9: =F9 -> 12000 | H9: =G9 -> 12000 | I9: =H9 -> 12000 | J9: =I9 -> 12000 | K9: =SUM(B9:J9) -> 108000
A10: Fahrtkosten/Unterkunft3 | B10: =10*1000 -> 10000 | C10: =B10 -> 10000 | D10: =C10 -> 10000 | E10: =D10 -> 10000 | F10: =E10 -> 10000 | G10: =F10 -> 10000 | H10: =G10 -> 10000 | I10: =H10 -> 10000 | J10: =I10 -> 10000 | K10: =SUM(B10:J10) -> 90000
A11: Öffentlichkeitsarbeit (Zuarbeit zum BNE-Portal, 30 AT/Jahr, 300 € brutto/AT) | B11: =30*300 -> 9000 | C11: =B11 -> 9000 | D11: =C11 -> 9000 | E11: =D11 -> 9000 | F11: =E11 -> 9000 | G11: =F11 -> 9000 | H11: =G11 -> 9000 | I11: =H11 -> 9000 | J11: =I11 -> 9000 | K11: =SUM(B11:J11) -> 81000
A12: Referent*innen (2xJahr Input, 500 €/Input) | B12: =2*500 -> 1000 | C12: =B12 -> 1000 | D12: =C12 -> 1000 | E12: =D12 -> 1000 | F12: =E12 -> 1000 | G12: =F12 -> 1000 | H12: =G12 -> 1000 | I12: =H12 -> 1000 | J12: =I12 -> 1000 | K12: =SUM(B12:J12) -> 9000
A13: Gutachten/Studien u.a. (2x/Jahr) | B13: =2*50000 -> 100000 | C13: =B13 -> 100000 | D13: =C13 -> 100000 | E13: =D13 -> 100000 | F13: =E13 -> 100000 | G13: =F13 -> 100000 | H13: =G13 -> 100000 | I13: =H13 -> 100000 | J13: =I13 -> 100000 | K13: =SUM(B13:J13) -> 900000
A15: Projektfonds4
A16: Projekt 1: Veranstaltungen „BNE in der Hochschule“ (Präsenz, 6xJahr für Nord-, Mittel-, Süddeutschland) | B16: =6*100000 -> 600000 | C16: =B16 -> 600000 | D16: =C16 -> 600000 | E16: =D16 -> 600000 | F16: =E16 -> 600000 | G16: =F16 -> 600000 | H16: =G16 -> 600000 | I16: =H16 -> 600000 | J16: =I16 -> 600000 | K16: =SUM(B16:J16) -> 5400000
A17: Projekt 2: (Fort-)Bildungsmaterialien (Print, A/V, digitale Bildungsformate) | B17: 1000000 | C17: =B17 -> 1000000 | D17: =C17 -> 1000000 | E17: =D17 -> 1000000 | F17: =E17 -> 1000000 | G17: =F17 -> 1000000 | H17: =G17 -> 1000000 | I17: =H17 -> 1000000 | J17: =I17 -> 1000000 | K17: =SUM(B17:J17) -> 9000000
A18: Projekt 3 | K18: =SUM(B18:J18) -> 0
A20: Gesamt Gremienarbeit FF Hochschule | B20: =SUM(B6:B13) -> 331329.6 | C20: =SUM(C6:C13) -> 331329.6 | D20: =SUM(D6:D13) -> 331329.6 | E20: =SUM(E6:E13) -> 331329.6 | F20: =SUM(F6:F13) -> 331329.6 | G20: =SUM(G6:G13) -> 331329.6 | H20: =SUM(H6:H13) -> 331329.6 | I20: =SUM(I6:I13) -> 331329.6 | ... K20: =SUM(K6:K13) -> 2981966.4
A21: Gesamt Projektfonds | B21: =SUM(B16:B18) -> 1600000 | C21: =SUM(C16:C18) -> 1600000 | D21: =SUM(D16:D18) -> 1600000 | E21: =SUM(E16:E18) -> 1600000 | F21: =SUM(F16:F18) -> 1600000 | G21: =SUM(G16:G18) -> 1600000 | H21: =SUM(H16:H18) -> 1600000 | I21: =SUM(I16:I18) -> 1600000 | ... K21: =SUM(K16:K18) -> 14400000
A22: Summe "Hochschule" | B22: =SUM(B20:B21) -> 1931329.6 | C22: =SUM(C20:C21) -> 1931329.6 | D22: =SUM(D20:D21) -> 1931329.6 | E22: =SUM(E20:E21) -> 1931329.6 | F22: =SUM(F20:F21) -> 1931329.6 | G22: =SUM(G20:G21) -> 1931329.6 | H22: =SUM(H20:H21) -> 1931329.6 | I22: =SUM(I20:I21) -> 1931329.6 | ... K22: =SUM(K20:K21) -> 17381966
A26: 1 = Tarif TV-LPersonalkosten / Arbeitgeber-Brutto lt. Hamburger Tabelle:
A27: =Gesamt!A404 -> 100 % E13 = 83.054 €/a
A28: 2 = Sitzungsgeld = 100 €/Tag und SelbstständigE/ER
A29: 3 = Fahrtkosten/Unterkunft (10 TN/Gremium x 1.000 €/Jahr, inkl. Veranstaltungsteilnahme)
A30: =Gesamt!A408 -> 4 = Projektfonds deckt ALLE für die Planung, Organisation, Durchführung, Öffentlichkeitsarbeit und Dokumentation anfallenden Projektekosten: Honorare (inkl. der Projektleitung), Mieten, Catering, Technik- u.a. Sachkosten etc.

Sheet FFNonformal
A1: Fachforum Nonformale Bildung
B3: 2022 | C3: 2023 | D3: 2024 | E3: 2025 | F3: 2026 | G3: 2027 | H3: 2028 | I3: 2029 | J3: 2030 | K3: Gesamt
A5: Gremienarbeit
A6: Personal 2x100% (Betreuung und Koordinierung des Gremiums und seiner Projekte)1 | B6: =2*Gesamt!A405 -> 166108 | C6: =B6 -> 166108 | D6: =C6 -> 166108 | E6: =D6 -> 166108 | F6: =E6 -> 166108 | G6: =F6 -> 166108 | H6: =G6 -> 166108 | I6: =H6 -> 166108 | J6: =I6 -> 166108 | K6: =SUM(B6:J6) -> 1494972
A7: Bürokosten | K7: =SUM(B7:J7) -> 0
A8: Overhead (20% Personalkosten) | B8: =B6*0.2 -> 33221.6 | C8: =C6*0.2 -> 33221.6 | D8: =D6*0.2 -> 33221.6 | E8: =E6*0.2 -> 33221.6 | F8: =F6*0.2 -> 33221.6 | G8: =G6*0.2 -> 33221.6 | H8: =H6*0.2 -> 33221.6 | I8: =I6*0.2 -> 33221.6 | ... K8: =K6*0.2 -> 298994.4
A9: Sitzungsgelder (10 Selbstständige, 1 Sitzung/Monat)2 | B9: =10*12*100 -> 12000 | C9: =B9 -> 12000 | D9: =C9 -> 12000 | E9: =D9 -> 12000 | F9: =E9 -> 12000 | G9: =F9 -> 12000 | H9: =G9 -> 12000 | I9: =H9 -> 12000 | J9: =I9 -> 12000 | K9: =SUM(B9:J9) -> 108000
A10: Fahrtkosten/Unterkunft3 | B10: =10*1000 -> 10000 | C10: =B10 -> 10000 | D10: =C10 -> 10000 | E10: =D10 -> 10000 | F10: =E10 -> 10000 | G10: =F10 -> 10000 | H10: =G10 -> 10000 | I10: =H10 -> 10000 | J10: =I10 -> 10000 | K10: =SUM(B10:J10) -> 90000
A11: Öffentlichkeitsarbeit (Zuarbeit zum BNE-Portal, 30 AT/Jahr, 300 € brutto/AT) | B11: =30*300 -> 9000 | C11: =B11 -> 9000 | D11: =C11 -> 9000 | E11: =D11 -> 9000 | F11: =E11 -> 9000 | G11: =F11 -> 9000 | H11: =G11 -> 9000 | I11: =H11 -> 9000 | J11: =I11 -> 9000 | K11: =SUM(B11:J11) -> 81000
A12: Referent*innen (2xJahr Input, 500 €/Input) | B12: =2*500 -> 1000 | C12: =B12 -> 1000 | D12: =C12 -> 1000 | E12: =D12 -> 1000 | F12: =E12 -> 1000 | G12: =F12 -> 1000 | H12: =G12 -> 1000 | I12: =H12 -> 1000 | J12: =I12 -> 1000 | K12: =SUM(B12:J12) -> 9000
A13: Gutachten/Studien u.a. (2x/Jahr) | B13: =2*50000 -> 100000 | C13: =B13 -> 100000 | D13: =C13 -> 100000 | E13: =D13 -> 100000 | F13: =E13 -> 100000 | G13: =F13 -> 100000 | H13: =G13 -> 100000 | I13: =H13 -> 100000 | J13: =I13 -> 100000 | K13: =SUM(B13:J13) -> 900000
A15: Projektfonds4
A16: Projekt 1: Veranstaltungen „BNE in der Nonformalen Bildung“ (Präsenz, 6xJahr für Nord-, Mittel-, Süddeutschland) | B16: =6*100000 -> 600000 | C16: =B16 -> 600000 | D16: =C16 -> 600000 | E16: =D16 -> 600000 | F16: =E16 -> 600000 | G16: =F16 -> 600000 | H16: =G16 -> 600000 | I16: =H16 -> 600000 | J16: =I16 -> 600000 | K16: =SUM(B16:J16) -> 5400000
A17: Projekt 2: (Fort-)Bildungsmaterialien (Print, A/V, digitale Bildungsformate) | B17: 1000000 | C17: =B17 -> 1000000 | D17: =C17 -> 1000000 | E17: =D17 -> 1000000 | F17: =E17 -> 1000000 | G17: =F17 -> 1000000 | H17: =G17 -> 1000000 | I17: =H17 -> 1000000 | J17: =I17 -> 1000000 | K17: =SUM(B17:J17) -> 9000000
A18: Projekt 3 | K18: =SUM(B18:J18) -> 0
A20: Gesamt Gremienarbeit FF Nonformale Bildung | B20: =SUM(B6:B13) -> 331329.6 | C20: =SUM(C6:C13) -> 331329.6 | D20: =SUM(D6:D13) -> 331329.6 | E20: =SUM(E6:E13) -> 331329.6 | F20: =SUM(F6:F13) -> 331329.6 | G20: =SUM(G6:G13) -> 331329.6 | H20: =SUM(H6:H13) -> 331329.6 | I20: =SUM(I6:I13) -> 331329.6 | ... K20: =SUM(K6:K13) -> 2981966.4
A21: Gesamt Projektfonds | B21: =SUM(B16:B18) -> 1600000 | C21: =SUM(C16:C18) -> 1600000 | D21: =SUM(D16:D18) -> 1600000 | E21: =SUM(E16:E18) -> 1600000 | F21: =SUM(F16:F18) -> 1600000 | G21: =SUM(G16:G18) -> 1600000 | H21: =SUM(H16:H18) -> 1600000 | I21: =SUM(I16:I18) -> 1600000 | ... K21: =SUM(K16:K18) -> 14400000
A22: Summe "Nonformale Bildung" | B22: =SUM(B20:B21) -> 1931329.6 | C22: =SUM(C20:C21) -> 1931329.6 | D22: =SUM(D20:D21) -> 1931329.6 | E22: =SUM(E20:E21) -> 1931329.6 | F22: =SUM(F20:F21) -> 1931329.6 | G22: =SUM(G20:G21) -> 1931329.6 | H22: =SUM(H20:H21) -> 1931329.6 | I22: =SUM(I20:I21) -> 1931329.6 | ... K22: =SUM(K20:K21) -> 17381966
A26: 1 = Tarif TV-LPersonalkosten / Arbeitgeber-Brutto lt. Hamburger Tabelle:
A27: =Gesamt!A404 -> 100 % E13 = 83.054 €/a
A28: 2 = Sitzungsgeld = 100 €/Tag und SelbstständigE/ER
A29: 3 = Fahrtkosten/Unterkunft (10 TN/Gremium x 1.000 €/Jahr, inkl. Veranstaltungsteilnahme)
A30: =Gesamt!A408 -> 4 = Projektfonds deckt ALLE für die Planung, Organisation, Durchführung, Öffentlichkeitsarbeit und Dokumentation anfallenden Projektekosten: Honorare (inkl. der Projektleitung), Mieten, Catering, Technik- u.a. Sachkosten etc.

Sheet FFKommune
A1: Fachforum Kommunen
B3: 2022 | C3: 2023 | D3: 2024 | E3: 2025 | F3: 2026 | G3: 2027 | H3: 2028 | I3: 2029 | J3: 2030 | K3: Gesamt
A5: Gremienarbeit
A6: Personal 2x100% (Betreuung und Koordinierung des Gremiums und seiner Projekte)1 | B6: =2*Gesamt!A405 -> 166108 | C6: =B6 -> 166108 | D6: =C6 -> 166108 | E6: =D6 -> 166108 | F6: =E6 -> 166108 | G6: =F6 -> 166108 | H6: =G6 -> 166108 | I6: =H6 -> 166108 | J6: =I6 -> 166108 | K6: =SUM(B6:J6) -> 1494972
A7: Bürokosten | K7: =SUM(B7:J7) -> 0
A8: Overhead (20% Personalkosten) | B8: =B6*0.2 -> 33221.6 | C8: =C6*0.2 -> 33221.6 | D8: =D6*0.2 -> 33221.6 | E8: =E6*0.2 -> 33221.6 | F8: =F6*0.2 -> 33221.6 | G8: =G6*0.2 -> 33221.6 | H8: =H6*0.2 -> 33221.6 | I8: =I6*0.2 -> 33221.6 | ... K8: =K6*0.2 -> 298994.4
A9: Sitzungsgelder (10 Selbstständige, 1 Sitzung/Monat)2 | B9: =10*12*100 -> 12000 | C9: =B9 -> 12000 | D9: =C9 -> 12000 | E9: =D9 -> 12000 | F9: =E9 -> 12000 | G9: =F9 -> 12000 | H9: =G9 -> 12000 | I9: =H9 -> 12000 | J9: =I9 -> 12000 | K9: =SUM(B9:J9) -> 108000
A10: Fahrtkosten/Unterkunft3 | B10: =10*1000 -> 10000 | C10: =B10 -> 10000 | D10: =C10 -> 10000 | E10: =D10 -> 10000 | F10: =E10 -> 10000 | G10: =F10 -> 10000 | H10: =G10 -> 10000 | I10: =H10 -> 10000 | J10: =I10 -> 10000 | K10: =SUM(B10:J10) -> 90000
A11: Öffentlichkeitsarbeit (Zuarbeit zum BNE-Portal, 30 AT/Jahr, 300 € brutto/AT) | B11: =30*300 -> 9000 | C11: =B11 -> 9000 | D11: =C11 -> 9000 | E11: =D11 -> 9000 | F11: =E11 -> 9000 | G11: =F11 -> 9000 | H11: =G11 -> 9000 | I11: =H11 -> 9000 | J11: =I11 -> 9000 | K11: =SUM(B11:J11) -> 81000
A12: Referent*innen (2xJahr Input, 500 €/Input) | B12: =2*500 -> 1000 | C12: =B12 -> 1000 | D12: =C12 -> 1000 | E12: =D12 -> 1000 | F12: =E12 -> 1000 | G12: =F12 -> 1000 | H12: =G12 -> 1000 | I12: =H12 -> 1000 | J12: =I12 -> 1000 | K12: =SUM(B12:J12) -> 9000
A13: Gutachten/Studien u.a. (2x/Jahr) | B13: =2*50000 -> 100000 | C13: =B13 -> 100000 | D13: =C13 -> 100000 | E13: =D13 -> 100000 | F13: =E13 -> 100000 | G13: =F13 -> 100000 | H13: =G13 -> 100000 | I13: =H13 -> 100000 | J13: =I13 -> 100000 | K13: =SUM(B13:J13) -> 900000
A15: Projektfonds4
A16: Projekt 1: Veranstaltungen „BNE in der Kommune“ (Präsenz, 6xJahr für Nord-, Mittel-, Süddeutschland) | B16: =6*100000 -> 600000 | C16: =B16 -> 600000 | D16: =C16 -> 600000 | E16: =D16 -> 600000 | F16: =E16 -> 600000 | G16: =F16 -> 600000 | H16: =G16 -> 600000 | I16: =H16 -> 600000 | J16: =I16 -> 600000 | K16: =SUM(B16:J16) -> 5400000
A17: Projekt 2: (Fort-)Bildungsmaterialien (Print, A/V, digitale Bildungsformate) | B17: 1000000 | C17: =B17 -> 1000000 | D17: =C17 -> 1000000 | E17: =D17 -> 1000000 | F17: =E17 -> 1000000 | G17: =F17 -> 1000000 | H17: =G17 -> 1000000 | I17: =H17 -> 1000000 | J17: =I17 -> 1000000 | K17: =SUM(B17:J17) -> 9000000
A18: Projekt 3 | K18: =SUM(B18:J18) -> 0
A20: Gesamt Gremienarbeit FF Kommunen | B20: =SUM(B6:B13) -> 331329.6 | C20: =SUM(C6:C13) -> 331329.6 | D20: =SUM(D6:D13) -> 331329.6 | E20: =SUM(E6:E13) -> 331329.6 | F20: =SUM(F6:F13) -> 331329.6 | G20: =SUM(G6:G13) -> 331329.6 | H20: =SUM(H6:H13) -> 331329.6 | I20: =SUM(I6:I13) -> 331329.6 | ... K20: =SUM(K6:K13) -> 2981966.4
A21: Gesamt Projektfonds | B21: =SUM(B16:B18) -> 1600000 | C21: =SUM(C16:C18) -> 1600000 | D21: =SUM(D16:D18) -> 1600000 | E21: =SUM(E16:E18) -> 1600000 | F21: =SUM(F16:F18) -> 1600000 | G21: =SUM(G16:G18) -> 1600000 | H21: =SUM(H16:H18) -> 1600000 | I21: =SUM(I16:I18) -> 1600000 | ... K21: =SUM(K16:K18) -> 14400000
A22: Summe "Kommunen" | B22: =SUM(B20:B21) -> 1931329.6 | C22: =SUM(C20:C21) -> 1931329.6 | D22: =SUM(D20:D21) -> 1931329.6 | E22: =SUM(E20:E21) -> 1931329.6 | F22: =SUM(F20:F21) -> 1931329.6 | G22: =SUM(G20:G21) -> 1931329.6 | H22: =SUM(H20:H21) -> 1931329.6 | I22: =SUM(I20:I21) -> 1931329.6 | ... K22: =SUM(K20:K21) -> 17381966
A26: 1 = Tarif TV-LPersonalkosten / Arbeitgeber-Brutto lt. Hamburger Tabelle:
A27: =Gesamt!A404 -> 100 % E13 = 83.054 €/a
A28: 2 = Sitzungsgeld = 100 €/Tag und SelbstständigE/ER
A29: 3 = Fahrtkosten/Unterkunft (10 TN/Gremium x 1.000 €/Jahr, inkl. Veranstaltungsteilnahme)
A30: =Gesamt!A408 -> 4 = Projektfonds deckt ALLE für die Planung, Organisation, Durchführung, Öffentlichkeitsarbeit und Dokumentation anfallenden Projektekosten: Honorare (inkl. der Projektleitung), Mieten, Catering, Technik- u.a. Sachkosten etc.

Sheet youpaN
A1: youpaN
B3: 2022 | C3: 2023 | D3: 2024 | E3: 2025 | F3: 2026 | G3: 2027 | H3: 2028 | I3: 2029 | J3: 2030 | K3: Gesamt
A5: Gremienarbeit
A6: Personal 2x100% (Betreuung und Koordinierung des Gremiums und seiner Projekte)1 | B6: =2*Gesamt!A405 -> 166108 | C6: =B6 -> 166108 | D6: =C6 -> 166108 | E6: =D6 -> 166108 | F6: =E6 -> 166108 | G6: =F6 -> 166108 | H6: =G6 -> 166108 | I6: =H6 -> 166108 | J6: =I6 -> 166108 | K6: =SUM(B6:J6) -> 1494972
A7: Bürokosten | K7: =SUM(B7:J7) -> 0
A8: Overhead (20% Personalkosten) | B8: =B6*0.2 -> 33221.6 | C8: =C6*0.2 -> 33221.6 | D8: =D6*0.2 -> 33221.6 | E8: =E6*0.2 -> 33221.6 | F8: =F6*0.2 -> 33221.6 | G8: =G6*0.2 -> 33221.6 | H8: =H6*0.2 -> 33221.6 | I8: =I6*0.2 -> 33221.6 | ... K8: =K6*0.2 -> 298994.4
A9: Sitzungsgelder (10 Selbstständige, 1 Sitzung/Monat)2 | B9: =10*12*100 -> 12000 | C9: =B9 -> 12000 | D9: =C9 -> 12000 | E9: =D9 -> 12000 | F9: =E9 -> 12000 | G9: =F9 -> 12000 | H9: =G9 -> 12000 | I9: =H9 -> 12000 | J9: =I9 -> 12000 | K9: =SUM(B9:J9) -> 108000
A10: Fahrtkosten/Unterkunft3 | B10: =10*1000 -> 10000 | C10: =B10 -> 10000 | D10: =C10 -> 10000 | E10: =D10 -> 10000 | F10: =E10 -> 10000 | G10: =F10 -> 10000 | H10: =G10 -> 10000 | I10: =H10 -> 10000 | J10: =I10 -> 10000 | K10: =SUM(B10:J10) -> 90000
A11: Öffentlichkeitsarbeit (Zuarbeit zum BNE-Portal, 30 AT/Jahr, 300 € brutto/AT) | B11: =30*300 -> 9000 | C11: =B11 -> 9000 | D11: =C11 -> 9000 | E11: =D11 -> 9000 | F11: =E11 -> 9000 | G11: =F11 -> 9000 | H11: =G11 -> 9000 | I11: =H11 -> 9000 | J11: =I11 -> 9000 | K11: =SUM(B11:J11) -> 81000
A12: Referent*innen (2xJahr Input, 500 €/Input) | B12: =2*500 -> 1000 | C12: =B12 -> 1000 | D12: =C12 -> 1000 | E12: =D12 -> 1000 | F12: =E12 -> 1000 | G12: =F12 -> 1000 | H12: =G12 -> 1000 | I12: =H12 -> 1000 | J12: =I12 -> 1000 | K12: =SUM(B12:J12) -> 9000
A13: Gutachten/Studien u.a. (2x/Jahr) | B13: =2*50000 -> 100000 | C13: =B13 -> 100000 | D13: =C13 -> 100000 | E13: =D13 -> 100000 | F13: =E13 -> 100000 | G13: =F13 -> 100000 | H13: =G13 -> 100000 | I13: =H13 -> 100000 | J13: =I13 -> 100000 | K13: =SUM(B13:J13) -> 900000
A15: Projektfonds4
A16: Projekt 1: Veranstaltungen „BNE Youth“ (Präsenz, 6xJahr für Nord-, Mittel-, Süddeutschland) | B16: =6*100000 -> 600000 | C16: =B16 -> 600000 | D16: =C16 -> 600000 | E16: =D16 -> 600000 | F16: =E16 -> 600000 | G16: =F16 -> 600000 | H16: =G16 -> 600000 | I16: =H16 -> 600000 | J16: =I16 -> 600000 | K16: =SUM(B16:J16) -> 5400000
A17: Projekt 2: (Fort-)Bildungsmaterialien (A/V, digitale Bildungsformate) | B17: 1000000 | C17: =B17 -> 1000000 | D17: =C17 -> 1000000 | E17: =D17 -> 1000000 | F17: =E17 -> 1000000 | G17: =F17 -> 1000000 | H17: =G17 -> 1000000 | I17: =H17 -> 1000000 | J17: =I17 -> 1000000 | K17: =SUM(B17:J17) -> 9000000
A18: Projekt 3 | K18: =SUM(B18:J18) -> 0
A20: Gesamt Gremienarbeit FF youpaN | B20: =SUM(B6:B13) -> 331329.6 | C20: =SUM(C6:C13) -> 331329.6 | D20: =SUM(D6:D13) -> 331329.6 | E20: =SUM(E6:E13) -> 331329.6 | F20: =SUM(F6:F13) -> 331329.6 | G20: =SUM(G6:G13) -> 331329.6 | H20: =SUM(H6:H13) -> 331329.6 | I20: =SUM(I6:I13) -> 331329.6 | ... K20: =SUM(K6:K13) -> 2981966.4
A21: Gesamt Projektfonds | B21: =SUM(B16:B18) -> 1600000 | C21: =SUM(C16:C18) -> 1600000 | D21: =SUM(D16:D18) -> 1600000 | E21: =SUM(E16:E18) -> 1600000 | F21: =SUM(F16:F18) -> 1600000 | G21: =SUM(G16:G18) -> 1600000 | H21: =SUM(H16:H18) -> 1600000 | I21: =SUM(I16:I18) -> 1600000 | ... K21: =SUM(K16:K18) -> 14400000
A22: Summe "youpaN" | B22: =SUM(B20:B21) -> 1931329.6 | C22: =SUM(C20:C21) -> 1931329.6 | D22: =SUM(D20:D21) -> 1931329.6 | E22: =SUM(E20:E21) -> 1931329.6 | F22: =SUM(F20:F21) -> 1931329.6 | G22: =SUM(G20:G21) -> 1931329.6 | H22: =SUM(H20:H21) -> 1931329.6 | I22: =SUM(I20:I21) -> 1931329.6 | ... K22: =SUM(K20:K21) -> 17381966
A26: 1 = Tarif TV-LPersonalkosten / Arbeitgeber-Brutto lt. Hamburger Tabelle:
A27: =Gesamt!A404 -> 100 % E13 = 83.054 €/a
A28: 2 = Sitzungsgeld = 100 €/Tag und SelbstständigE/ER
A29: 3 = Fahrtkosten/Unterkunft (10 TN/Gremium x 1.000 €/Jahr, inkl. Veranstaltungsteilnahme)
A30: =Gesamt!A408 -> 4 = Projektfonds deckt ALLE für die Planung, Organisation, Durchführung, Öffentlichkeitsarbeit und Dokumentation anfallenden Projektekosten: Honorare (inkl. der Projektleitung), Mieten, Catering, Technik- u.a. Sachkosten etc.

Sheet PNFrühB
A1: Partnernetzwerk Frühkindliche Bildung
B3: 2022 | C3: 2023 | D3: 2024 | E3: 2025 | F3: 2026 | G3: 2027 | H3: 2028 | I3: 2029 | J3: 2030 | K3: Gesamt
A5: Gremienarbeit
A6: Personal 2x100% (Betreuung und Koordinierung des Gremiums und seiner Projekte)1 | B6: =2*Gesamt!A405 -> 166108 | C6: =B6 -> 166108 | D6: =C6 -> 166108 | E6: =D6 -> 166108 | F6: =E6 -> 166108 | G6: =F6 -> 166108 | H6: =G6 -> 166108 | I6: =H6 -> 166108 | J6: =I6 -> 166108 | K6: =SUM(B6:J6) -> 1494972
A7: Bürokosten | K7: =SUM(B7:J7) -> 0
A8: Overhead (20% Personalkosten) | B8: =B6*0.2 -> 33221.6 | C8: =C6*0.2 -> 33221.6 | D8: =D6*0.2 -> 33221.6 | E8: =E6*0.2 -> 33221.6 | F8: =F6*0.2 -> 33221.6 | G8: =G6*0.2 -> 33221.6 | H8: =H6*0.2 -> 33221.6 | I8: =I6*0.2 -> 33221.6 | J8: =J6*0.2 -> 33221.6 | K8: =SUM(B8:J8) -> 298994.4
A9: Sitzungsgelder (10 Selbstständige, 1 Sitzung/Monat)2 | B9: =10*12*100 -> 12000 | C9: =B9 -> 12000 | D9: =C9 -> 12000 | E9: =D9 -> 12000 | F9: =E9 -> 12000 | G9: =F9 -> 12000 | H9: =G9 -> 12000 | I9: =H9 -> 12000 | J9: =I9 -> 12000 | K9: =SUM(B9:J9) -> 108000
A10: Fahrtkosten/Unterkunft3 | B10: =10*1000 -> 10000 | C10: =B10 -> 10000 | D10: =C10 -> 10000 | E10: =D10 -> 10000 | F10: =E10 -> 10000 | G10: =F10 -> 10000 | H10: =G10 -> 10000 | I10: =H10 -> 10000 | J10: =I10 -> 10000 | K10: =SUM(B10:J10) -> 90000
A11: Öffentlichkeitsarbeit (Zuarbeit zum BNE-Portal, 30 AT/Jahr, 300 € brutto/AT) | B11: =30*300 -> 9000 | C11: =B11 -> 9000 | D11: =C11 -> 9000 | E11: =D11 -> 9000 | F11: =E11 -> 9000 | G11: =F11 -> 9000 | H11: =G11 -> 9000 | I11: =H11 -> 9000 | J11: =I11 -> 9000 | K11: =SUM(B11:J11) -> 81000
A12: Referent*innen (2xJahr Input, 500 €/Input) | B12: =2*500 -> 1000 | C12: =B12 -> 1000 | D12: =C12 -> 1000 | E12: =D12 -> 1000 | F12: =E12 -> 1000 | G12: =F12 -> 1000 | H12: =G12 -> 1000 | I12: =H12 -> 1000 | J12: =I12 -> 1000 | K12: =SUM(B12:J12) -> 9000
A13: Gutachten/Studien u.a. (1x/Jahr) | B13: =50000 -> 50000 | C13: =B13 -> 50000 | D13: =C13 -> 50000 | E13: =D13 -> 50000 | F13: =E13 -> 50000 | G13: =F13 -> 50000 | H13: =G13 -> 50000 | I13: =H13 -> 50000 | J13: =I13 -> 50000 | K13: =SUM(B13:J13) -> 450000
A15: Projektfonds4
A16: Projekt 1 | K16: =SUM(B16:J16) -> 0
A17: Projekt 2 | K17: =SUM(B17:J17) -> 0
A18: Projekt 3 | K18: =SUM(B18:J18) -> 0
A20: Gesamt Gremienarbeit PN Frühkindliche Bildung | B20: =SUM(B6:B13) -> 281329.6 | C20: =SUM(C6:C13) -> 281329.6 | D20: =SUM(D6:D13) -> 281329.6 | E20: =SUM(E6:E13) -> 281329.6 | F20: =SUM(F6:F13) -> 281329.6 | G20: =SUM(G6:G13) -> 281329.6 | H20: =SUM(H6:H13) -> 281329.6 | I20: =SUM(I6:I13) -> 281329.6 | ... K20: =SUM(K6:K13) -> 2531966.4
A21: Gesamt Projektfonds | B21: =SUM(B16:B18) -> 0 | C21: =SUM(C16:C18) -> 0 | D21: =SUM(D16:D18) -> 0 | E21: =SUM(E16:E18) -> 0 | F21: =SUM(F16:F18) -> 0 | G21: =SUM(G16:G18) -> 0 | H21: =SUM(H16:H18) -> 0 | I21: =SUM(I16:I18) -> 0 | ... K21: =SUM(K16:K18) -> 0
A22: Summe "PN Frühkindliche Bildung" | B22: =SUM(B20:B21) -> 281329.6 | C22: =SUM(C20:C21) -> 281329.6 | D22: =SUM(D20:D21) -> 281329.6 | E22: =SUM(E20:E21) -> 281329.6 | F22: =SUM(F20:F21) -> 281329.6 | G22: =SUM(G20:G21) -> 281329.6 | H22: =SUM(H20:H21) -> 281329.6 | I22: =SUM(I20:I21) -> 281329.6 | ... K22: =SUM(K20:K21) -> 2531966.4
A26: 1 = Tarif TV-LPersonalkosten / Arbeitgeber-Brutto lt. Hamburger Tabelle:
A27: =Gesamt!A404 -> 100 % E13 = 83.054 €/a
A28: 2 = Sitzungsgeld = 100 €/Tag und SelbstständigE/ER
A29: 3 = Fahrtkosten/Unterkunft (10 TN/Gremium x 1.000 €/Jahr, inkl. Veranstaltungsteilnahme)
A30: =Gesamt!A408 -> 4 = Projektfonds deckt ALLE für die Planung, Organisation, Durchführung, Öffentlichkeitsarbeit und Dokumentation anfallenden Projektekosten: Honorare (inkl. der Projektleitung), Mieten, Catering, Technik- u.a. Sachkosten etc.

Sheet PNBBNE
A1: Partnernetzwerk Berufliche Bildung
B3: 2022 | C3: 2023 | D3: 2024 | E3: 2025 | F3: 2026 | G3: 2027 | H3: 2028 | I3: 2029 | J3: 2030 | K3: Gesamt
A5: Gremienarbeit
A6: Personal 2x100% (Betreuung und Koordinierung des Gremiums und seiner Projekte)1 | B6: =2*Gesamt!A405 -> 166108 | C6: =B6 -> 166108 | D6: =C6 -> 166108 | E6: =D6 -> 166108 | F6: =E6 -> 166108 | G6: =F6 -> 166108 | H6: =G6 -> 166108 | I6: =H6 -> 166108 | J6: =I6 -> 166108 | K6: =SUM(B6:J6) -> 1494972
A7: Bürokosten | K7: =SUM(B7:J7) -> 0
A8: Overhead (20% Personalkosten) | B8: =B6*0.2 -> 33221.6 | C8: =C6*0.2 -> 33221.6 | D8: =D6*0.2 -> 33221.6 | E8: =E6*0.2 -> 33221.6 | F8: =F6*0.2 -> 33221.6 | G8: =G6*0.2 -> 33221.6 | H8: =H6*0.2 -> 33221.6 | I8: =I6*0.2 -> 33221.6 | ... K8: =K6*0.2 -> 298994.4
A9: Sitzungsgelder (10 Selbstständige, 1 Sitzung/Monat)2 | B9: =10*12*100 -> 12000 | C9: =B9 -> 12000 | D9: =C9 -> 12000 | E9: =D9 -> 12000 | F9: =E9 -> 12000 | G9: =F9 -> 12000 | H9: =G9 -> 12000 | I9: =H9 -> 12000 | J9: =I9 -> 12000 | K9: =SUM(B9:J9) -> 108000
A10: Fahrtkosten/Unterkunft3 | B10: =10*1000 -> 10000 | C10: =B10 -> 10000 | D10: =C10 -> 10000 | E10: =D10 -> 10000 | F10: =E10 -> 10000 | G10: =F10 -> 10000 | H10: =G10 -> 10000 | I10: =H10 -> 10000 | J10: =I10 -> 10000 | K10: =SUM(B10:J10) -> 90000
A11: Öffentlichkeitsarbeit (Zuarbeit zum BNE-Portal, 30 AT/Jahr, 300 € brutto/AT) | B11: =30*300 -> 9000 | C11: =B11 -> 9000 | D11: =C11 -> 9000 | E11: =D11 -> 9000 | F11: =E11 -> 9000 | G11: =F11 -> 9000 | H11: =G11 -> 9000 | I11: =H11 -> 9000 | J11: =I11 -> 9000 | K11: =SUM(B11:J11) -> 81000
A12: Referent*innen (2xJahr Input, 500 €/Input) | B12: =2*500 -> 1000 | C12: =B12 -> 1000 | D12: =C12 -> 1000 | E12: =D12 -> 1000 | F12: =E12 -> 1000 | G12: =F12 -> 1000 | H12: =G12 -> 1000 | I12: =H12 -> 1000 | J12: =I12 -> 1000 | K12: =SUM(B12:J12) -> 9000
A13: Gutachten/Studien u.a. (1x/Jahr) | B13: =50000 -> 50000 | C13: =B13 -> 50000 | D13: =C13 -> 50000 | E13: =D13 -> 50000 | F13: =E13 -> 50000 | G13: =F13 -> 50000 | H13: =G13 -> 50000 | I13: =H13 -> 50000 | J13: =I13 -> 50000 | K13: =SUM(B13:J13) -> 450000
A15: Projektfonds4
A16: Projekt 1 | K16: =SUM(B16:J16) -> 0
A17: Projekt 2 | K17: =SUM(B17:J17) -> 0
A18: Projekt 3 | K18: =SUM(B18:J18) -> 0
A20: Gesamt Gremienarbeit PN Berufliche Bildung | B20: =SUM(B6:B13) -> 281329.6 | C20: =SUM(C6:C13) -> 281329.6 | D20: =SUM(D6:D13) -> 281329.6 | E20: =SUM(E6:E13) -> 281329.6 | F20: =SUM(F6:F13) -> 281329.6 | G20: =SUM(G6:G13) -> 281329.6 | H20: =SUM(H6:H13) -> 281329.6 | I20: =SUM(I6:I13) -> 281329.6 | ... K20: =SUM(K6:K13) -> 2531966.4
A21: Gesamt Projektfonds | B21: =SUM(B16:B18) -> 0 | C21: =SUM(C16:C18) -> 0 | D21: =SUM(D16:D18) -> 0 | E21: =SUM(E16:E18) -> 0 | F21: =SUM(F16:F18) -> 0 | G21: =SUM(G16:G18) -> 0 | H21: =SUM(H16:H18) -> 0 | I21: =SUM(I16:I18) -> 0 | ... K21: =SUM(K16:K18) -> 0
A22: Summe "PN Berufliche Bildung" | B22: =SUM(B20:B21) -> 281329.6 | C22: =SUM(C20:C21) -> 281329.6 | D22: =SUM(D20:D21) -> 281329.6 | E22: =SUM(E20:E21) -> 281329.6 | F22: =SUM(F20:F21) -> 281329.6 | G22: =SUM(G20:G21) -> 281329.6 | H22: =SUM(H20:H21) -> 281329.6 | I22: =SUM(I20:I21) -> 281329.6 | ... K22: =SUM(K20:K21) -> 2531966.4
A26: 1 = Tarif TV-LPersonalkosten / Arbeitgeber-Brutto lt. Hamburger Tabelle:
A27: =Gesamt!A404 -> 100 % E13 = 83.054 €/a
A28: 2 = Sitzungsgeld = 100 €/Tag und SelbstständigE/ER
A29: 3 = Fahrtkosten/Unterkunft (10 TN/Gremium x 1.000 €/Jahr, inkl. Veranstaltungsteilnahme)
A30: =Gesamt!A408 -> 4 = Projektfonds deckt ALLE für die Planung, Organisation, Durchführung, Öffentlichkeitsarbeit und Dokumentation anfallenden Projektekosten: Honorare (inkl. der Projektleitung), Mieten, Catering, Technik- u.a. Sachkosten etc.

Sheet PNHoch
A1: Partnernetzwerk Hochschule
B3: 2022 | C3: 2023 | D3: 2024 | E3: 2025 | F3: 2026 | G3: 2027 | H3: 2028 | I3: 2029 | J3: 2030 | K3: Gesamt
A5: Gremienarbeit
A6: Personal 2x100% (Betreuung und Koordinierung des Gremiums und seiner Projekte)1 | B6: =2*Gesamt!A405 -> 166108 | C6: =B6 -> 166108 | D6: =C6 -> 166108 | E6: =D6 -> 166108 | F6: =E6 -> 166108 | G6: =F6 -> 166108 | H6: =G6 -> 166108 | I6: =H6 -> 166108 | J6: =I6 -> 166108 | K6: =SUM(B6:J6) -> 1494972
A7: Bürokosten | K7: =SUM(B7:J7) -> 0
A8: Overhead (20% Personalkosten) | B8: =B6*0.2 -> 33221.6 | C8: =C6*0.2 -> 33221.6 | D8: =D6*0.2 -> 33221.6 | E8: =E6*0.2 -> 33221.6 | F8: =F6*0.2 -> 33221.6 | G8: =G6*0.2 -> 33221.6 | H8: =H6*0.2 -> 33221.6 | I8: =I6*0.2 -> 33221.6 | ... K8: =K6*0.2 -> 298994.4
A9: Sitzungsgelder (10 Selbstständige, 1 Sitzung/Monat)2 | B9: =10*12*100 -> 12000 | C9: =B9 -> 12000 | D9: =C9 -> 12000 | E9: =D9 -> 12000 | F9: =E9 -> 12000 | G9: =F9 -> 12000 | H9: =G9 -> 12000 | I9: =H9 -> 12000 | J9: =I9 -> 12000 | K9: =SUM(B9:J9) -> 108000
A10: Fahrtkosten/Unterkunft3 | B10: =10*1000 -> 10000 | C10: =B10 -> 10000 | D10: =C10 -> 10000 | E10: =D10 -> 10000 | F10: =E10 -> 10000 | G10: =F10 -> 10000 | H10: =G10 -> 10000 | I10: =H10 -> 10000 | J10: =I10 -> 10000 | K10: =SUM(B10:J10) -> 90000
A11: Öffentlichkeitsarbeit (Zuarbeit zum BNE-Portal, 30 AT/Jahr, 300 € brutto/AT) | B11: =30*300 -> 9000 | C11: =B11 -> 9000 | D11: =C11 -> 9000 | E11: =D11 -> 9000 | F11: =E11 -> 9000 | G11: =F11 -> 9000 | H11: =G11 -> 9000 | I11: =H11 -> 9000 | J11: =I11 -> 9000 | K11: =SUM(B11:J11) -> 81000
A12: Referent*innen (2xJahr Input, 500 €/Input) | B12: =2*500 -> 1000 | C12: =B12 -> 1000 | D12: =C12 -> 1000 | E12: =D12 -> 1000 | F12: =E12 -> 1000 | G12: =F12 -> 1000 | H12: =G12 -> 1000 | I12: =H12 -> 1000 | J12: =I12 -> 1000 | K12: =SUM(B12:J12) -> 9000
A13: Gutachten/Studien u.a. (1x/Jahr) | B13: =50000 -> 50000 | C13: =B13 -> 50000 | D13: =C13 -> 50000 | E13: =D13 -> 50000 | F13: =E13 -> 50000 | G13: =F13 -> 50000 | H13: =G13 -> 50000 | I13: =H13 -> 50000 | J13: =I13 -> 50000 | K13: =SUM(B13:J13) -> 450000
A15: Projektfonds4
A16: Projekt 1 | K16: =SUM(B16:J16) -> 0
A17: Projekt 2 | K17: =SUM(B17:J17) -> 0
A18: Projekt 3 | K18: =SUM(B18:J18) -> 0
A20: Gesamt Gremienarbeit PN Hochschule | B20: =SUM(B6:B13) -> 281329.6 | C20: =SUM(C6:C13) -> 281329.6 | D20: =SUM(D6:D13) -> 281329.6 | E20: =SUM(E6:E13) -> 281329.6 | F20: =SUM(F6:F13) -> 281329.6 | G20: =SUM(G6:G13) -> 281329.6 | H20: =SUM(H6:H13) -> 281329.6 | I20: =SUM(I6:I13) -> 281329.6 | ... K20: =SUM(K6:K13) -> 2531966.4
A21: Gesamt Projektfonds | B21: =SUM(B16:B18) -> 0 | C21: =SUM(C16:C18) -> 0 | D21: =SUM(D16:D18) -> 0 | E21: =SUM(E16:E18) -> 0 | F21: =SUM(F16:F18) -> 0 | G21: =SUM(G16:G18) -> 0 | H21: =SUM(H16:H18) -> 0 | I21: =SUM(I16:I18) -> 0 | ... K21: =SUM(K16:K18) -> 0
A22: Summe "PN Hochschule" | B22: =SUM(B20:B21) -> 281329.6 | C22: =SUM(C20:C21) -> 281329.6 | D22: =SUM(D20:D21) -> 281329.6 | E22: =SUM(E20:E21) -> 281329.6 | F22: =SUM(F20:F21) -> 281329.6 | G22: =SUM(G20:G21) -> 281329.6 | H22: =SUM(H20:H21) -> 281329.6 | I22: =SUM(I20:I21) -> 281329.6 | ... K22: =SUM(K20:K21) -> 2531966.4
A26: 1 = Tarif TV-LPersonalkosten / Arbeitgeber-Brutto lt. Hamburger Tabelle:
A27: =Gesamt!A404 -> 100 % E13 = 83.054 €/a
A28: 2 = Sitzungsgeld = 100 €/Tag und SelbstständigE/ER
A29: 3 = Fahrtkosten/Unterkunft (10 TN/Gremium x 1.000 €/Jahr, inkl. Veranstaltungsteilnahme)
A30: =Gesamt!A408 -> 4 = Projektfonds deckt ALLE für die Planung, Organisation, Durchführung, Öffentlichkeitsarbeit und Dokumentation anfallenden Projektekosten: Honorare (inkl. der Projektleitung), Mieten, Catering, Technik- u.a. Sachkosten etc.

Sheet PNMedien
A1: Partnernetzwerk Medien
B3: 2022 | C3: 2023 | D3: 2024 | E3: 2025 | F3: 2026 | G3: 2027 | H3: 2028 | I3: 2029 | J3: 2030 | K3: Gesamt
A5: Gremienarbeit
A6: Personal 2x100% (Betreuung und Koordinierung des Gremiums und seiner Projekte)1 | B6: =2*Gesamt!A405 -> 166108 | C6: =B6 -> 166108 | D6: =C6 -> 166108 | E6: =D6 -> 166108 | F6: =E6 -> 166108 | G6: =F6 -> 166108 | H6: =G6 -> 166108 | I6: =H6 -> 166108 | J6: =I6 -> 166108 | K6: =SUM(B6:J6) -> 1494972
A7: Bürokosten | K7: =SUM(B7:J7) -> 0
A8: Overhead (20% Personalkosten) | B8: =B6*0.2 -> 33221.6 | C8: =C6*0.2 -> 33221.6 | D8: =D6*0.2 -> 33221.6 | E8: =E6*0.2 -> 33221.6 | F8: =F6*0.2 -> 33221.6 | G8: =G6*0.2 -> 33221.6 | H8: =H6*0.2 -> 33221.6 | I8: =I6*0.2 -> 33221.6 | ... K8: =K6*0.2 -> 298994.4
A9: Sitzungsgelder (10 Selbstständige, 1 Sitzung/Monat)2 | B9: =10*12*100 -> 12000 | C9: =B9 -> 12000 | D9: =C9 -> 12000 | E9: =D9 -> 12000 | F9: =E9 -> 12000 | G9: =F9 -> 12000 | H9: =G9 -> 12000 | I9: =H9 -> 12000 | J9: =I9 -> 12000 | K9: =SUM(B9:J9) -> 108000
A10: Fahrtkosten/Unterkunft3 | B10: =10*1000 -> 10000 | C10: =B10 -> 10000 | D10: =C10 -> 10000 | E10: =D10 -> 10000 | F10: =E10 -> 10000 | G10: =F10 -> 10000 | H10: =G10 -> 10000 | I10: =H10 -> 10000 | J10: =I10 -> 10000 | K10: =SUM(B10:J10) -> 90000
A11: Öffentlichkeitsarbeit (Zuarbeit zum BNE-Portal, 30 AT/Jahr, 300 € brutto/AT, Blog Openbook Kommunikation) | B11: =30*300+75000 -> 84000 | C11: =B11 -> 84000 | D11: =C11 -> 84000 | E11: =D11 -> 84000 | F11: =E11 -> 84000 | G11: =F11 -> 84000 | H11: =G11 -> 84000 | I11: =H11 -> 84000 | J11: =I11 -> 84000 | K11: =SUM(B11:J11) -> 756000
A12: Referent*innen (2xJahr Input, 500 €/Input) | B12: =2*500 -> 1000 | C12: =B12 -> 1000 | D12: =C12 -> 1000 | E12: =D12 -> 1000 | F12: =E12 -> 1000 | G12: =F12 -> 1000 | H12: =G12 -> 1000 | I12: =H12 -> 1000 | J12: =I12 -> 1000 | K12: =SUM(B12:J12) -> 9000
A13: Gutachten/Studien u.a. (2x/Jahr) | B13: =2*50000 -> 100000 | C13: =B13 -> 100000 | D13: =C13 -> 100000 | E13: =D13 -> 100000 | F13: =E13 -> 100000 | G13: =F13 -> 100000 | H13: =G13 -> 100000 | I13: =H13 -> 100000 | J13: =I13 -> 100000 | K13: =SUM(B13:J13) -> 900000
A15: Projektfonds4
